From mboxrd@z Thu Jan 1 00:00:00 1970 Return-Path: Received: from mails.dpdk.org (mails.dpdk.org [217.70.189.124]) by inbox.dpdk.org (Postfix) with ESMTP id 58FB346BF1 for ; Wed, 23 Jul 2025 14:13:54 +0200 (CEST) Received: from mails.dpdk.org (localhost [127.0.0.1]) by mails.dpdk.org (Postfix) with ESMTP id 2E1E240264; Wed, 23 Jul 2025 14:13:54 +0200 (CEST) Received: from mail-il1-f228.google.com (mail-il1-f228.google.com [209.85.166.228]) by mails.dpdk.org (Postfix) with ESMTP id 177C840264 for ; Wed, 23 Jul 2025 14:13:53 +0200 (CEST) Received: by mail-il1-f228.google.com with SMTP id e9e14a558f8ab-3e28be470f1so4500805ab.0 for ; Wed, 23 Jul 2025 05:13:53 -0700 (PDT) DKIM-Signature: v=1; a=rsa-sha256; c=relaxed/relaxed; d=iol.unh.edu; s=unh-iol; t=1753272832; x=1753877632; darn=dpdk.org; h=references:in-reply-to:cc:to:from:subject:message-id:date:from:to :cc:subject:date:message-id:reply-to; bh=5Jt/1wU26O1joKHS3IBEASnBLuHiUa23y0MoiTSlTGU=; b=A4u+i0o0uev1RBgytO/Nvvt07q+9mBfVirORvQCjFwohT3vBaH6QmTVaUii2lLrlOZ Rlx/URJOnIMa8y9pWpsTQ12VLsZh6tV+NAyvC3aI/OpCXWvj57oUzHmTWIHWjUonGSO6 11FzIx4HKXkAdSi3Ag9gFmYB8354jhaVF1SBo= X-Google-DKIM-Signature: v=1; a=rsa-sha256; c=relaxed/relaxed; d=1e100.net; s=20230601; t=1753272832; x=1753877632; h=references:in-reply-to:cc:to:from:subject:message-id:date :x-gm-message-state:from:to:cc:subject:date:message-id:reply-to; bh=5Jt/1wU26O1joKHS3IBEASnBLuHiUa23y0MoiTSlTGU=; b=nOwnJo1uOj0DG/gw/mVyjimUTbkhISTjn0ghQTmUU5pdxhQMs4whT+ABTrbEfi8EoE Xl5OOuqXm9y/PMdKDNnnvrkBoCcKXfUKvgEFhHGH2UeWDVs1ryAQfCTs5VbTfRcLTLEO HrUuQ2m3PhL39NMBb2y6NJmj6x2rZffm3AxxTNTGG+zZWRWIzOPmP2w6IGeT4skdaSha bw2ou9t/0G5UtCUul55hWakhXi1+yxc9H9Y3uEnarzUIZQzl5mFWos3rE4eJgxxkas2i SHAt02GGwXgCIa7Yp9+GOaTWIWhfRqMHm+XMq20eOUAiLCKQk80pI3leUbKDRUCt/ZbO imug== X-Gm-Message-State: AOJu0YwdcE1Gid6TIxaFW6MFSjjz3V+MKDS0z0i+rJSEWhxxJRNFlFpV RpKekxY5twZrSAWuDsZFMKJwBa1lBM+QUl8RMnoAxIFQTKjBli7oLZoaiftpq6vFjIna+kyMdvR OcZJbOv8yzfzCYAYahxtNuGRQOmxqbQJzYPwZUyaw7pEw9F/zhRVzpk773QgL X-Gm-Gg: ASbGnctVf/OcJyV77S62EOaEVHItY65UnBt778E68caKXP7tykAmdv7TFqV/5tDF2mt T0K2Rs++/d3U1/n6J9uXHMnFi2lKMrEf3rD+Zp/rdYkoO9X/4tlAdfEhBsEw97eE0t0s/FjJI2s KzV7drzWGjzSMmJj7u8J3bRXNaK/o03bePbYpVnRWNT5scxyt/NAa/MGny+882VtZS7quLV/CFd ZiGZtJq01mQc4RRzWFeujgtJ+3LduEbF0DhIGH89CV34DUqqnyX49AKFgmbpGGoOz2qj2XsPoaB fsgVDXGKUJwvgsynX9WpVYRiD3G1yeDYevvMdhIGYb7aNVxhTQ== X-Google-Smtp-Source: AGHT+IEHluJ2+O31Zv9rnigpTKYymkXmSbzynw1W1VLCovKlucKaRcrFMSUtHYQNzb52xe8zg7C+5FIY4CFT X-Received: by 2002:a05:6e02:318a:b0:3e2:c1ba:79c2 with SMTP id e9e14a558f8ab-3e2c1ba7bfamr92532515ab.7.1753272832225; Wed, 23 Jul 2025 05:13:52 -0700 (PDT) Received: from postal.iol.unh.edu (postal.iol.unh.edu. [2606:4100:3880:1234::84]) by smtp-relay.gmail.com with ESMTPS id 8926c6da1cb9f-5084c76ecb7sm560776173.3.2025.07.23.05.13.52 (version=TLS1_2 cipher=ECDHE-ECDSA-AES128-GCM-SHA256 bits=128/128); Wed, 23 Jul 2025 05:13:52 -0700 (PDT) X-Relaying-Domain: iol.unh.edu Date: Wed, 23 Jul 2025 05:13:52 -0700 (PDT) Message-ID: <6880d200.050a0220.761fe.ca89SMTPIN_ADDED_MISSING@mx.google.com> Received: from [172.21.0.3] (unknown [172.18.0.240]) by postal.iol.unh.edu (Postfix) with ESMTP id D92746050A61; Wed, 23 Jul 2025 08:13:51 -0400 (EDT) Subject: |SUCCESS| pw155455 [PATCH] [v2] lib/ethdev: fix segfault in secondar From: dpdklab@iol.unh.edu To: Test Report Cc: dpdk-test-reports@iol.unh.edu In-Reply-To: <20250723045022.1580829-1-14pwcse1224@uetpeshawar.edu.pk> References: <20250723045022.1580829-1-14pwcse1224@uetpeshawar.edu.pk> Content-Type: text/plain X-BeenThere: test-report@dpdk.org X-Mailman-Version: 2.1.29 Precedence: list List-Id: automatic DPDK test reports List-Unsubscribe: , List-Archive: List-Post: List-Help: List-Subscribe: , Errors-To: test-report-bounces@dpdk.org Test-Label: iol-abi-testing Test-Status: SUCCESS http://dpdk.org/patch/155455 _Testing PASS_ Submitter: Khadem Ullah <14pwcse1224@uetpeshawar.edu.pk> Date: Wednesday, July 23 2025 04:50:22 DPDK git baseline: Repo:dpdk Branch: master CommitID:b78afde1fed9e11ee5cdce333a1a69dd7a9cf13e 155455 --> testing pass Upstream job id: Generic-DPDK-Compile-ABI#135434 Test environment and result as below: +-------------------------------+----------+ | Environment | abi_test | +===============================+==========+ | Debian GNU/Linux 12 | PASS | +-------------------------------+----------+ | Fedora Linux 41 | PASS | +-------------------------------+----------+ | CentOS Stream 9 | PASS | +-------------------------------+----------+ | Red Hat Enterprise Linux 8.10 | PASS | +-------------------------------+----------+ | CentOS Stream 10 | PASS | +-------------------------------+----------+ | Fedora Linux 40 | PASS | +-------------------------------+----------+ | Red Hat Enterprise Linux 9.5 | PASS | +-------------------------------+----------+ | openSUSE Leap 15.6 | PASS | +-------------------------------+----------+ | Ubuntu 22.04 | PASS | +-------------------------------+----------+ | Ubuntu 24.04 | PASS | +-------------------------------+----------+ Debian GNU/Linux 12 Kernel: 5.15 Compiler: gcc gcc (Debian 12.2.0-14+deb12u1) 12.2.0 Fedora Linux 41 Kernel: 5.15 Compiler: clang gcc (GCC) 14.3.1 20250523 (Red Hat 14.3.1-1) CentOS Stream 9 Kernel: 5.15 Compiler: gcc gcc (GCC) 11.5.0 20240719 (Red Hat 11.5.0-7) Red Hat Enterprise Linux 8.10 Kernel: 5.15 Compiler: gcc gcc (GCC) 8.5.0 20210514 (Red Hat 8.5.0-22) CentOS Stream 10 Kernel: 5.15 Compiler: gcc gcc (GCC) 14.2.1 20250110 (Red Hat 14.2.1-8) Fedora Linux 40 Kernel: 5.15 Compiler: gcc gcc (GCC) 14.2.1 20240912 (Red Hat 14.2.1-3) Red Hat Enterprise Linux 9.5 Kernel: 5.15 Compiler: gcc gcc (GCC) 11.5.0 20240719 (Red Hat 11.5.0-2) openSUSE Leap 15.6 Kernel: 5.15 Compiler: gcc gcc (SUSE Linux) 7.5.0 Ubuntu 22.04 Kernel: 5.15 Compiler: gcc gcc (Ubuntu 11.4.0-1ubuntu1~22.04) 11.4.0 Ubuntu 24.04 Kernel: 5.15 Compiler: gcc gcc (Ubuntu 13.3.0-6ubuntu2~24.04) 13.3.0 To view detailed results, visit: https://lab.dpdk.org/results/dashboard/patchsets/33733/ UNH-IOL DPDK Community Lab To manage your email subscriptions, visit: https://lab.dpdk.org/results/dashboard/preferences/subscriptions/