From mboxrd@z Thu Jan 1 00:00:00 1970 Return-Path: Received: from mails.dpdk.org (mails.dpdk.org [217.70.189.124]) by inbox.dpdk.org (Postfix) with ESMTP id 5292546BF1 for ; Wed, 23 Jul 2025 14:14:42 +0200 (CEST) Received: from mails.dpdk.org (localhost [127.0.0.1]) by mails.dpdk.org (Postfix) with ESMTP id 4DC5D40264; Wed, 23 Jul 2025 14:14:42 +0200 (CEST) Received: from mail-oo1-f99.google.com (mail-oo1-f99.google.com [209.85.161.99]) by mails.dpdk.org (Postfix) with ESMTP id 3701440264 for ; Wed, 23 Jul 2025 14:14:41 +0200 (CEST) Received: by mail-oo1-f99.google.com with SMTP id 006d021491bc7-60efc773b5fso4128669eaf.3 for ; Wed, 23 Jul 2025 05:14:41 -0700 (PDT) DKIM-Signature: v=1; a=rsa-sha256; c=relaxed/relaxed; d=iol.unh.edu; s=unh-iol; t=1753272880; x=1753877680; darn=dpdk.org; h=references:in-reply-to:cc:to:from:subject:message-id:date:from:to :cc:subject:date:message-id:reply-to; bh=M1ncuJU1uGEWECA2IKZVJd7y+qXUtn7ZBSwsUiw8oQE=; b=PDxqYQrWuXogTFOFo6Q3HbN2jzQNl+3iaCI5aqUFg6ddz/eAfPce82Z3TijLkrUheq Sy1uQ3MvBG/N7uTCCuemodBK1GNHGDRXv9ahyVpYKSSe15mBC8SkkWMuAof2UH3M3h0r 5a99fZ/WiqsE7Ii4c4wqX3zujCPBdIRactIxw= X-Google-DKIM-Signature: v=1; a=rsa-sha256; c=relaxed/relaxed; d=1e100.net; s=20230601; t=1753272880; x=1753877680; h=references:in-reply-to:cc:to:from:subject:message-id:date :x-gm-message-state:from:to:cc:subject:date:message-id:reply-to; bh=M1ncuJU1uGEWECA2IKZVJd7y+qXUtn7ZBSwsUiw8oQE=; b=B1V6Lpc/MY5rys5hYmx/OpA4xGuyziJIR4CeVwXC5rWXUv9JFWyojsQdjHKuUSaj5c D5AWXo/J9hpT3reck+OV1mvhv30MQSqNWNQoHgtTZ1RQcbwtMoa9wVyaXntqrB/qHPJZ gAuspyP+ADdc9HfyfqzQ2mxb723faXmjWNk1QPNiev+cGKBgrlSetsZfoc9aUUL4lFe9 e33UJTcxaMQSYF1OZy3uGVhPCbLtXYTkAshk29bC3mysNjMZ6c1Pd+xODL68cvg/bdgG ttbc62TqkimIu3ipCgMJVC1OQGsGiMIfJ1SWqa72Y9qVZ9dnGZOwDumoV24vjuZPSeeM /6iQ== X-Gm-Message-State: AOJu0YxHNm6eCD+FID2hPuDQWok9UbD0a8R75Vo+8v76dg24Vm34nSgL RJJIVCj5AFNUD5cSQEuqfXzXGSqhg/v201UKB6mvedNLUa8538DirFlQ2UahIkKX0BuoKg7+TkQ HtcuMWGtbJxSpreMmwHw0FLstz43yusCjhqJUHij6f6k26hRGWKnP0iK+L8FJ X-Gm-Gg: ASbGncs/wWJYOUB8xzRHJU+cELwAE4Ou9iH6DZa9hXRai1porc+phP06S37vDDBE+DG rm24bu0saO/jTdC6zfcT6ftd0y7XhlhE4fgaybRooQyt0S5KAxuOFjv3UBYHfOpyvVKUH75uHN7 cN5Mx5rlvORV2ommFMHbKcpXA8PZiq+7mCjio1tL6WxYKSbS/Rv0X2FhLvKxre0DHfv1HccVk9x N5xVmk2A4dprWNIB6WUAsLXPp2kC4gmBprunW/hyV8OMnrcronZz9XkfRBD2knOco60e7pWmFyL KE6GRZ+p3MWOxTZjhGGhs99pKybGmVYAYDSTD80+xZtMoRJz4w== X-Google-Smtp-Source: AGHT+IG1qKNXsFk96+0Use/V7bj99v3Yk6kwU7Y/k8vrSht2chtn0Ciott4ySqvGKy8PVZZh0JXJphhciM2Q X-Received: by 2002:a05:6871:28d:b0:301:5fc8:d0b1 with SMTP id 586e51a60fabf-306c6f2f9abmr1826199fac.6.1753272880337; Wed, 23 Jul 2025 05:14:40 -0700 (PDT) Received: from postal.iol.unh.edu (postal.iol.unh.edu. [2606:4100:3880:1234::84]) by smtp-relay.gmail.com with ESMTPS id 586e51a60fabf-30105f128f0sm887457fac.19.2025.07.23.05.14.40 (version=TLS1_2 cipher=ECDHE-ECDSA-AES128-GCM-SHA256 bits=128/128); Wed, 23 Jul 2025 05:14:40 -0700 (PDT) X-Relaying-Domain: iol.unh.edu Date: Wed, 23 Jul 2025 05:14:40 -0700 (PDT) Message-ID: <6880d230.050a0220.1a4bc.e3e9SMTPIN_ADDED_MISSING@mx.google.com> Received: from [172.21.0.2] (unknown [172.18.0.240]) by postal.iol.unh.edu (Postfix) with ESMTP id C918B6050A61; Wed, 23 Jul 2025 08:14:39 -0400 (EDT) Subject: |SUCCESS| pw155455 [PATCH] [v2] lib/ethdev: fix segfault in secondar From: dpdklab@iol.unh.edu To: Test Report Cc: dpdk-test-reports@iol.unh.edu In-Reply-To: <20250723045022.1580829-1-14pwcse1224@uetpeshawar.edu.pk> References: <20250723045022.1580829-1-14pwcse1224@uetpeshawar.edu.pk> Content-Type: text/plain X-BeenThere: test-report@dpdk.org X-Mailman-Version: 2.1.29 Precedence: list List-Id: automatic DPDK test reports List-Unsubscribe: , List-Archive: List-Post: List-Help: List-Subscribe: , Errors-To: test-report-bounces@dpdk.org Test-Label: iol-abi-testing Test-Status: SUCCESS http://dpdk.org/patch/155455 _Testing PASS_ Submitter: Khadem Ullah <14pwcse1224@uetpeshawar.edu.pk> Date: Wednesday, July 23 2025 04:50:22 DPDK git baseline: Repo:dpdk Branch: master CommitID:b78afde1fed9e11ee5cdce333a1a69dd7a9cf13e 155455 --> testing pass Upstream job id: Generic-DPDK-Compile-ABI#135432 Test environment and result as below: +-------------------------------+----------+ | Environment | abi_test | +===============================+==========+ | Debian GNU/Linux 12 | PASS | +-------------------------------+----------+ | Fedora Linux 41 | PASS | +-------------------------------+----------+ | CentOS Stream 9 | PASS | +-------------------------------+----------+ | Red Hat Enterprise Linux 8.10 | PASS | +-------------------------------+----------+ | CentOS Stream 10 | PASS | +-------------------------------+----------+ | Fedora Linux 40 | PASS | +-------------------------------+----------+ | Red Hat Enterprise Linux 9.5 | PASS | +-------------------------------+----------+ | openSUSE Leap 15.6 | PASS | +-------------------------------+----------+ | Ubuntu 22.04 | PASS | +-------------------------------+----------+ | Ubuntu 24.04 | PASS | +-------------------------------+----------+ Debian GNU/Linux 12 Kernel: 5.15 Compiler: gcc gcc (Debian 12.2.0-14+deb12u1) 12.2.0 Fedora Linux 41 Kernel: 5.15 Compiler: clang gcc (GCC) 14.3.1 20250523 (Red Hat 14.3.1-1) CentOS Stream 9 Kernel: 5.15 Compiler: gcc gcc (GCC) 11.5.0 20240719 (Red Hat 11.5.0-7) Red Hat Enterprise Linux 8.10 Kernel: 5.15 Compiler: gcc gcc (GCC) 8.5.0 20210514 (Red Hat 8.5.0-22) CentOS Stream 10 Kernel: 5.15 Compiler: gcc gcc (GCC) 14.2.1 20250110 (Red Hat 14.2.1-8) Fedora Linux 40 Kernel: 5.15 Compiler: gcc gcc (GCC) 14.2.1 20240912 (Red Hat 14.2.1-3) Red Hat Enterprise Linux 9.5 Kernel: 5.15 Compiler: gcc gcc (GCC) 11.5.0 20240719 (Red Hat 11.5.0-2) openSUSE Leap 15.6 Kernel: 5.15 Compiler: gcc gcc (SUSE Linux) 7.5.0 Ubuntu 22.04 Kernel: 5.15 Compiler: gcc gcc (Ubuntu 11.4.0-1ubuntu1~22.04) 11.4.0 Ubuntu 24.04 Kernel: 5.15 Compiler: gcc gcc (Ubuntu 13.3.0-6ubuntu2~24.04) 13.3.0 To view detailed results, visit: https://lab.dpdk.org/results/dashboard/patchsets/33733/ UNH-IOL DPDK Community Lab To manage your email subscriptions, visit: https://lab.dpdk.org/results/dashboard/preferences/subscriptions/