From mboxrd@z Thu Jan 1 00:00:00 1970 Return-Path: Received: from mails.dpdk.org (mails.dpdk.org [217.70.189.124]) by inbox.dpdk.org (Postfix) with ESMTP id 6A5E546B8C for ; Wed, 23 Jul 2025 14:15:24 +0200 (CEST) Received: from mails.dpdk.org (localhost [127.0.0.1]) by mails.dpdk.org (Postfix) with ESMTP id 645AD40264; Wed, 23 Jul 2025 14:15:24 +0200 (CEST) Received: from mail-io1-f100.google.com (mail-io1-f100.google.com [209.85.166.100]) by mails.dpdk.org (Postfix) with ESMTP id B0A7B40264 for ; Wed, 23 Jul 2025 14:15:22 +0200 (CEST) Received: by mail-io1-f100.google.com with SMTP id ca18e2360f4ac-873501d2ca1so125162839f.2 for ; Wed, 23 Jul 2025 05:15:22 -0700 (PDT) DKIM-Signature: v=1; a=rsa-sha256; c=relaxed/relaxed; d=iol.unh.edu; s=unh-iol; t=1753272922; x=1753877722; darn=dpdk.org; h=references:in-reply-to:cc:to:from:subject:message-id:date:from:to :cc:subject:date:message-id:reply-to; bh=8DGHDZFAVH8kLPmn5OKsZlJGKzXLqQK/YmiZW7V4Y48=; b=fpFPNa2IjVE6wjNZ2sMGH3purtsabMiv+CSAkmnR/eyAUvFn3DuuP7EYKpoz5387Df yxY8aSJPlAMfjPQzIGXn/hjsd4Itu1CMsjqEhPmzmHZclLrWLAimZwBX843fQdGu7KHa cVWerPhZapbZdnFYTmgzd7YuL6BCF91s0Bpdw= X-Google-DKIM-Signature: v=1; a=rsa-sha256; c=relaxed/relaxed; d=1e100.net; s=20230601; t=1753272922; x=1753877722; h=references:in-reply-to:cc:to:from:subject:message-id:date :x-gm-message-state:from:to:cc:subject:date:message-id:reply-to; bh=8DGHDZFAVH8kLPmn5OKsZlJGKzXLqQK/YmiZW7V4Y48=; b=YTZqTDmF1wXKtmdQSY3GTq8r89yf0jJqoIBDewtFlrWOjvT1ehys5P+Kn7zO2jevVt S8GQ01/1rKks77X2RRovi9a9dxx1QLJkYOCAiie2oTO3Ws01x5bWodEIO+M64xYPSiAR PupyJ1fQrfigMV/s8tfN066TxHIxo9sP1yUs3n84kdm6BF1Br8nXbVS9ov35G+gLu6Pk RCjb70+/DI2rJZ/YhJ3rtCQ388aFarpiO2KTbS4yVU0wYYyX5ZRmqGxKdm/1VsepalpA m9j6nHD8T+JZ58sVCJNYOmttsPVSZ5uH20wZQLpeHvSYLPqAUa5owzzjVdXgym4i4tTy Ik7w== X-Gm-Message-State: AOJu0YykDk9lSDIp2FZchhINx8hUzH38ZhE81xnjdZiS73hz78ksu9Et fzJuO6yxXhvdGUJO6xfQPbXRxpIaxbGcVwR/8wHO3kqOkH7Bl4HH1E7CVAAWRNzOdPU40DtaoVL 2zJwmYKwBhPUOWN08ve3D8A9CcoZyUSJVaruB+SkC+pbs X-Gm-Gg: ASbGncti5VUaOZcs8VNy7DZ5/9O8YkkTj1Z+SqsmxzUBwgH8wlNCvUtcg8BFjYKU4Xe V60+h9oGaM9mLjCgavNIU5eFjSXMgvmIo6cSJuwmxfmaSzAP5yqLtwRgYlGtIJEu8Qgd2j4LW7h sxlWqQI0qlQ1jyIDWxVDBQa8If6lJOsED3ReD6+tJwsEr4v1wavOjNP8NMYFq0dt4DiACrXiWsG kommjqoyIR2OvF1nPiRn6O5U6W75vh73XRtK5ez2/kwak0cVp9F5aHiUKMVaUlC/zp6iUPThGcz TWrE3ylMY74J/5osyKOO4YY1vw4EGt1DFmdOba6zfBprpZs796WVOtLyFGm/2FPxZf5rgfCu X-Google-Smtp-Source: AGHT+IHEInJA3jjjymvxwoFXWhDl9mNsMvM9HTAm9RwT9tXEHndHTbMAOwMgh3RDWRH68GkGBkLIwOjMlaQ8 X-Received: by 2002:a05:6e02:1aa2:b0:3df:2f47:dc21 with SMTP id e9e14a558f8ab-3e3355cfab1mr54086415ab.22.1753272918501; Wed, 23 Jul 2025 05:15:18 -0700 (PDT) Received: from postal.iol.unh.edu (postal.iol.unh.edu. [132.177.123.84]) by smtp-relay.gmail.com with ESMTPS id e9e14a558f8ab-3e298354441sm7746315ab.42.2025.07.23.05.15.18 (version=TLS1_2 cipher=ECDHE-ECDSA-AES128-GCM-SHA256 bits=128/128); Wed, 23 Jul 2025 05:15:18 -0700 (PDT) X-Relaying-Domain: iol.unh.edu Date: Wed, 23 Jul 2025 05:15:18 -0700 (PDT) Message-ID: <6880d256.050a0220.26f93f.7c69SMTPIN_ADDED_MISSING@mx.google.com> Received: from [172.21.0.4] (unknown [172.18.0.240]) by postal.iol.unh.edu (Postfix) with ESMTP id 0A9FA6050A61; Wed, 23 Jul 2025 08:15:17 -0400 (EDT) Subject: |SUCCESS| pw155455 [PATCH] [v2] lib/ethdev: fix segfault in secondar From: dpdklab@iol.unh.edu To: Test Report Cc: dpdk-test-reports@iol.unh.edu In-Reply-To: <20250723045022.1580829-1-14pwcse1224@uetpeshawar.edu.pk> References: <20250723045022.1580829-1-14pwcse1224@uetpeshawar.edu.pk> Content-Type: text/plain X-BeenThere: test-report@dpdk.org X-Mailman-Version: 2.1.29 Precedence: list List-Id: automatic DPDK test reports List-Unsubscribe: , List-Archive: List-Post: List-Help: List-Subscribe: , Errors-To: test-report-bounces@dpdk.org Test-Label: iol-abi-testing Test-Status: SUCCESS http://dpdk.org/patch/155455 _Testing PASS_ Submitter: Khadem Ullah <14pwcse1224@uetpeshawar.edu.pk> Date: Wednesday, July 23 2025 04:50:22 DPDK git baseline: Repo:dpdk Branch: master CommitID:b78afde1fed9e11ee5cdce333a1a69dd7a9cf13e 155455 --> testing pass Upstream job id: Generic-DPDK-Compile-ABI#135436 Test environment and result as below: +-------------------------------+----------+ | Environment | abi_test | +===============================+==========+ | Debian GNU/Linux 12 | PASS | +-------------------------------+----------+ | Fedora Linux 41 | PASS | +-------------------------------+----------+ | CentOS Stream 9 | PASS | +-------------------------------+----------+ | Red Hat Enterprise Linux 8.10 | PASS | +-------------------------------+----------+ | CentOS Stream 10 | PASS | +-------------------------------+----------+ | Fedora Linux 40 | PASS | +-------------------------------+----------+ | Red Hat Enterprise Linux 9.5 | PASS | +-------------------------------+----------+ | openSUSE Leap 15.6 | PASS | +-------------------------------+----------+ | Ubuntu 22.04 | PASS | +-------------------------------+----------+ | Ubuntu 24.04 | PASS | +-------------------------------+----------+ Debian GNU/Linux 12 Kernel: 5.15 Compiler: gcc gcc (Debian 12.2.0-14+deb12u1) 12.2.0 Fedora Linux 41 Kernel: 5.15 Compiler: clang gcc (GCC) 14.3.1 20250523 (Red Hat 14.3.1-1) CentOS Stream 9 Kernel: 5.15 Compiler: gcc gcc (GCC) 11.5.0 20240719 (Red Hat 11.5.0-7) Red Hat Enterprise Linux 8.10 Kernel: 5.15 Compiler: gcc gcc (GCC) 8.5.0 20210514 (Red Hat 8.5.0-22) CentOS Stream 10 Kernel: 5.15 Compiler: gcc gcc (GCC) 14.2.1 20250110 (Red Hat 14.2.1-8) Fedora Linux 40 Kernel: 5.15 Compiler: gcc gcc (GCC) 14.2.1 20240912 (Red Hat 14.2.1-3) Red Hat Enterprise Linux 9.5 Kernel: 5.15 Compiler: gcc gcc (GCC) 11.5.0 20240719 (Red Hat 11.5.0-2) openSUSE Leap 15.6 Kernel: 5.15 Compiler: gcc gcc (SUSE Linux) 7.5.0 Ubuntu 22.04 Kernel: 5.15 Compiler: gcc gcc (Ubuntu 11.4.0-1ubuntu1~22.04) 11.4.0 Ubuntu 24.04 Kernel: 5.15 Compiler: gcc gcc (Ubuntu 13.3.0-6ubuntu2~24.04) 13.3.0 To view detailed results, visit: https://lab.dpdk.org/results/dashboard/patchsets/33733/ UNH-IOL DPDK Community Lab To manage your email subscriptions, visit: https://lab.dpdk.org/results/dashboard/preferences/subscriptions/