From mboxrd@z Thu Jan 1 00:00:00 1970 Return-Path: Received: from mails.dpdk.org (mails.dpdk.org [217.70.189.124]) by inbox.dpdk.org (Postfix) with ESMTP id 7FB0246B8C for ; Wed, 23 Jul 2025 14:15:35 +0200 (CEST) Received: from mails.dpdk.org (localhost [127.0.0.1]) by mails.dpdk.org (Postfix) with ESMTP id 7B09A40264; Wed, 23 Jul 2025 14:15:35 +0200 (CEST) Received: from mail-pl1-f226.google.com (mail-pl1-f226.google.com [209.85.214.226]) by mails.dpdk.org (Postfix) with ESMTP id DA9D940264 for ; Wed, 23 Jul 2025 14:15:29 +0200 (CEST) Received: by mail-pl1-f226.google.com with SMTP id d9443c01a7336-23dea2e01e4so80907875ad.1 for ; Wed, 23 Jul 2025 05:15:29 -0700 (PDT) DKIM-Signature: v=1; a=rsa-sha256; c=relaxed/relaxed; d=iol.unh.edu; s=unh-iol; t=1753272929; x=1753877729; darn=dpdk.org; h=references:in-reply-to:cc:to:from:subject:message-id:date:from:to :cc:subject:date:message-id:reply-to; bh=TEwkvdYVUiESZ5KyiuI0tToYLSJl74IOYiXp8U9A/0Y=; b=HWqenRNAVW2cwYLfT7S5hAPjUWoMqukDm3RNQ4MeURAaAIxDuVA8J8tnPMtKCDpk3v aruuTC2GScCVqhKz463jl414J8Ma/MIOh9cu7/V1odSoxuV2LGlt6cvndfUnW7s4LEmg AdqRvlxPjE8NoP6i0OJMflio4wsoeIO6Es4GI= X-Google-DKIM-Signature: v=1; a=rsa-sha256; c=relaxed/relaxed; d=1e100.net; s=20230601; t=1753272929; x=1753877729; h=references:in-reply-to:cc:to:from:subject:message-id:date :x-gm-message-state:from:to:cc:subject:date:message-id:reply-to; bh=TEwkvdYVUiESZ5KyiuI0tToYLSJl74IOYiXp8U9A/0Y=; b=N5+ebIDoav5ovgDR0Uz73ijWg2UBVbUTSLkTpIx+7tvVJlPrTt+b90LYyHYDZGvDYn 45C6sBrl1KYlpV1Yt6cHxSbJBpXA2tIITCl/GobkU8qWhril5dwI627vnHYLpVEO/Dn/ ndd1ZMN5pRL6FP5znzcbYVa0hAZJcM4x3UjCT8heI3H5dPhOhL/7++jfy97dn9BmCs2P h0dU3VyTXpLl98DKwy//I+jVbb+P00BIIFFwStrIMleonHPK91jAB5aZhzI5rYUe/ZWc HaoCYMjXBQiNYz/GcexYAAc5XVOAquo+ER37f2BMppBr+vf3igDsJf1oObt7kyICRSI0 xtZA== X-Gm-Message-State: AOJu0YwNJXS1ULm9mYTf0cQwoYG+LpFyDDgWSszlm6ci0SefdLt4jGDS UFR386niUED4Yo7fEQgFiDdPNnfXhwZwBLo4NvhpVkbZ5/LxIKfwJjmtPbEKBuvooKg3815R0lf t2b7wtlKiqfPY85XmVKBKrZrnX5jvgtYAYf+9YSXAx2JVi2VoynDMlVndzjXp X-Gm-Gg: ASbGncvceq7uMm0ANBOXlMh6om8d2ssu0nuyfvQo8rihMPXIwn4h2QiU/ZEWmkn2cor 9Z0q6o5BylmeCzgIuPyZ8h8ZBP84+ZQwNiA/7Jkuf1AbXH4Gy6W2pSDhLttDoBwMRBz+rznakBP Yklro+Ajxr8zNnXpeJTxPa/Uh79rEslQplm66SAt/mkJE98v0NwH+rso0ly+MBpofhTXl1FnW3w Wer2dAj430n453PCWmjUPOMwf9BeNoVIQnr/+S1nq/eP3xvuW+TqIYNr2xRqkV0Lh7MtjawW3/X 8cAyeYsiwkQOa+1hXe2P97RAeiOZHMrRmawZgaRYezlF834zUA== X-Google-Smtp-Source: AGHT+IGwzrT2ItXwz1l+dIuySj6R6wy58T91C6I7GHoUDpWZojxuSClylcI19pD5n62geULTSJGCqZecdMXp X-Received: by 2002:a17:902:f684:b0:234:ed31:fca7 with SMTP id d9443c01a7336-23f981db976mr37807895ad.48.1753272928967; Wed, 23 Jul 2025 05:15:28 -0700 (PDT) Received: from postal.iol.unh.edu (postal.iol.unh.edu. [2606:4100:3880:1234::84]) by smtp-relay.gmail.com with ESMTPS id d9443c01a7336-23e3b6d7232sm7050285ad.84.2025.07.23.05.15.28 (version=TLS1_2 cipher=ECDHE-ECDSA-AES128-GCM-SHA256 bits=128/128); Wed, 23 Jul 2025 05:15:28 -0700 (PDT) X-Relaying-Domain: iol.unh.edu Date: Wed, 23 Jul 2025 05:15:28 -0700 (PDT) Message-ID: <6880d260.170a0220.22fb1b.45f8SMTPIN_ADDED_MISSING@mx.google.com> Received: from [172.21.0.2] (unknown [172.18.0.240]) by postal.iol.unh.edu (Postfix) with ESMTP id 733CF6050A61; Wed, 23 Jul 2025 08:15:28 -0400 (EDT) Subject: |SUCCESS| pw155455 [PATCH] [v2] lib/ethdev: fix segfault in secondar From: dpdklab@iol.unh.edu To: Test Report Cc: dpdk-test-reports@iol.unh.edu In-Reply-To: <20250723045022.1580829-1-14pwcse1224@uetpeshawar.edu.pk> References: <20250723045022.1580829-1-14pwcse1224@uetpeshawar.edu.pk> Content-Type: text/plain X-BeenThere: test-report@dpdk.org X-Mailman-Version: 2.1.29 Precedence: list List-Id: automatic DPDK test reports List-Unsubscribe: , List-Archive: List-Post: List-Help: List-Subscribe: , Errors-To: test-report-bounces@dpdk.org Test-Label: iol-abi-testing Test-Status: SUCCESS http://dpdk.org/patch/155455 _Testing PASS_ Submitter: Khadem Ullah <14pwcse1224@uetpeshawar.edu.pk> Date: Wednesday, July 23 2025 04:50:22 DPDK git baseline: Repo:dpdk Branch: master CommitID:b78afde1fed9e11ee5cdce333a1a69dd7a9cf13e 155455 --> testing pass Upstream job id: Generic-DPDK-Compile-ABI#135430 Test environment and result as below: +-------------------------------+----------+ | Environment | abi_test | +===============================+==========+ | Debian GNU/Linux 12 | PASS | +-------------------------------+----------+ | Fedora Linux 41 | PASS | +-------------------------------+----------+ | CentOS Stream 9 | PASS | +-------------------------------+----------+ | Red Hat Enterprise Linux 8.10 | PASS | +-------------------------------+----------+ | CentOS Stream 10 | PASS | +-------------------------------+----------+ | Fedora Linux 40 | PASS | +-------------------------------+----------+ | Red Hat Enterprise Linux 9.5 | PASS | +-------------------------------+----------+ | openSUSE Leap 15.6 | PASS | +-------------------------------+----------+ | Ubuntu 22.04 | PASS | +-------------------------------+----------+ | Ubuntu 24.04 | PASS | +-------------------------------+----------+ Debian GNU/Linux 12 Kernel: 5.15 Compiler: gcc gcc (Debian 12.2.0-14+deb12u1) 12.2.0 Fedora Linux 41 Kernel: 5.15 Compiler: clang gcc (GCC) 14.3.1 20250523 (Red Hat 14.3.1-1) CentOS Stream 9 Kernel: 5.15 Compiler: gcc gcc (GCC) 11.5.0 20240719 (Red Hat 11.5.0-7) Red Hat Enterprise Linux 8.10 Kernel: 5.15 Compiler: gcc gcc (GCC) 8.5.0 20210514 (Red Hat 8.5.0-22) CentOS Stream 10 Kernel: 5.15 Compiler: gcc gcc (GCC) 14.2.1 20250110 (Red Hat 14.2.1-8) Fedora Linux 40 Kernel: 5.15 Compiler: gcc gcc (GCC) 14.2.1 20240912 (Red Hat 14.2.1-3) Red Hat Enterprise Linux 9.5 Kernel: 5.15 Compiler: gcc gcc (GCC) 11.5.0 20240719 (Red Hat 11.5.0-2) openSUSE Leap 15.6 Kernel: 5.15 Compiler: gcc gcc (SUSE Linux) 7.5.0 Ubuntu 22.04 Kernel: 5.15 Compiler: gcc gcc (Ubuntu 11.4.0-1ubuntu1~22.04) 11.4.0 Ubuntu 24.04 Kernel: 5.15 Compiler: gcc gcc (Ubuntu 13.3.0-6ubuntu2~24.04) 13.3.0 To view detailed results, visit: https://lab.dpdk.org/results/dashboard/patchsets/33733/ UNH-IOL DPDK Community Lab To manage your email subscriptions, visit: https://lab.dpdk.org/results/dashboard/preferences/subscriptions/