From mboxrd@z Thu Jan 1 00:00:00 1970 Return-Path: Received: from mails.dpdk.org (mails.dpdk.org [217.70.189.124]) by inbox.dpdk.org (Postfix) with ESMTP id 7410446B8C for ; Wed, 23 Jul 2025 14:15:30 +0200 (CEST) Received: from mails.dpdk.org (localhost [127.0.0.1]) by mails.dpdk.org (Postfix) with ESMTP id 6FD1740264; Wed, 23 Jul 2025 14:15:30 +0200 (CEST) Received: from mail-pf1-f226.google.com (mail-pf1-f226.google.com [209.85.210.226]) by mails.dpdk.org (Postfix) with ESMTP id 1418040264 for ; Wed, 23 Jul 2025 14:15:29 +0200 (CEST) Received: by mail-pf1-f226.google.com with SMTP id d2e1a72fcca58-747e41d5469so6987531b3a.3 for ; Wed, 23 Jul 2025 05:15:29 -0700 (PDT) DKIM-Signature: v=1; a=rsa-sha256; c=relaxed/relaxed; d=iol.unh.edu; s=unh-iol; t=1753272928; x=1753877728; darn=dpdk.org; h=references:in-reply-to:cc:to:from:subject:message-id:date:from:to :cc:subject:date:message-id:reply-to; bh=aqz719kvSF6/d1/EF4czfV1C+OHi6VS5QTUvBHwwsIQ=; b=J3MbfE84V9hrmbmBW83BLWf9HVI4AuVJ8Gd5ztqxGUbNF2bmmyvq93/CMg1dMxcDIB YGeOEUO1FRzM7ezkKiAXi+335akXEgpeKo++ZU5SGdML5sR+/nbDHvdm8L7neWPeVI7E ujqs/lvewxZzGcQTKU+B6soXoN17L/Seh8KBY= X-Google-DKIM-Signature: v=1; a=rsa-sha256; c=relaxed/relaxed; d=1e100.net; s=20230601; t=1753272928; x=1753877728; h=references:in-reply-to:cc:to:from:subject:message-id:date :x-gm-message-state:from:to:cc:subject:date:message-id:reply-to; bh=aqz719kvSF6/d1/EF4czfV1C+OHi6VS5QTUvBHwwsIQ=; b=ITDSf6EMwxzHNEVjHXx0RagUeHuNVMmt45wgZTR8GPnIhODzEQY8FMEnMqGpxcURHA CKi8+UNWVlOTJ5taQDjla9aaQV1VwSLHic1INmEKglaYTY/ZHY/grAbzDxFb9zBku/Rd 0yc0N+2zatOkToNBtEHoPZ69zUN3B803nCxAX6yL3hp5GLeVjdgdXcH6JVK21gPRgXRo 850mVaKaQpvx3nu3E/bVw9NfHi4lD0Rhh83fMBG8G2KczX6n2+ZNRZITpplfK/FLsEeH Sx//NlI96UhTCGJhhLZi2DK9GdAVLgaaeTGxkzfvKbtQVZvIjbXQlnbzy1HTIgH+lrA2 5z6g== X-Gm-Message-State: AOJu0Yy6ASzaB7Kb+/PtNsISVNtetBmyybs9v3wJs/yM5C/NQ1t2LzcA zzQosbxQY/qONEI0m/yIpQqtoqXms42KzXIOqqQjPp9swhsOS3/xJ79AGY8Lfc5iC1vPDctC4SW jOxF+b+r88isWcXd5HMf35a5QPe1UFCfhEKQchw9dfXLAcHK+gIpD6xtb6t5U X-Gm-Gg: ASbGncuzm0M5Gy9g5URWfM4LSHB2WzUyG4gUjV2Phzka9ASeiP4sB4xItcVl3ZA3+vo 2DeYiClL6APMzfYQe+oh3jtTejnrsh5/ZSjVBzDTxNLcBQvYCrPdrOkLfCKHr3ICJqNJizk40pr SeUnKwtZGOD8lGFb+9VjYCd6gsXJkvmWYD5FmeKaI2EqpqvfoezGLVhhLPP+lJj+6+T9gKl1Ti9 o4sP51kt1HFUOyeu0i5wHmFbhJ7BmBrusdBY0ABienMQE447Jnax0dVtPhkRYD8NqAYZ42qhRBz RchcnE7y4ot5xxM3CpBkhhcnd69zBav9Jxfmt8ZmSf7k5RnODw== X-Google-Smtp-Source: AGHT+IEpG6ZzwXRa8WTQ9vuUTMF4LHo8B37pc3ClHeafw4eobOspeyKC2GRHERvNXJKI93ps4TmMAcl3iQyx X-Received: by 2002:a05:6a20:1591:b0:234:cd25:730 with SMTP id adf61e73a8af0-23d4911d512mr4752619637.24.1753272928127; Wed, 23 Jul 2025 05:15:28 -0700 (PDT) Received: from postal.iol.unh.edu (postal.iol.unh.edu. [2606:4100:3880:1234::84]) by smtp-relay.gmail.com with ESMTPS id 41be03b00d2f7-b3f2ff9564fsm726491a12.29.2025.07.23.05.15.28 (version=TLS1_2 cipher=ECDHE-ECDSA-AES128-GCM-SHA256 bits=128/128); Wed, 23 Jul 2025 05:15:28 -0700 (PDT) X-Relaying-Domain: iol.unh.edu Date: Wed, 23 Jul 2025 05:15:28 -0700 (PDT) Message-ID: <6880d260.630a0220.3227eb.65f1SMTPIN_ADDED_MISSING@mx.google.com> Received: from [172.21.0.3] (unknown [172.18.0.240]) by postal.iol.unh.edu (Postfix) with ESMTP id 32B7C6050A61; Wed, 23 Jul 2025 08:15:27 -0400 (EDT) Subject: |SUCCESS| pw155457 [PATCH] net/af_xdp: enable AF_XDP program attachm From: dpdklab@iol.unh.edu To: Test Report Cc: dpdk-test-reports@iol.unh.edu In-Reply-To: <20250723074249.3264675-1-shivajikant@google.com> References: <20250723074249.3264675-1-shivajikant@google.com> Content-Type: text/plain X-BeenThere: test-report@dpdk.org X-Mailman-Version: 2.1.29 Precedence: list List-Id: automatic DPDK test reports List-Unsubscribe: , List-Archive: List-Post: List-Help: List-Subscribe: , Errors-To: test-report-bounces@dpdk.org Test-Label: iol-unit-amd64-testing Test-Status: SUCCESS http://dpdk.org/patch/155457 _Testing PASS_ Submitter: Shivaji Kant Date: Wednesday, July 23 2025 07:42:49 DPDK git baseline: Repo:dpdk Branch: master CommitID:b78afde1fed9e11ee5cdce333a1a69dd7a9cf13e 155457 --> testing pass Upstream job id: Generic-Unit-Test-DPDK#357691 Test environment and result as below: +-------------------------------+----------------+ | Environment | dpdk_unit_test | +===============================+================+ | CentOS Stream 10 | PASS | +-------------------------------+----------------+ | CentOS Stream 9 | PASS | +-------------------------------+----------------+ | Debian GNU/Linux 12 | PASS | +-------------------------------+----------------+ | Fedora Linux 41 | PASS | +-------------------------------+----------------+ | Fedora Linux 40 | PASS | +-------------------------------+----------------+ | Ubuntu 20.04 | PASS | +-------------------------------+----------------+ | Red Hat Enterprise Linux 9.5 | PASS | +-------------------------------+----------------+ | Red Hat Enterprise Linux 8.10 | PASS | +-------------------------------+----------------+ | Ubuntu 22.04 | PASS | +-------------------------------+----------------+ | Ubuntu 24.04 | PASS | +-------------------------------+----------------+ CentOS Stream 10 Kernel: 5.15 Compiler: gcc gcc (GCC) 14.2.1 20250110 (Red Hat 14.2.1-8) CentOS Stream 9 Kernel: 5.15 Compiler: gcc gcc (GCC) 11.5.0 20240719 (Red Hat 11.5.0-7) Debian GNU/Linux 12 Kernel: 5.15 Compiler: gcc gcc (Debian 12.2.0-14+deb12u1) 12.2.0 Fedora Linux 41 Kernel: 5.15 Compiler: gcc gcc (GCC) 14.3.1 20250523 (Red Hat 14.3.1-1) Fedora Linux 40 Kernel: 5.15 Compiler: clang gcc (GCC) 14.2.1 20240912 (Red Hat 14.2.1-3) Ubuntu 20.04 Kernel: 5.15 Compiler: gcc gcc (Ubuntu 9.4.0-1ubuntu1~20.04.2) 9.4.0 Red Hat Enterprise Linux 9.5 Kernel: 5.15 Compiler: gcc gcc (GCC) 11.5.0 20240719 (Red Hat 11.5.0-2) Red Hat Enterprise Linux 8.10 Kernel: 5.15 Compiler: gcc gcc (GCC) 8.5.0 20210514 (Red Hat 8.5.0-22) Ubuntu 22.04 Kernel: 5.15 Compiler: gcc gcc (Ubuntu 11.4.0-1ubuntu1~22.04) 11.4.0 Ubuntu 24.04 Kernel: 5.15 Compiler: gcc gcc (Ubuntu 13.3.0-6ubuntu2~24.04) 13.3.0 To view detailed results, visit: https://lab.dpdk.org/results/dashboard/patchsets/33735/ UNH-IOL DPDK Community Lab To manage your email subscriptions, visit: https://lab.dpdk.org/results/dashboard/preferences/subscriptions/