From mboxrd@z Thu Jan 1 00:00:00 1970 Return-Path: Received: from mails.dpdk.org (mails.dpdk.org [217.70.189.124]) by inbox.dpdk.org (Postfix) with ESMTP id 8B75646B8C for ; Wed, 23 Jul 2025 14:15:44 +0200 (CEST) Received: from mails.dpdk.org (localhost [127.0.0.1]) by mails.dpdk.org (Postfix) with ESMTP id 86C0B40264; Wed, 23 Jul 2025 14:15:44 +0200 (CEST) Received: from mail-oo1-f100.google.com (mail-oo1-f100.google.com [209.85.161.100]) by mails.dpdk.org (Postfix) with ESMTP id 2E24D40264 for ; Wed, 23 Jul 2025 14:15:43 +0200 (CEST) Received: by mail-oo1-f100.google.com with SMTP id 006d021491bc7-6159c26766fso3111564eaf.1 for ; Wed, 23 Jul 2025 05:15:43 -0700 (PDT) DKIM-Signature: v=1; a=rsa-sha256; c=relaxed/relaxed; d=iol.unh.edu; s=unh-iol; t=1753272942; x=1753877742; darn=dpdk.org; h=references:in-reply-to:cc:to:from:subject:message-id:date:from:to :cc:subject:date:message-id:reply-to; bh=IB54H12HGeJ9gQyugFmgEFU1yOlZIjr4NZp+cpLqLxg=; b=d76UAPDU81swBhzmasibtfSc8bljOMlnqQWZpH3jl9ozMzAamlOQzlUecJtLCZVDHq m//P8kxsPx3cdX7bhmiY0RSeMDeysVoBgIioed54CUItl2bOCk2AvspIiS35TTzSqmio jWz8S8hnSHcbCzTZtOZ0LypBvwd61dbe7NOfA= X-Google-DKIM-Signature: v=1; a=rsa-sha256; c=relaxed/relaxed; d=1e100.net; s=20230601; t=1753272942; x=1753877742; h=references:in-reply-to:cc:to:from:subject:message-id:date :x-gm-message-state:from:to:cc:subject:date:message-id:reply-to; bh=IB54H12HGeJ9gQyugFmgEFU1yOlZIjr4NZp+cpLqLxg=; b=PrRuoKxaWLW3DpH40USpL4ECd+Q9SHL0lRryrWY5a5mDirTVGkEH7wfTPlkQ9EKcB0 BsIEbWa5tbciPe52gDWqU4nGUnPs2nn+D1pwftatwl+RmW2bnxTp71eaQBPGxmIlZHlQ e1R7z/l04+EjtxgemcNtwyhjBrejFYTPsH4DIA4PlI9eZzKwzZ4zRZZhna350n+wwpr8 FteaEr/zHjx6QRPAXhE57CzQQW2JPXAxe28qnAYXDyXAxm8eu5+CpFvQpxPwlLP9hJ68 rSthpm88SY+iw4m7JDK5eWoGHQJphy+S+YUN1unxF3/YqwgENUws1aYJFiEFOxJVYCpq 8K/g== X-Gm-Message-State: AOJu0YxvxO2YEYR/jRurjxmUGRssTDaxk/ef6jfIeN+SLKEGCczcHhGJ qmCZb5upXgVDevMyA2IcDVzVmSaBs3S+rj9rQxxye96546Ep3VTKCpNXbAnMpixkRNdYgAxhX4c jaHFGvphDqhI//WLexArCcTHLB1FgX4St3y7TabJaf3PS X-Gm-Gg: ASbGncv40QhTf3b/C9ccVZuYZ99WcBxmPOz3WWw2bzp/L7Y9nVTxgU76bVHygA3j1r+ 8hVcdvh6f4S7k5XYxBHXPRgtLOOPhazAz6H+40Zsb6V9h0W1U5x85KOZ+QXX8G6ohZwX189s1Mt L7nVS5FZYJODy4ieK+5q69gkcue/O7Arh0HYuvZ6adhMncdogHOyt5/8HMwi6qTE74Ecl3/aKR5 n/3F4L7IbaiXGqp2o4v3MOTvOtf4g6oIzeRvgU/NS+ZVZ/he0HTC2qlMH/lVi0tMY4d/DvJ7dJc YNu/ouJ1by5OM0BPwq0m3qo2jTnBzZvx/Ti0h6Pij441E+zjwqtqJk14bj3mihXlQ/zzYU4f X-Google-Smtp-Source: AGHT+IHCH8V3dl8Of1KFE5jRG5LqU8qQdEM36iwhgSz946z5JTwUIfm1IcUAACzJYVG+L9G5bzYF1QAE9S1V X-Received: by 2002:a05:6820:270b:b0:615:a269:fc5f with SMTP id 006d021491bc7-6186e7a1dbfmr1624286eaf.1.1753272942397; Wed, 23 Jul 2025 05:15:42 -0700 (PDT) Received: from postal.iol.unh.edu (postal.iol.unh.edu. [132.177.123.84]) by smtp-relay.gmail.com with ESMTPS id 006d021491bc7-615bcc8cbb4sm445581eaf.15.2025.07.23.05.15.42 (version=TLS1_2 cipher=ECDHE-ECDSA-AES128-GCM-SHA256 bits=128/128); Wed, 23 Jul 2025 05:15:42 -0700 (PDT) X-Relaying-Domain: iol.unh.edu Date: Wed, 23 Jul 2025 05:15:42 -0700 (PDT) Message-ID: <6880d26e.4a0a0220.2b73a.69bdSMTPIN_ADDED_MISSING@mx.google.com> Received: from [172.21.0.6] (unknown [172.18.0.240]) by postal.iol.unh.edu (Postfix) with ESMTP id E5CC56050A61; Wed, 23 Jul 2025 08:15:41 -0400 (EDT) Subject: |SUCCESS| pw155457 [PATCH] net/af_xdp: enable AF_XDP program attachm From: dpdklab@iol.unh.edu To: Test Report Cc: dpdk-test-reports@iol.unh.edu In-Reply-To: <20250723074249.3264675-1-shivajikant@google.com> References: <20250723074249.3264675-1-shivajikant@google.com> Content-Type: text/plain X-BeenThere: test-report@dpdk.org X-Mailman-Version: 2.1.29 Precedence: list List-Id: automatic DPDK test reports List-Unsubscribe: , List-Archive: List-Post: List-Help: List-Subscribe: , Errors-To: test-report-bounces@dpdk.org Test-Label: iol-unit-amd64-testing Test-Status: SUCCESS http://dpdk.org/patch/155457 _Testing PASS_ Submitter: Shivaji Kant Date: Wednesday, July 23 2025 07:42:49 DPDK git baseline: Repo:dpdk Branch: master CommitID:b78afde1fed9e11ee5cdce333a1a69dd7a9cf13e 155457 --> testing pass Upstream job id: Generic-Unit-Test-DPDK#357707 Test environment and result as below: +-------------------------------+----------------+ | Environment | dpdk_unit_test | +===============================+================+ | CentOS Stream 10 | PASS | +-------------------------------+----------------+ | CentOS Stream 9 | PASS | +-------------------------------+----------------+ | Debian GNU/Linux 12 | PASS | +-------------------------------+----------------+ | Fedora Linux 41 | PASS | +-------------------------------+----------------+ | Fedora Linux 40 | PASS | +-------------------------------+----------------+ | Ubuntu 20.04 | PASS | +-------------------------------+----------------+ | Red Hat Enterprise Linux 9.5 | PASS | +-------------------------------+----------------+ | Red Hat Enterprise Linux 8.10 | PASS | +-------------------------------+----------------+ | Ubuntu 22.04 | PASS | +-------------------------------+----------------+ | Ubuntu 24.04 | PASS | +-------------------------------+----------------+ CentOS Stream 10 Kernel: 5.15 Compiler: gcc gcc (GCC) 14.2.1 20250110 (Red Hat 14.2.1-8) CentOS Stream 9 Kernel: 5.15 Compiler: gcc gcc (GCC) 11.5.0 20240719 (Red Hat 11.5.0-7) Debian GNU/Linux 12 Kernel: 5.15 Compiler: gcc gcc (Debian 12.2.0-14+deb12u1) 12.2.0 Fedora Linux 41 Kernel: 5.15 Compiler: gcc gcc (GCC) 14.3.1 20250523 (Red Hat 14.3.1-1) Fedora Linux 40 Kernel: 5.15 Compiler: clang gcc (GCC) 14.2.1 20240912 (Red Hat 14.2.1-3) Ubuntu 20.04 Kernel: 5.15 Compiler: gcc gcc (Ubuntu 9.4.0-1ubuntu1~20.04.2) 9.4.0 Red Hat Enterprise Linux 9.5 Kernel: 5.15 Compiler: gcc gcc (GCC) 11.5.0 20240719 (Red Hat 11.5.0-2) Red Hat Enterprise Linux 8.10 Kernel: 5.15 Compiler: gcc gcc (GCC) 8.5.0 20210514 (Red Hat 8.5.0-22) Ubuntu 22.04 Kernel: 5.15 Compiler: gcc gcc (Ubuntu 11.4.0-1ubuntu1~22.04) 11.4.0 Ubuntu 24.04 Kernel: 5.15 Compiler: gcc gcc (Ubuntu 13.3.0-6ubuntu2~24.04) 13.3.0 To view detailed results, visit: https://lab.dpdk.org/results/dashboard/patchsets/33735/ UNH-IOL DPDK Community Lab To manage your email subscriptions, visit: https://lab.dpdk.org/results/dashboard/preferences/subscriptions/