From mboxrd@z Thu Jan 1 00:00:00 1970 Return-Path: Received: from mails.dpdk.org (mails.dpdk.org [217.70.189.124]) by inbox.dpdk.org (Postfix) with ESMTP id 442DC46BF1 for ; Wed, 23 Jul 2025 14:42:41 +0200 (CEST) Received: from mails.dpdk.org (localhost [127.0.0.1]) by mails.dpdk.org (Postfix) with ESMTP id 3EF56402E7; Wed, 23 Jul 2025 14:42:41 +0200 (CEST) Received: from mail-io1-f100.google.com (mail-io1-f100.google.com [209.85.166.100]) by mails.dpdk.org (Postfix) with ESMTP id 269DA402E7 for ; Wed, 23 Jul 2025 14:42:39 +0200 (CEST) Received: by mail-io1-f100.google.com with SMTP id ca18e2360f4ac-879c49e8ac3so466335939f.1 for ; Wed, 23 Jul 2025 05:42:39 -0700 (PDT) DKIM-Signature: v=1; a=rsa-sha256; c=relaxed/relaxed; d=iol.unh.edu; s=unh-iol; t=1753274558; x=1753879358; darn=dpdk.org; h=references:in-reply-to:cc:to:from:subject:message-id:date:from:to :cc:subject:date:message-id:reply-to; bh=Oyg4uZEW4yZYul+a66AahwAmYe0cwdwjgFC0YCks0OE=; b=A0qyzWHSUQKFyijx+/ILSMXk6eFJSxs2g777JxkvDRs8BjUxP+rIwm4d5iMAixPsY7 jdsqRvm0eYgk+l5tsJ8Cg+8Pms71vBpfFXC7ChMfYXOaxYFyw0FkaVNnj+Plk9wkIAca WrB/x4/zr068CMe52jlIhpQHU+M0bZl2Y2vFI= X-Google-DKIM-Signature: v=1; a=rsa-sha256; c=relaxed/relaxed; d=1e100.net; s=20230601; t=1753274558; x=1753879358; h=references:in-reply-to:cc:to:from:subject:message-id:date :x-gm-message-state:from:to:cc:subject:date:message-id:reply-to; bh=Oyg4uZEW4yZYul+a66AahwAmYe0cwdwjgFC0YCks0OE=; b=XCRm8A6EFsma8Vc7bKhpmEIcK22v4Smbqy6UEaXh72ZN0+GJvyoUYR+BBPQM70KzB4 B68ZhoZ4rw+up0qkUWW+rBJHe6V4ZQ+XssM6Vd7gn6/Z83Z7Xlf60qmUGx9RBjqIUYLG yE+0gkmBJy9U67xx/4Ghxz+Jt+UngfQfla8gE4BcnDNglloRUm+sjqCkyO/qiE9E1A+D 2IXBGDvbMW3qy5uFv+muXpLKHOIfk6JyOPu5wuDrk8d9G8D3EYqq1aHRJNXr50Dl2hV5 j3nXcvIrXkPz6GSGBvLLI7j+Qh5XTyHJBSmqEiCs3ILrvoNwPFULqeqlN8Kued9FtIwo vXLA== X-Gm-Message-State: AOJu0YwNckbHnrFo5hKPfEjk0Pf1WpLp+Xee8JzCBAt6r329ZOjpY6Mz VcEiacaGuAGqaTG1Sx0Kcnf+cVwd6azGmHPsFBBrg+Nu7IPScL2CgN+tpW7u3MzHTePuFMThEvb D4Dlo9cbFzp76t47KZArvFWt0xJd1gLVnsJxR+P+GIQNO X-Gm-Gg: ASbGncsaiYppuE+1dQqyvIoWpn9311p0jib3JWKhjvI0Eat5a7m0GHgtWvYNTQ5ozKj Sa2o9PAthK8pyWDw7QdxWOceI9VhFgVsCGA8DKXY5w4knYk0mvDo/6knMzDZJuuYOQd+dGlaVUO z2z6PS1dvTK/raxQAh15YAT3GRKYLH8meeuP1zjFhvPNl8fPCe90R26L3RScrM6H1XquVC2xJ5+ nRTB74qAEdvaIdd1OE1RSY/bLqe8c2mpi6hxohpfN59lN1pWYY9OU9+J6RDd2uzCby8CYAxhgWg AYog2rcw8s+kNS8UfGyB+5PoX7gJGP5l5JZ7X9df7dJdlRNq8J7ofCNz0hVDRxyslqGEfts+ X-Google-Smtp-Source: AGHT+IEAjRX+GyA7lZqy748WhNc1m9wqjyDi//6E5K0G+vrzstXkY/naxO7+CBznPwUp5l2Lveeja3iFs6HT X-Received: by 2002:a92:cd8d:0:b0:3df:460a:ec3c with SMTP id e9e14a558f8ab-3e3355d0264mr54544765ab.22.1753274558403; Wed, 23 Jul 2025 05:42:38 -0700 (PDT) Received: from postal.iol.unh.edu (postal.iol.unh.edu. [132.177.123.84]) by smtp-relay.gmail.com with ESMTPS id e9e14a558f8ab-3e298203d21sm7823265ab.9.2025.07.23.05.42.38 (version=TLS1_2 cipher=ECDHE-ECDSA-AES128-GCM-SHA256 bits=128/128); Wed, 23 Jul 2025 05:42:38 -0700 (PDT) X-Relaying-Domain: iol.unh.edu Date: Wed, 23 Jul 2025 05:42:38 -0700 (PDT) Message-ID: <6880d8be.050a0220.14c34.8408SMTPIN_ADDED_MISSING@mx.google.com> Received: from [172.21.0.2] (unknown [172.18.0.240]) by postal.iol.unh.edu (Postfix) with ESMTP id 15D636050A61; Wed, 23 Jul 2025 08:42:38 -0400 (EDT) Subject: |SUCCESS| pw155447-155454 [PATCH] [v9,8/8] lib/pmu: fix out-of-bound From: dpdklab@iol.unh.edu To: Test Report Cc: dpdk-test-reports@iol.unh.edu In-Reply-To: <20250723044118.2962318-9-tduszynski@marvell.com> References: <20250723044118.2962318-9-tduszynski@marvell.com> Content-Type: text/plain X-BeenThere: test-report@dpdk.org X-Mailman-Version: 2.1.29 Precedence: list List-Id: automatic DPDK test reports List-Unsubscribe: , List-Archive: List-Post: List-Help: List-Subscribe: , Errors-To: test-report-bounces@dpdk.org Test-Label: iol-abi-testing Test-Status: SUCCESS http://dpdk.org/patch/155454 _Testing PASS_ Submitter: Tomasz Duszynski Date: Wednesday, July 23 2025 04:41:18 DPDK git baseline: Repo:dpdk Branch: master CommitID:b222395561638f89562e4ef42e1eabf2d6db43dd 155447-155454 --> testing pass Upstream job id: Generic-DPDK-Compile-ABI#135448 Test environment and result as below: +-------------------------------+----------+ | Environment | abi_test | +===============================+==========+ | CentOS Stream 9 | PASS | +-------------------------------+----------+ | CentOS Stream 10 | PASS | +-------------------------------+----------+ | Debian GNU/Linux 12 | PASS | +-------------------------------+----------+ | Fedora Linux 40 | PASS | +-------------------------------+----------+ | Fedora Linux 41 | PASS | +-------------------------------+----------+ | Red Hat Enterprise Linux 8.10 | PASS | +-------------------------------+----------+ | Ubuntu 22.04 | PASS | +-------------------------------+----------+ | Red Hat Enterprise Linux 9.5 | PASS | +-------------------------------+----------+ | Ubuntu 24.04 | PASS | +-------------------------------+----------+ | openSUSE Leap 15.6 | PASS | +-------------------------------+----------+ CentOS Stream 9 Kernel: 5.15 Compiler: gcc gcc (GCC) 11.5.0 20240719 (Red Hat 11.5.0-7) CentOS Stream 10 Kernel: 5.15 Compiler: gcc gcc (GCC) 14.2.1 20250110 (Red Hat 14.2.1-8) Debian GNU/Linux 12 Kernel: 5.15 Compiler: gcc gcc (Debian 12.2.0-14+deb12u1) 12.2.0 Fedora Linux 40 Kernel: 5.15 Compiler: clang gcc (GCC) 14.2.1 20240912 (Red Hat 14.2.1-3) Fedora Linux 41 Kernel: 5.15 Compiler: clang gcc (GCC) 14.3.1 20250523 (Red Hat 14.3.1-1) Red Hat Enterprise Linux 8.10 Kernel: 5.15 Compiler: gcc gcc (GCC) 8.5.0 20210514 (Red Hat 8.5.0-22) Ubuntu 22.04 Kernel: 5.15 Compiler: gcc gcc (Ubuntu 11.4.0-1ubuntu1~22.04) 11.4.0 Red Hat Enterprise Linux 9.5 Kernel: 5.15 Compiler: gcc gcc (GCC) 11.5.0 20240719 (Red Hat 11.5.0-2) Ubuntu 24.04 Kernel: 5.15 Compiler: gcc gcc (Ubuntu 13.3.0-6ubuntu2~24.04) 13.3.0 openSUSE Leap 15.6 Kernel: 5.15 Compiler: gcc gcc (SUSE Linux) 7.5.0 To view detailed results, visit: https://lab.dpdk.org/results/dashboard/patchsets/33732/ UNH-IOL DPDK Community Lab To manage your email subscriptions, visit: https://lab.dpdk.org/results/dashboard/preferences/subscriptions/