From mboxrd@z Thu Jan 1 00:00:00 1970 Return-Path: Received: from mails.dpdk.org (mails.dpdk.org [217.70.189.124]) by inbox.dpdk.org (Postfix) with ESMTP id 633ED46BF1 for ; Wed, 23 Jul 2025 14:43:19 +0200 (CEST) Received: from mails.dpdk.org (localhost [127.0.0.1]) by mails.dpdk.org (Postfix) with ESMTP id 5EA9A402E1; Wed, 23 Jul 2025 14:43:19 +0200 (CEST) Received: from mail-io1-f99.google.com (mail-io1-f99.google.com [209.85.166.99]) by mails.dpdk.org (Postfix) with ESMTP id D31F1402E1 for ; Wed, 23 Jul 2025 14:43:17 +0200 (CEST) Received: by mail-io1-f99.google.com with SMTP id ca18e2360f4ac-87c017978e6so28852939f.1 for ; Wed, 23 Jul 2025 05:43:17 -0700 (PDT) DKIM-Signature: v=1; a=rsa-sha256; c=relaxed/relaxed; d=iol.unh.edu; s=unh-iol; t=1753274597; x=1753879397; darn=dpdk.org; h=references:in-reply-to:cc:to:from:subject:message-id:date:from:to :cc:subject:date:message-id:reply-to; bh=MU5b3rH/zBxqZXe7MMM3pnkeLFfIZE4CF7SBvJ8TX/s=; b=jhbcRc+pG1S9wToYsvohqUwC5DCTIm/u8bnYa3qJd15NxiUof3zmBq+84vqOMaPDCo NgkYu61mWwbZM562mUf9HYawjNhI0VnISrr4D3Kw+r0Q9X2i25Iqtx6hI/Y6xpOBd8As F4djmnpn8RYfxLuMI+L3wlmJWNW/1nfN83i0I= X-Google-DKIM-Signature: v=1; a=rsa-sha256; c=relaxed/relaxed; d=1e100.net; s=20230601; t=1753274597; x=1753879397; h=references:in-reply-to:cc:to:from:subject:message-id:date :x-gm-message-state:from:to:cc:subject:date:message-id:reply-to; bh=MU5b3rH/zBxqZXe7MMM3pnkeLFfIZE4CF7SBvJ8TX/s=; b=aCg2EJ0GzLF2CLoH2095pBSuYTAKmqECUog/g/NK6k5ykRUwZ3qocHG8f3ZeXqy3/K +QtPsrNGXuFG4LFvfqepDPmlvZJYJI0F610WxInAsa/oqq8UCeKp07OOqDQP6C4p9ml/ rCoBGtgR+tbA8zdGPZocgx4PTAVWZ05inmHkgF99TG/FZTJFyJZEMYDW9A3RTsviMBdP t6w7m+WfExiiM1z8s304dWTh0hzzPEer9g0tmj19IoIIIns3KTGjehqtMy1neV/6yjZY hrFDfd72jEkP2Vw3PrbjVLBqGCG8wyV+zl8bk50faqGDHs6sc3zEHwQhaQffNn82tHzc QbTQ== X-Gm-Message-State: AOJu0YzqaE4QCHicKzDNqQWVXrqzScdUyu1AGvnq2r1DWg8pxGLVF/QH BzJV0psa50aBk8WJ2HqPEG0w/rnER+EbLKXyMgmQdD46ljTsUn6MZBq0bMkw/H3ih4SuwUNjkho dvD6Z9SyTZUdXuYbPapYu73qMYOz5tf7ZegUB2LYqwMolDfVaX79vdQxYUY15 X-Gm-Gg: ASbGncus6ag7WfpM8+8cslCmtpR7NhqLSdeKMDp+PAdjijLemz7MmdZ3H5DJKyGmXFW JFlkiDfqCmfXMXV87KWS6VjgHssRFXgl+9wT7qDRQFDCqC/cbmBgoNS/10/LV40BgLHv6Q3k4sJ JKzCn2q4RED8gXSGg0aow9+pTYQtVr/AbMX5Lb5umlxR8Utrb7bMJELmgtZdyEyFg1cItv1JRj7 J7pIbJhEDenrTiCWjfhHs7GwUNmoKUclWB7MiQsqftNfKzhKfgqXn7MbzVSoFKquAsgPz1qxEEU nd6mvJ95cNl0fV9iNTy1T1eyuTZEfLiOaGkZv2GOn9T1DDYTBg== X-Google-Smtp-Source: AGHT+IHkcKhTDhxK/d8TIwxNxyV4ghgYFcF52cIygKcrdacrqy1kz16WuJ1RIVL8ObQwYCiiSQoXWheo83G4 X-Received: by 2002:a05:6602:19d4:b0:858:7b72:ec89 with SMTP id ca18e2360f4ac-87c538c80damr1120163239f.5.1753274597135; Wed, 23 Jul 2025 05:43:17 -0700 (PDT) Received: from postal.iol.unh.edu (postal.iol.unh.edu. [2606:4100:3880:1234::84]) by smtp-relay.gmail.com with ESMTPS id 8926c6da1cb9f-5084c8f4be1sm580223173.42.2025.07.23.05.43.17 (version=TLS1_2 cipher=ECDHE-ECDSA-AES128-GCM-SHA256 bits=128/128); Wed, 23 Jul 2025 05:43:17 -0700 (PDT) X-Relaying-Domain: iol.unh.edu Date: Wed, 23 Jul 2025 05:43:17 -0700 (PDT) Message-ID: <6880d8e5.050a0220.14fff7.ecc5SMTPIN_ADDED_MISSING@mx.google.com> Received: from [172.21.0.2] (unknown [172.18.0.240]) by postal.iol.unh.edu (Postfix) with ESMTP id A20986050A61; Wed, 23 Jul 2025 08:43:16 -0400 (EDT) Subject: |SUCCESS| pw155447-155454 [PATCH] [v9,8/8] lib/pmu: fix out-of-bound From: dpdklab@iol.unh.edu To: Test Report Cc: dpdk-test-reports@iol.unh.edu In-Reply-To: <20250723044118.2962318-9-tduszynski@marvell.com> References: <20250723044118.2962318-9-tduszynski@marvell.com> Content-Type: text/plain X-BeenThere: test-report@dpdk.org X-Mailman-Version: 2.1.29 Precedence: list List-Id: automatic DPDK test reports List-Unsubscribe: , List-Archive: List-Post: List-Help: List-Subscribe: , Errors-To: test-report-bounces@dpdk.org Test-Label: iol-abi-testing Test-Status: SUCCESS http://dpdk.org/patch/155454 _Testing PASS_ Submitter: Tomasz Duszynski Date: Wednesday, July 23 2025 04:41:18 DPDK git baseline: Repo:dpdk Branch: master CommitID:b222395561638f89562e4ef42e1eabf2d6db43dd 155447-155454 --> testing pass Upstream job id: Generic-DPDK-Compile-ABI#135446 Test environment and result as below: +-------------------------------+----------+ | Environment | abi_test | +===============================+==========+ | CentOS Stream 9 | PASS | +-------------------------------+----------+ | CentOS Stream 10 | PASS | +-------------------------------+----------+ | Debian GNU/Linux 12 | PASS | +-------------------------------+----------+ | Fedora Linux 40 | PASS | +-------------------------------+----------+ | Fedora Linux 41 | PASS | +-------------------------------+----------+ | Red Hat Enterprise Linux 8.10 | PASS | +-------------------------------+----------+ | Ubuntu 22.04 | PASS | +-------------------------------+----------+ | Red Hat Enterprise Linux 9.5 | PASS | +-------------------------------+----------+ | Ubuntu 24.04 | PASS | +-------------------------------+----------+ | openSUSE Leap 15.6 | PASS | +-------------------------------+----------+ CentOS Stream 9 Kernel: 5.15 Compiler: gcc gcc (GCC) 11.5.0 20240719 (Red Hat 11.5.0-7) CentOS Stream 10 Kernel: 5.15 Compiler: gcc gcc (GCC) 14.2.1 20250110 (Red Hat 14.2.1-8) Debian GNU/Linux 12 Kernel: 5.15 Compiler: gcc gcc (Debian 12.2.0-14+deb12u1) 12.2.0 Fedora Linux 40 Kernel: 5.15 Compiler: clang gcc (GCC) 14.2.1 20240912 (Red Hat 14.2.1-3) Fedora Linux 41 Kernel: 5.15 Compiler: clang gcc (GCC) 14.3.1 20250523 (Red Hat 14.3.1-1) Red Hat Enterprise Linux 8.10 Kernel: 5.15 Compiler: gcc gcc (GCC) 8.5.0 20210514 (Red Hat 8.5.0-22) Ubuntu 22.04 Kernel: 5.15 Compiler: gcc gcc (Ubuntu 11.4.0-1ubuntu1~22.04) 11.4.0 Red Hat Enterprise Linux 9.5 Kernel: 5.15 Compiler: gcc gcc (GCC) 11.5.0 20240719 (Red Hat 11.5.0-2) Ubuntu 24.04 Kernel: 5.15 Compiler: gcc gcc (Ubuntu 13.3.0-6ubuntu2~24.04) 13.3.0 openSUSE Leap 15.6 Kernel: 5.15 Compiler: gcc gcc (SUSE Linux) 7.5.0 To view detailed results, visit: https://lab.dpdk.org/results/dashboard/patchsets/33732/ UNH-IOL DPDK Community Lab To manage your email subscriptions, visit: https://lab.dpdk.org/results/dashboard/preferences/subscriptions/