From mboxrd@z Thu Jan 1 00:00:00 1970 Return-Path: Received: from mails.dpdk.org (mails.dpdk.org [217.70.189.124]) by inbox.dpdk.org (Postfix) with ESMTP id 885AF46BF1 for ; Wed, 23 Jul 2025 14:44:16 +0200 (CEST) Received: from mails.dpdk.org (localhost [127.0.0.1]) by mails.dpdk.org (Postfix) with ESMTP id 7FC2C402E1; Wed, 23 Jul 2025 14:44:16 +0200 (CEST) Received: from mail-pl1-f228.google.com (mail-pl1-f228.google.com [209.85.214.228]) by mails.dpdk.org (Postfix) with ESMTP id 9248D402E1 for ; Wed, 23 Jul 2025 14:44:15 +0200 (CEST) Received: by mail-pl1-f228.google.com with SMTP id d9443c01a7336-235f9e87f78so62840775ad.2 for ; Wed, 23 Jul 2025 05:44:15 -0700 (PDT) DKIM-Signature: v=1; a=rsa-sha256; c=relaxed/relaxed; d=iol.unh.edu; s=unh-iol; t=1753274655; x=1753879455; darn=dpdk.org; h=references:in-reply-to:cc:to:from:subject:message-id:date:from:to :cc:subject:date:message-id:reply-to; bh=0QjamuxXnlvJak1P816F2nZxwcLN9yrj4z5jzwFVHe8=; b=YfdUemxsbE1cwU+CIMTCVKR2bzEcdBiaX/FgnrNkx15PFLQq83aHGNbOFg5kkE+w6S IAFIZlSc0RleGDph4FUwHlvmF6tuha6AGNWqq0TpcEilILBjtskjuCjYYW6og2ofbtfw Wd4u0Rseobn7IW7dKCI1cmVcnml2n0PgTp9B4= X-Google-DKIM-Signature: v=1; a=rsa-sha256; c=relaxed/relaxed; d=1e100.net; s=20230601; t=1753274655; x=1753879455; h=references:in-reply-to:cc:to:from:subject:message-id:date :x-gm-message-state:from:to:cc:subject:date:message-id:reply-to; bh=0QjamuxXnlvJak1P816F2nZxwcLN9yrj4z5jzwFVHe8=; b=XU2nHEP77kUM901+/2q4PxjUsw/tEKTj3skgmx21QDNBwNwYiGTSAj7b2mRkU+75ms gzuCibkboCDKuxoVTnDJhmEePcgb1SkmyeW7MGfs0U2T1EGJE5veiJRBDyOmw7/1kpgv MI4AdjvrffS9qrHt5uAfqOn9BH7zu06vt2ZPexya7pm3kRTNdTcmlOKtoj1hg767Yutc A9htesHGl2w42/gx4LDPHWoVkuXFywgfLuqAP7Eq47MPKOHtwpxV015s5xH7RkBqnAhI iyRZFqNFrYuQzcfd91xdra8zE57qJ/ingu1ZVJumV2BVj2MO6MKqsPWF6YBGawbNvngT yZ+w== X-Gm-Message-State: AOJu0Yx0tPnlPkdoMAGfF1pH2uym2H8VM2jmwN3izeM2J6Q8Qgz7tv2w C2JjuDNo5FvncRHSwZaTwycxAnMId2Chul4drllyZcOkKs28PJzTvEhX1S0cnFiZob6BaA+002+ W/nHNBaKtEXs9ZFhUCRNSybfeKvaGJcJBlKgVWHwpvvZ7 X-Gm-Gg: ASbGnctlq1l2uPEcNyd6vsGiIQISpJ260d308fqAtQUPS5NQqDv6flPj3BVnWFw0vcw 9ukTttcf3iA/VYvbVAz1GRZZe4f4L07PHgHBtb9hT+uFKbyRAl6Mv4SOPtvNdaivrLMunb6jOFP dWePPpVO2Skpc7nobzg9acpq1m0ZaarggPioplbz7ZM2p4waZLGm+YWRrDxyOrPruAkM9kKVOSd ZUbNzSUYrmT6iuUOOdJbbnUZiucl8CVsIsWjs3LuMOZy6OAbhBxpCIz7SBRxXkCVswzC1VTVvMl 22nKTcZ+mi5IJekQH9xTX/FiPNg075E5L9mopSVsIXnaYwpe2Jw6OZV66Cb+hdx6OCZhpqdO X-Google-Smtp-Source: AGHT+IHUGTUFUTa4WnuRzGz/60XJkohdro7kxyvmtdwm1xtrpy62Jm9fYTTiDlmRxZNXQ6/pEuS7PPccLepH X-Received: by 2002:a17:903:2f0f:b0:234:eb6:a35d with SMTP id d9443c01a7336-23f981a27ecmr41477775ad.27.1753274654752; Wed, 23 Jul 2025 05:44:14 -0700 (PDT) Received: from postal.iol.unh.edu (postal.iol.unh.edu. [132.177.123.84]) by smtp-relay.gmail.com with ESMTPS id d9443c01a7336-23e3b61ebe4sm7008275ad.43.2025.07.23.05.44.14 (version=TLS1_2 cipher=ECDHE-ECDSA-AES128-GCM-SHA256 bits=128/128); Wed, 23 Jul 2025 05:44:14 -0700 (PDT) X-Relaying-Domain: iol.unh.edu Date: Wed, 23 Jul 2025 05:44:14 -0700 (PDT) Message-ID: <6880d91e.170a0220.32de68.4604SMTPIN_ADDED_MISSING@mx.google.com> Received: from [172.21.0.5] (unknown [172.18.0.240]) by postal.iol.unh.edu (Postfix) with ESMTP id 3D6306050A61; Wed, 23 Jul 2025 08:44:14 -0400 (EDT) Subject: |SUCCESS| pw155447-155454 [PATCH] [v9,8/8] lib/pmu: fix out-of-bound From: dpdklab@iol.unh.edu To: Test Report Cc: dpdk-test-reports@iol.unh.edu In-Reply-To: <20250723044118.2962318-9-tduszynski@marvell.com> References: <20250723044118.2962318-9-tduszynski@marvell.com> Content-Type: text/plain X-BeenThere: test-report@dpdk.org X-Mailman-Version: 2.1.29 Precedence: list List-Id: automatic DPDK test reports List-Unsubscribe: , List-Archive: List-Post: List-Help: List-Subscribe: , Errors-To: test-report-bounces@dpdk.org Test-Label: iol-abi-testing Test-Status: SUCCESS http://dpdk.org/patch/155454 _Testing PASS_ Submitter: Tomasz Duszynski Date: Wednesday, July 23 2025 04:41:18 DPDK git baseline: Repo:dpdk Branch: master CommitID:b222395561638f89562e4ef42e1eabf2d6db43dd 155447-155454 --> testing pass Upstream job id: Generic-DPDK-Compile-ABI#135447 Test environment and result as below: +-------------------------------+----------+ | Environment | abi_test | +===============================+==========+ | CentOS Stream 9 | PASS | +-------------------------------+----------+ | CentOS Stream 10 | PASS | +-------------------------------+----------+ | Debian GNU/Linux 12 | PASS | +-------------------------------+----------+ | Fedora Linux 40 | PASS | +-------------------------------+----------+ | Fedora Linux 41 | PASS | +-------------------------------+----------+ | Red Hat Enterprise Linux 8.10 | PASS | +-------------------------------+----------+ | Ubuntu 22.04 | PASS | +-------------------------------+----------+ | Red Hat Enterprise Linux 9.5 | PASS | +-------------------------------+----------+ | Ubuntu 24.04 | PASS | +-------------------------------+----------+ | openSUSE Leap 15.6 | PASS | +-------------------------------+----------+ CentOS Stream 9 Kernel: 5.15 Compiler: gcc gcc (GCC) 11.5.0 20240719 (Red Hat 11.5.0-7) CentOS Stream 10 Kernel: 5.15 Compiler: gcc gcc (GCC) 14.2.1 20250110 (Red Hat 14.2.1-8) Debian GNU/Linux 12 Kernel: 5.15 Compiler: gcc gcc (Debian 12.2.0-14+deb12u1) 12.2.0 Fedora Linux 40 Kernel: 5.15 Compiler: clang gcc (GCC) 14.2.1 20240912 (Red Hat 14.2.1-3) Fedora Linux 41 Kernel: 5.15 Compiler: clang gcc (GCC) 14.3.1 20250523 (Red Hat 14.3.1-1) Red Hat Enterprise Linux 8.10 Kernel: 5.15 Compiler: gcc gcc (GCC) 8.5.0 20210514 (Red Hat 8.5.0-22) Ubuntu 22.04 Kernel: 5.15 Compiler: gcc gcc (Ubuntu 11.4.0-1ubuntu1~22.04) 11.4.0 Red Hat Enterprise Linux 9.5 Kernel: 5.15 Compiler: gcc gcc (GCC) 11.5.0 20240719 (Red Hat 11.5.0-2) Ubuntu 24.04 Kernel: 5.15 Compiler: gcc gcc (Ubuntu 13.3.0-6ubuntu2~24.04) 13.3.0 openSUSE Leap 15.6 Kernel: 5.15 Compiler: gcc gcc (SUSE Linux) 7.5.0 To view detailed results, visit: https://lab.dpdk.org/results/dashboard/patchsets/33732/ UNH-IOL DPDK Community Lab To manage your email subscriptions, visit: https://lab.dpdk.org/results/dashboard/preferences/subscriptions/