From mboxrd@z Thu Jan 1 00:00:00 1970 Return-Path: Received: from mails.dpdk.org (mails.dpdk.org [217.70.189.124]) by inbox.dpdk.org (Postfix) with ESMTP id 62B4146BF1 for ; Wed, 23 Jul 2025 14:45:14 +0200 (CEST) Received: from mails.dpdk.org (localhost [127.0.0.1]) by mails.dpdk.org (Postfix) with ESMTP id 5F11D402E7; Wed, 23 Jul 2025 14:45:14 +0200 (CEST) Received: from mail-pl1-f225.google.com (mail-pl1-f225.google.com [209.85.214.225]) by mails.dpdk.org (Postfix) with ESMTP id 9054D402E7 for ; Wed, 23 Jul 2025 14:45:12 +0200 (CEST) Received: by mail-pl1-f225.google.com with SMTP id d9443c01a7336-234f17910d8so60143965ad.3 for ; Wed, 23 Jul 2025 05:45:12 -0700 (PDT) DKIM-Signature: v=1; a=rsa-sha256; c=relaxed/relaxed; d=iol.unh.edu; s=unh-iol; t=1753274712; x=1753879512; darn=dpdk.org; h=references:in-reply-to:cc:to:from:subject:message-id:date:from:to :cc:subject:date:message-id:reply-to; bh=ja/JK8fUKrQDxMStcH5z2MJtmRcmlkCq3AfM9fkyXeA=; b=TTWNjrXn48aB5HvXCQZgMt8IcPA0nXX+log0Mxw5zjrBUWmWFpwm33R9I3R7cWvw3H dMfz1x+uPQlxUiXAUtSq5qeMe4o2HK7dVt8a+VaC+QgIjZAQ6H28+E7Pwpmx5XTsREV6 h7gt4/vFQd1L40Ys8/z6jx/UtYl2jTQIIoUQA= X-Google-DKIM-Signature: v=1; a=rsa-sha256; c=relaxed/relaxed; d=1e100.net; s=20230601; t=1753274712; x=1753879512; h=references:in-reply-to:cc:to:from:subject:message-id:date :x-gm-message-state:from:to:cc:subject:date:message-id:reply-to; bh=ja/JK8fUKrQDxMStcH5z2MJtmRcmlkCq3AfM9fkyXeA=; b=Aeh9RIEd+UAGhCII7c5uWP4hrckYjJTYj8Y65zySyE/NSOFUZuLkr7SRWq8gnQfotC geC19gChgV7kNsc13PkC0Qvwo3p4YHoR0R4eNrlpGucwcjHn0f6WR089Kr9ol2F6Hsvw PXNfuEDfhWyOsTXnZ9dgJK8DQBUBWDBLHrFnQtxpBY25e5Qo6EuwQHZeOf1pqhj7OSNG LjIqyGIwb3s9peIummJb0XnFDqRKUli97RTLNQO+pBpH8SyRNjVU3TMwQht4atxg5WVY TkDaKUCHpzls+xy/Ri3xl7XVDuM8c5OVXdGYJyTFw/C+kmp7+S9smMWVhvMqGs2ltJ68 hLtA== X-Gm-Message-State: AOJu0Yx6uyqrEIeQ8hfOv5oQmRW7v03bmgMr7MJT/BhfstqUM2L/FcAW jl3L0bQsk9Ztnuuu2NeGVu6YRG70AHzNb5oRtL1IaXGUgXXIN4UnZG5s8RuN22nBk/4U4MGpbn0 mFrTKPsTPg5lnrc76chf0RNY3TrPsQ51N0XGQAgnTozaH5i2yfaNcA9Ro8Odt X-Gm-Gg: ASbGncvrSz4plR4XSawUjKIoSWpromQuu+HJH3D+ES9TUnCQ1O1uqczU6PMl8stVpKj fXldRWNKiEUhytZZR9o9I2GLD9nNuZIGUDvzBBw6Kgb8i8IY6Y7cvji2o7hDGmQulUs++CVHcOY dfQ0Um1j09hjMp+6SJsDlByuKIiT2x07OWm6oUC5tr/ZCDcxn56ADblOR98byEU7GKsipt0A1Jd uIkiXnqzLFDpe2AJWIN2AYgUGAkKaspRGeAjEzEEg9Zv+rdOSAP/16k9J0CDcLdrI89HaIKCRtK ZjYPPfFbocjr5SMXzmGwRpR9VeQGEtnxkVkGXTqhELpm6aPOdQ== X-Google-Smtp-Source: AGHT+IFVPBOTkdo14kEKaWUqLcA8O/m4mR8fJv9VkIDncCRihqBQsXSEVTc8VU1qwiXfGKl89+68RCy24rwi X-Received: by 2002:a17:902:dcc5:b0:23f:9a4d:2764 with SMTP id d9443c01a7336-23f9a4d28bbmr20213935ad.30.1753274711808; Wed, 23 Jul 2025 05:45:11 -0700 (PDT) Received: from postal.iol.unh.edu (postal.iol.unh.edu. [2606:4100:3880:1234::84]) by smtp-relay.gmail.com with ESMTPS id d9443c01a7336-23e3b61e6f1sm7285015ad.33.2025.07.23.05.45.11 (version=TLS1_2 cipher=ECDHE-ECDSA-AES128-GCM-SHA256 bits=128/128); Wed, 23 Jul 2025 05:45:11 -0700 (PDT) X-Relaying-Domain: iol.unh.edu Date: Wed, 23 Jul 2025 05:45:11 -0700 (PDT) Message-ID: <6880d957.170a0220.20a01f.6b09SMTPIN_ADDED_MISSING@mx.google.com> Received: from [172.21.0.2] (unknown [172.18.0.240]) by postal.iol.unh.edu (Postfix) with ESMTP id 38463604D420; Wed, 23 Jul 2025 08:45:11 -0400 (EDT) Subject: |SUCCESS| pw155447-155454 [PATCH] [v9,8/8] lib/pmu: fix out-of-bound From: dpdklab@iol.unh.edu To: Test Report Cc: dpdk-test-reports@iol.unh.edu In-Reply-To: <20250723044118.2962318-9-tduszynski@marvell.com> References: <20250723044118.2962318-9-tduszynski@marvell.com> Content-Type: text/plain X-BeenThere: test-report@dpdk.org X-Mailman-Version: 2.1.29 Precedence: list List-Id: automatic DPDK test reports List-Unsubscribe: , List-Archive: List-Post: List-Help: List-Subscribe: , Errors-To: test-report-bounces@dpdk.org Test-Label: iol-abi-testing Test-Status: SUCCESS http://dpdk.org/patch/155454 _Testing PASS_ Submitter: Tomasz Duszynski Date: Wednesday, July 23 2025 04:41:18 DPDK git baseline: Repo:dpdk Branch: master CommitID:b222395561638f89562e4ef42e1eabf2d6db43dd 155447-155454 --> testing pass Upstream job id: Generic-DPDK-Compile-ABI#135445 Test environment and result as below: +-------------------------------+----------+ | Environment | abi_test | +===============================+==========+ | CentOS Stream 9 | PASS | +-------------------------------+----------+ | CentOS Stream 10 | PASS | +-------------------------------+----------+ | Debian GNU/Linux 12 | PASS | +-------------------------------+----------+ | Fedora Linux 40 | PASS | +-------------------------------+----------+ | Fedora Linux 41 | PASS | +-------------------------------+----------+ | Red Hat Enterprise Linux 8.10 | PASS | +-------------------------------+----------+ | Ubuntu 22.04 | PASS | +-------------------------------+----------+ | Red Hat Enterprise Linux 9.5 | PASS | +-------------------------------+----------+ | Ubuntu 24.04 | PASS | +-------------------------------+----------+ | openSUSE Leap 15.6 | PASS | +-------------------------------+----------+ CentOS Stream 9 Kernel: 5.15 Compiler: gcc gcc (GCC) 11.5.0 20240719 (Red Hat 11.5.0-7) CentOS Stream 10 Kernel: 5.15 Compiler: gcc gcc (GCC) 14.2.1 20250110 (Red Hat 14.2.1-8) Debian GNU/Linux 12 Kernel: 5.15 Compiler: gcc gcc (Debian 12.2.0-14+deb12u1) 12.2.0 Fedora Linux 40 Kernel: 5.15 Compiler: clang gcc (GCC) 14.2.1 20240912 (Red Hat 14.2.1-3) Fedora Linux 41 Kernel: 5.15 Compiler: clang gcc (GCC) 14.3.1 20250523 (Red Hat 14.3.1-1) Red Hat Enterprise Linux 8.10 Kernel: 5.15 Compiler: gcc gcc (GCC) 8.5.0 20210514 (Red Hat 8.5.0-22) Ubuntu 22.04 Kernel: 5.15 Compiler: gcc gcc (Ubuntu 11.4.0-1ubuntu1~22.04) 11.4.0 Red Hat Enterprise Linux 9.5 Kernel: 5.15 Compiler: gcc gcc (GCC) 11.5.0 20240719 (Red Hat 11.5.0-2) Ubuntu 24.04 Kernel: 5.15 Compiler: gcc gcc (Ubuntu 13.3.0-6ubuntu2~24.04) 13.3.0 openSUSE Leap 15.6 Kernel: 5.15 Compiler: gcc gcc (SUSE Linux) 7.5.0 To view detailed results, visit: https://lab.dpdk.org/results/dashboard/patchsets/33732/ UNH-IOL DPDK Community Lab To manage your email subscriptions, visit: https://lab.dpdk.org/results/dashboard/preferences/subscriptions/