From mboxrd@z Thu Jan 1 00:00:00 1970 Return-Path: Received: from mails.dpdk.org (mails.dpdk.org [217.70.189.124]) by inbox.dpdk.org (Postfix) with ESMTP id C957746BF1 for ; Wed, 23 Jul 2025 14:48:37 +0200 (CEST) Received: from mails.dpdk.org (localhost [127.0.0.1]) by mails.dpdk.org (Postfix) with ESMTP id C578540B98; Wed, 23 Jul 2025 14:48:37 +0200 (CEST) Received: from mail-io1-f100.google.com (mail-io1-f100.google.com [209.85.166.100]) by mails.dpdk.org (Postfix) with ESMTP id DEDD840B98 for ; Wed, 23 Jul 2025 14:48:35 +0200 (CEST) Received: by mail-io1-f100.google.com with SMTP id ca18e2360f4ac-87c0166df31so448584039f.3 for ; Wed, 23 Jul 2025 05:48:35 -0700 (PDT) DKIM-Signature: v=1; a=rsa-sha256; c=relaxed/relaxed; d=iol.unh.edu; s=unh-iol; t=1753274915; x=1753879715; darn=dpdk.org; h=references:in-reply-to:cc:to:from:subject:message-id:date:from:to :cc:subject:date:message-id:reply-to; bh=fgISS53HKz9qbQKrjNbHzXwl05iYVmFZfJ2nnzFnBV4=; b=XfmtGE1gXKmkYuvGypyAGK8Lc9u3eNgsUvpDMsCwdKMiDKh9OqGEA/O3B1MEF4fbO7 9ElVcQ9upH0qjNqlFeB+nfHdrmW6jWPPylrCjdzc+cRmtGGPB5kyk01r/CdbW3w/Yb/D ovCJX6cjT5BOXSy0u/nV+qtrkXegt5dLvbfH4= X-Google-DKIM-Signature: v=1; a=rsa-sha256; c=relaxed/relaxed; d=1e100.net; s=20230601; t=1753274915; x=1753879715; h=references:in-reply-to:cc:to:from:subject:message-id:date :x-gm-message-state:from:to:cc:subject:date:message-id:reply-to; bh=fgISS53HKz9qbQKrjNbHzXwl05iYVmFZfJ2nnzFnBV4=; b=HDRrYqYvBlAhCrFgX8T7OgMHDmsf3ZAdKsnKNxCbZkFjlDAHHvgqQanYFoSdLu/koH uKYHHsz+1XaaQBFjRCK9Z9xOURv34tyugQCXpMUUAi39OjY5bSYtXJKhvgE3DfD9jGsx bNEKGrgWSymSZ5647c8+ep0+wgIWnlC7L+p7AEFDjPc/tUMY2Qp8mHNphFy6qbGtHAFM NGMKrtHeF2dYCxrJkM6b88Q8D/z5fbNastrS7XNa4MZj66BmAeFOWwn1EhHdWqQYMsXS FWQBiyZNYGxCjaU+UAUhmJXviRLlE2V51j+ZIYdPCqnUd1H6T9GFtA9JXlcT8lhDMuKr XC7w== X-Gm-Message-State: AOJu0Yy08QlG/iLXg0cY8lueONNXLOiY/p56B6lJIol2np48+kAHGo0o rEhTJPMml+GPFII+UC/usbT3ZmdV7sqDQiEflTNYBr16pzZKqNoWruoa3AYeiOG7cBCd9+oipYu JCCQpwHlC54ZfCE90LZp2/RHUrTnmkozRoTCOKmJiRYTzmMGDA7LpOOyphIWP X-Gm-Gg: ASbGnct2O8NE+ozuMn7TvgM+56R1t1ozTWfIrNb84QrKgXZCFmgKTLBgyU5Cgm2Jtvv t3l5qo95+PnReoTUCl/cYtJRavX2bgfNBbcdpQXUszGNZwTol4mVXpZtLRJ3zqPbDm2bFN01HUa 7tzmXoJrz8RVKbuLop6I9STFQsvEOYFB/X8+JWfutuKmtI7E1rvMCtH8hDuekPk/Y8NQG1r0CkG dOn/h7JuRpDwXUSPbQWrSwR47FWFjB373nTo0Ceho03m3y11GparIHySnJHs0vUPpEYchY7eHSn fLxzjz0pEmBD8+ylED2BMzyqPDMbehXfOx7X5x840SFE+Vfi6Q== X-Google-Smtp-Source: AGHT+IGiLCNmC36hhiBRPkigzov8ahjBTeVn6raTDiLkRA2LhhrhyVeKX/5kBZEglRGJhha/1e98Gb+Prfwa X-Received: by 2002:a92:c263:0:b0:3e3:a35f:a1b2 with SMTP id e9e14a558f8ab-3e3a35fa320mr34337525ab.8.1753274915253; Wed, 23 Jul 2025 05:48:35 -0700 (PDT) Received: from postal.iol.unh.edu (postal.iol.unh.edu. [2606:4100:3880:1234::84]) by smtp-relay.gmail.com with ESMTPS id e9e14a558f8ab-3e298204e3bsm7435325ab.11.2025.07.23.05.48.35 (version=TLS1_2 cipher=ECDHE-ECDSA-AES128-GCM-SHA256 bits=128/128); Wed, 23 Jul 2025 05:48:35 -0700 (PDT) X-Relaying-Domain: iol.unh.edu Date: Wed, 23 Jul 2025 05:48:35 -0700 (PDT) Message-ID: <6880da23.050a0220.2f35a2.6abaSMTPIN_ADDED_MISSING@mx.google.com> Received: from [172.21.0.3] (unknown [172.18.0.240]) by postal.iol.unh.edu (Postfix) with ESMTP id C6F25604D420; Wed, 23 Jul 2025 08:48:34 -0400 (EDT) Subject: |SUCCESS| pw155456 [PATCH] net/mlx5: fix ipool memory leak From: dpdklab@iol.unh.edu To: Test Report Cc: dpdk-test-reports@iol.unh.edu In-Reply-To: <20250723064923.1805575-1-rongweil@nvidia.com> References: <20250723064923.1805575-1-rongweil@nvidia.com> Content-Type: text/plain X-BeenThere: test-report@dpdk.org X-Mailman-Version: 2.1.29 Precedence: list List-Id: automatic DPDK test reports List-Unsubscribe: , List-Archive: List-Post: List-Help: List-Subscribe: , Errors-To: test-report-bounces@dpdk.org Test-Label: iol-unit-amd64-testing Test-Status: SUCCESS http://dpdk.org/patch/155456 _Testing PASS_ Submitter: Rongwei Liu Date: Wednesday, July 23 2025 06:49:22 DPDK git baseline: Repo:dpdk Branch: master CommitID:b222395561638f89562e4ef42e1eabf2d6db43dd 155456 --> testing pass Upstream job id: Generic-VM-Unit-Test-DPDK#30129 Test environment and result as below: +-------------------------------+----------------+ | Environment | dpdk_unit_test | +===============================+================+ | Fedora Linux 41 | PASS | +-------------------------------+----------------+ | Red Hat Enterprise Linux 9.5 | PASS | +-------------------------------+----------------+ | Ubuntu 24.04 | PASS | +-------------------------------+----------------+ | Fedora Linux 40 | PASS | +-------------------------------+----------------+ | CentOS Stream 10 | PASS | +-------------------------------+----------------+ | Red Hat Enterprise Linux 8.10 | PASS | +-------------------------------+----------------+ | CentOS Stream 9 | PASS | +-------------------------------+----------------+ | Debian GNU/Linux 12 | PASS | +-------------------------------+----------------+ | Ubuntu 20.04 | PASS | +-------------------------------+----------------+ | Ubuntu 22.04 | PASS | +-------------------------------+----------------+ | Windows Server 2022 | PASS | +-------------------------------+----------------+ Fedora Linux 41 Kernel: 5.15 Compiler: gcc gcc (GCC) 14.3.1 20250523 (Red Hat 14.3.1-1) Red Hat Enterprise Linux 9.5 Kernel: 5.15 Compiler: gcc gcc (GCC) 11.5.0 20240719 (Red Hat 11.5.0-2) Ubuntu 24.04 Kernel: 5.15 Compiler: gcc gcc (Ubuntu 13.3.0-6ubuntu2~24.04) 13.3.0 Fedora Linux 40 Kernel: 5.15 Compiler: gcc gcc (GCC) 14.2.1 20240912 (Red Hat 14.2.1-3) CentOS Stream 10 Kernel: 5.15 Compiler: gcc gcc (GCC) 14.2.1 20250110 (Red Hat 14.2.1-8) Red Hat Enterprise Linux 8.10 Kernel: 5.15 Compiler: gcc gcc (GCC) 8.5.0 20210514 (Red Hat 8.5.0-22) CentOS Stream 9 Kernel: 5.15 Compiler: gcc gcc (GCC) 11.5.0 20240719 (Red Hat 11.5.0-7) Debian GNU/Linux 12 Kernel: 5.15 Compiler: gcc gcc (Debian 12.2.0-14+deb12u1) 12.2.0 Ubuntu 20.04 Kernel: 5.15 Compiler: gcc gcc (Ubuntu 9.4.0-1ubuntu1~20.04.2) 9.4.0 Ubuntu 22.04 Kernel: 5.15 Compiler: gcc gcc (Ubuntu 11.4.0-1ubuntu1~22.04) 11.4.0 Windows Server 2022 Kernel: 10.0.20348.2031 Compiler: clang 15.0.7, gcc 14.1.0 (MinGW), and MSVC VS 19.39.33521 To view detailed results, visit: https://lab.dpdk.org/results/dashboard/patchsets/33734/ UNH-IOL DPDK Community Lab To manage your email subscriptions, visit: https://lab.dpdk.org/results/dashboard/preferences/subscriptions/