From mboxrd@z Thu Jan 1 00:00:00 1970 Return-Path: Received: from mails.dpdk.org (mails.dpdk.org [217.70.189.124]) by inbox.dpdk.org (Postfix) with ESMTP id 6638446BF1 for ; Wed, 23 Jul 2025 15:05:00 +0200 (CEST) Received: from mails.dpdk.org (localhost [127.0.0.1]) by mails.dpdk.org (Postfix) with ESMTP id 6093940B98; Wed, 23 Jul 2025 15:05:00 +0200 (CEST) Received: from mail-yb1-f225.google.com (mail-yb1-f225.google.com [209.85.219.225]) by mails.dpdk.org (Postfix) with ESMTP id 231C740B98 for ; Wed, 23 Jul 2025 15:05:00 +0200 (CEST) Received: by mail-yb1-f225.google.com with SMTP id 3f1490d57ef6-e8d157c946eso6365961276.2 for ; Wed, 23 Jul 2025 06:05:00 -0700 (PDT) DKIM-Signature: v=1; a=rsa-sha256; c=relaxed/relaxed; d=iol.unh.edu; s=unh-iol; t=1753275899; x=1753880699; darn=dpdk.org; h=references:in-reply-to:cc:to:from:subject:message-id:date:from:to :cc:subject:date:message-id:reply-to; bh=VJS4Crrk7V+WXjpdL8SCOlY7P8Th/85pOvyaen44TG8=; b=cqipUwObPJoATdwhcLzNE3CqBsZL7dv3Q18tVM8YWAtXRiFdkgWg9A+Z05vinpR7Df M1cSJHk40rr2NiVfxaSMhsHWHntNAgpBBeEOIzmwS4zwmWVtZ95tDx1k59NplD1hWOM/ dl2e7QL4UJiPt4o9EvrgNpVaPQdG5rRrrf8U0= X-Google-DKIM-Signature: v=1; a=rsa-sha256; c=relaxed/relaxed; d=1e100.net; s=20230601; t=1753275899; x=1753880699; h=references:in-reply-to:cc:to:from:subject:message-id:date :x-gm-message-state:from:to:cc:subject:date:message-id:reply-to; bh=VJS4Crrk7V+WXjpdL8SCOlY7P8Th/85pOvyaen44TG8=; b=ltxC1SeCLYLjoy+GUmjMzPjR9+o5c9Uus+GruP/NRLysorSFwsQZZnb4+gdzkLhc95 eGDr/6R9zo0KN2RkrYtDW7pT6J4hm7cSHJMcPiHzAlTtJ8IU9mgKRkZWcWdB2wBzplo3 V9VoxwS68pTeGLHOKy+2W8wGWpuf5gD3C0/g/N3PhE0dW2B/7AWSoa7carQVk8ERR5Ze v8kcg7ULL6h2pj4Xsesuc4gH+3+HEBV4qc3yKH/BjfOcZyPbjHg9XH8kf8KiL65H0k/R ALcEWwOVLvl1VoYbhLdymC73C62O52AimO2GpXkQVV4EToOSzTOdpHdwJx5aDRC9jrZW 2gpw== X-Gm-Message-State: AOJu0YxacU7DNMMoLnOnwFeGcUndfVj67snvh3nBL0tQhCp0JdAPvj5b 6ROGLLlWwl+X+tgfHEL1qGyaJNut3hOhGxbAL1c6qlxGZGtjuJV/PzVrJEDUeMoMtMbHalc6xWT yxXqplaxFCrJGDZQ9B+iA7RuWPWKUlaF8P6Nn3sv0MwLK X-Gm-Gg: ASbGncu4aRCUv2Kxo3A7tprC64wzwJKH6t3OVwLNRy9lwPuW7vQt82G3crru5VJ94UR f77Kr5cKg1azlD3ebwR7XmUPhoOBySEnsRU/yC1WcauV+vkTLmz5ZV3nLMTLw30gBtNOEiwi6Oi wR1Y11a/DBqisVELn7vfpWKpfXBJm7NCO0VbhZUjivDnVuNcYwvFimdjQ7swWFB8/GMwLIhrAfz T2aMqgYW1xej9MOPKyu0OjmR6VdCbgyDUK1lGvGSbhnQZojosx4sIPNHvi2oqe9fJEZYtrsPB6O bplGwzDQrxRg13htYh6PkTn0DJ7SjYb/0pM6Q7BycNLWN9beiJvNfgtSEyDwmp08ddEjI8Sv X-Google-Smtp-Source: AGHT+IES1fEGGBnKUWAWKLC2jmFkqH2FKY99hxnnjNVBFLespu19b9syCCf//FWRUJLYtNiUWlfqO9krG9ns X-Received: by 2002:a05:6902:4881:b0:e7d:ce24:636e with SMTP id 3f1490d57ef6-e8dc5907129mr3011831276.31.1753275899386; Wed, 23 Jul 2025 06:04:59 -0700 (PDT) Received: from postal.iol.unh.edu (postal.iol.unh.edu. [132.177.123.84]) by smtp-relay.gmail.com with ESMTPS id 3f1490d57ef6-e8d8468a6fdsm651715276.25.2025.07.23.06.04.59 (version=TLS1_2 cipher=ECDHE-ECDSA-AES128-GCM-SHA256 bits=128/128); Wed, 23 Jul 2025 06:04:59 -0700 (PDT) X-Relaying-Domain: iol.unh.edu Date: Wed, 23 Jul 2025 06:04:59 -0700 (PDT) Message-ID: <6880ddfb.050a0220.1ad0f4.1138SMTPIN_ADDED_MISSING@mx.google.com> Received: from [172.21.0.2] (unknown [172.18.0.240]) by postal.iol.unh.edu (Postfix) with ESMTP id 120026050A61; Wed, 23 Jul 2025 09:04:59 -0400 (EDT) Subject: |SUCCESS| pw155457 [PATCH] net/af_xdp: enable AF_XDP program attachm From: dpdklab@iol.unh.edu To: Test Report Cc: dpdk-test-reports@iol.unh.edu In-Reply-To: <20250723074249.3264675-1-shivajikant@google.com> References: <20250723074249.3264675-1-shivajikant@google.com> Content-Type: text/plain X-BeenThere: test-report@dpdk.org X-Mailman-Version: 2.1.29 Precedence: list List-Id: automatic DPDK test reports List-Unsubscribe: , List-Archive: List-Post: List-Help: List-Subscribe: , Errors-To: test-report-bounces@dpdk.org Test-Label: iol-unit-amd64-testing Test-Status: SUCCESS http://dpdk.org/patch/155457 _Testing PASS_ Submitter: Shivaji Kant Date: Wednesday, July 23 2025 07:42:49 DPDK git baseline: Repo:dpdk Branch: master CommitID:b78afde1fed9e11ee5cdce333a1a69dd7a9cf13e 155457 --> testing pass Upstream job id: Generic-Unit-Test-DPDK#357728 Test environment and result as below: +-------------------------------+----------------+ | Environment | dpdk_unit_test | +===============================+================+ | CentOS Stream 9 | PASS | +-------------------------------+----------------+ | CentOS Stream 10 | PASS | +-------------------------------+----------------+ | Fedora Linux 40 | PASS | +-------------------------------+----------------+ | Fedora Linux 41 | PASS | +-------------------------------+----------------+ | Red Hat Enterprise Linux 8.10 | PASS | +-------------------------------+----------------+ | Red Hat Enterprise Linux 9.5 | PASS | +-------------------------------+----------------+ | Ubuntu 22.04 | PASS | +-------------------------------+----------------+ | Debian GNU/Linux 12 | PASS | +-------------------------------+----------------+ | Ubuntu 20.04 | PASS | +-------------------------------+----------------+ | Ubuntu 24.04 | PASS | +-------------------------------+----------------+ CentOS Stream 9 Kernel: 5.15 Compiler: gcc gcc (GCC) 11.5.0 20240719 (Red Hat 11.5.0-7) CentOS Stream 10 Kernel: 5.15 Compiler: gcc gcc (GCC) 14.2.1 20250110 (Red Hat 14.2.1-8) Fedora Linux 40 Kernel: 5.15 Compiler: clang gcc (GCC) 14.2.1 20240912 (Red Hat 14.2.1-3) Fedora Linux 41 Kernel: 5.15 Compiler: gcc gcc (GCC) 14.3.1 20250523 (Red Hat 14.3.1-1) Red Hat Enterprise Linux 8.10 Kernel: 5.15 Compiler: gcc gcc (GCC) 8.5.0 20210514 (Red Hat 8.5.0-22) Red Hat Enterprise Linux 9.5 Kernel: 5.15 Compiler: gcc gcc (GCC) 11.5.0 20240719 (Red Hat 11.5.0-2) Ubuntu 22.04 Kernel: 5.15 Compiler: gcc gcc (Ubuntu 11.4.0-1ubuntu1~22.04) 11.4.0 Debian GNU/Linux 12 Kernel: 5.15 Compiler: gcc gcc (Debian 12.2.0-14+deb12u1) 12.2.0 Ubuntu 20.04 Kernel: 5.15 Compiler: gcc gcc (Ubuntu 9.4.0-1ubuntu1~20.04.2) 9.4.0 Ubuntu 24.04 Kernel: 5.15 Compiler: gcc gcc (Ubuntu 13.3.0-6ubuntu2~24.04) 13.3.0 To view detailed results, visit: https://lab.dpdk.org/results/dashboard/patchsets/33735/ UNH-IOL DPDK Community Lab To manage your email subscriptions, visit: https://lab.dpdk.org/results/dashboard/preferences/subscriptions/