From mboxrd@z Thu Jan 1 00:00:00 1970 Return-Path: Received: from mails.dpdk.org (mails.dpdk.org [217.70.189.124]) by inbox.dpdk.org (Postfix) with ESMTP id DFEF746BF1 for ; Wed, 23 Jul 2025 15:09:24 +0200 (CEST) Received: from mails.dpdk.org (localhost [127.0.0.1]) by mails.dpdk.org (Postfix) with ESMTP id C1E2940B98; Wed, 23 Jul 2025 15:09:24 +0200 (CEST) Received: from mail-pg1-f226.google.com (mail-pg1-f226.google.com [209.85.215.226]) by mails.dpdk.org (Postfix) with ESMTP id 46CAA40B98 for ; Wed, 23 Jul 2025 15:09:24 +0200 (CEST) Received: by mail-pg1-f226.google.com with SMTP id 41be03b00d2f7-b3226307787so5205877a12.1 for ; Wed, 23 Jul 2025 06:09:24 -0700 (PDT) DKIM-Signature: v=1; a=rsa-sha256; c=relaxed/relaxed; d=iol.unh.edu; s=unh-iol; t=1753276163; x=1753880963; darn=dpdk.org; h=references:in-reply-to:cc:to:from:subject:message-id:date:from:to :cc:subject:date:message-id:reply-to; bh=/6R9FmrB8Iagjm94E8Y1kW2cT/krpxPUBDRt7WqBte0=; b=Pp30ak0vXoeb1SjT8oFP8G54dW2Y93cJSPpl39e20iYE47B+FbJrFYZ/CprrQehCvX ED1vjn0rLaBP2y33BLVAlXnVsILksOaaOotfppMp1lP3lpSIfDGMYJFPDpVQC14P7+P8 7opdtmqxkPfN6g9aczLJQO4p0z3vE7qiaEOnw= X-Google-DKIM-Signature: v=1; a=rsa-sha256; c=relaxed/relaxed; d=1e100.net; s=20230601; t=1753276163; x=1753880963; h=references:in-reply-to:cc:to:from:subject:message-id:date :x-gm-message-state:from:to:cc:subject:date:message-id:reply-to; bh=/6R9FmrB8Iagjm94E8Y1kW2cT/krpxPUBDRt7WqBte0=; b=JLshpt85qzlfRfOtXnkQf2LUkalEY50LvqSz6DLdV4guCpMx4K0GFnmFi87jfdB4Bz SEHBqWac26dajIafX6O1sNpGq4FGB4hqdZ1Zl4xjTjJFg5/3TUFFtW/BUW4MHsWCl8qp ra7QiKW89PBpDeAhze/SQ5F9xkYDvRGWFR0laFv3jP14kysfbHqBmetmeBUeEZf3EGn7 4REwjDmAxw3OJBVAO5g5W5CG/ha1vuUi3lPUpv/pEjIomA7F+gf2j9ADLIiyKfeIU7z7 fnGCarfUvewN1IrCgmBfYKxbxYhLo8VKFFa6S/QQ19pWCUDAf3GtJ5FYX7yUDJ3b0+1Y IwJg== X-Gm-Message-State: AOJu0YweyZYd6gZiHWNzH+fW1pFGSLNM7tFPd2q4E/bXLaHg01OFoc6O 1r0zo3Dny5A2AtSaqB19TsdPsLWfBovLhzy7KDMaOBpBCCwbwSj2C2XBSemVE+szDIM0EwWo5RE Yl2lCMPu/CBzPVuUVU0aeqbQlJ6LJMmuZGH3tcbZEjDK7t+CnVQqfOQOIQSBO X-Gm-Gg: ASbGncsceKRGo3DEIvYQRhnWjAVAKR12ERT9yU3Ua/3oCoelc/I2Pwl41tZsXlPepnB t4ozkM4svEPbMHqtQaaQCJSdyaNoe+E07ejqRbtYuAdLJIyYeTmMYYK8qOaVK6i78by+6fg+fOc /CE4Pwl/pHKqihsdyaOGoogqxv+q+BvLImMXreJAWYvxcZeU65wC1Q2f5qE21/liAUsChBSBzVx zbDzTwxZ2OiugDLZSXhEVsWJwRRgiNg55YhdWiEeXny57v+Wvq3UKwjURrk2kWu+MtjouRGHcDy ulbSBxvpzyzoH+xfVnw5bqX6tlmYtyx1O7++UkyGdy7nl7FA/A== X-Google-Smtp-Source: AGHT+IF8a7kGSYNVoH/TRLDHCIAMWgzwxfCafUkzq4QvIVLm/LE8H7yyvBYlr56u7lPbphK9wyvmaQLpoaLt X-Received: by 2002:a17:902:ce0e:b0:23f:8bcc:e4e9 with SMTP id d9443c01a7336-23f98159d81mr39937525ad.23.1753276163332; Wed, 23 Jul 2025 06:09:23 -0700 (PDT) Received: from postal.iol.unh.edu (postal.iol.unh.edu. [2606:4100:3880:1234::84]) by smtp-relay.gmail.com with ESMTPS id d9443c01a7336-23e3b6df34bsm6920525ad.77.2025.07.23.06.09.23 (version=TLS1_2 cipher=ECDHE-ECDSA-AES128-GCM-SHA256 bits=128/128); Wed, 23 Jul 2025 06:09:23 -0700 (PDT) X-Relaying-Domain: iol.unh.edu Date: Wed, 23 Jul 2025 06:09:23 -0700 (PDT) Message-ID: <6880df03.170a0220.207746.2c50SMTPIN_ADDED_MISSING@mx.google.com> Received: from [172.21.0.2] (unknown [172.18.0.240]) by postal.iol.unh.edu (Postfix) with ESMTP id C22F5604D420; Wed, 23 Jul 2025 09:09:22 -0400 (EDT) Subject: |SUCCESS| pw155456 [PATCH] net/mlx5: fix ipool memory leak From: dpdklab@iol.unh.edu To: Test Report Cc: dpdk-test-reports@iol.unh.edu In-Reply-To: <20250723064923.1805575-1-rongweil@nvidia.com> References: <20250723064923.1805575-1-rongweil@nvidia.com> Content-Type: text/plain X-BeenThere: test-report@dpdk.org X-Mailman-Version: 2.1.29 Precedence: list List-Id: automatic DPDK test reports List-Unsubscribe: , List-Archive: List-Post: List-Help: List-Subscribe: , Errors-To: test-report-bounces@dpdk.org Test-Label: iol-abi-testing Test-Status: SUCCESS http://dpdk.org/patch/155456 _Testing PASS_ Submitter: Rongwei Liu Date: Wednesday, July 23 2025 06:49:22 DPDK git baseline: Repo:dpdk Branch: master CommitID:b222395561638f89562e4ef42e1eabf2d6db43dd 155456 --> testing pass Upstream job id: Generic-DPDK-Compile-ABI#135460 Test environment and result as below: +-------------------------------+----------+ | Environment | abi_test | +===============================+==========+ | CentOS Stream 9 | PASS | +-------------------------------+----------+ | CentOS Stream 10 | PASS | +-------------------------------+----------+ | Debian GNU/Linux 12 | PASS | +-------------------------------+----------+ | Fedora Linux 41 | PASS | +-------------------------------+----------+ | Fedora Linux 40 | PASS | +-------------------------------+----------+ | Red Hat Enterprise Linux 8.10 | PASS | +-------------------------------+----------+ | openSUSE Leap 15.6 | PASS | +-------------------------------+----------+ | Red Hat Enterprise Linux 9.5 | PASS | +-------------------------------+----------+ | Ubuntu 22.04 | PASS | +-------------------------------+----------+ | Ubuntu 24.04 | PASS | +-------------------------------+----------+ CentOS Stream 9 Kernel: 5.15 Compiler: gcc gcc (GCC) 11.5.0 20240719 (Red Hat 11.5.0-7) CentOS Stream 10 Kernel: 5.15 Compiler: gcc gcc (GCC) 14.2.1 20250110 (Red Hat 14.2.1-8) Debian GNU/Linux 12 Kernel: 5.15 Compiler: gcc gcc (Debian 12.2.0-14+deb12u1) 12.2.0 Fedora Linux 41 Kernel: 5.15 Compiler: clang gcc (GCC) 14.3.1 20250523 (Red Hat 14.3.1-1) Fedora Linux 40 Kernel: 5.15 Compiler: clang gcc (GCC) 14.2.1 20240912 (Red Hat 14.2.1-3) Red Hat Enterprise Linux 8.10 Kernel: 5.15 Compiler: gcc gcc (GCC) 8.5.0 20210514 (Red Hat 8.5.0-22) openSUSE Leap 15.6 Kernel: 5.15 Compiler: gcc gcc (SUSE Linux) 7.5.0 Red Hat Enterprise Linux 9.5 Kernel: 5.15 Compiler: gcc gcc (GCC) 11.5.0 20240719 (Red Hat 11.5.0-2) Ubuntu 22.04 Kernel: 5.15 Compiler: gcc gcc (Ubuntu 11.4.0-1ubuntu1~22.04) 11.4.0 Ubuntu 24.04 Kernel: 5.15 Compiler: gcc gcc (Ubuntu 13.3.0-6ubuntu2~24.04) 13.3.0 To view detailed results, visit: https://lab.dpdk.org/results/dashboard/patchsets/33734/ UNH-IOL DPDK Community Lab To manage your email subscriptions, visit: https://lab.dpdk.org/results/dashboard/preferences/subscriptions/