From mboxrd@z Thu Jan 1 00:00:00 1970 Return-Path: Received: from mails.dpdk.org (mails.dpdk.org [217.70.189.124]) by inbox.dpdk.org (Postfix) with ESMTP id 58C3F46BF1 for ; Wed, 23 Jul 2025 15:20:51 +0200 (CEST) Received: from mails.dpdk.org (localhost [127.0.0.1]) by mails.dpdk.org (Postfix) with ESMTP id 5462D402E2; Wed, 23 Jul 2025 15:20:51 +0200 (CEST) Received: from mail-io1-f99.google.com (mail-io1-f99.google.com [209.85.166.99]) by mails.dpdk.org (Postfix) with ESMTP id 7E1F340DCB for ; Wed, 23 Jul 2025 15:20:47 +0200 (CEST) Received: by mail-io1-f99.google.com with SMTP id ca18e2360f4ac-87c420ac179so134967539f.1 for ; Wed, 23 Jul 2025 06:20:47 -0700 (PDT) DKIM-Signature: v=1; a=rsa-sha256; c=relaxed/relaxed; d=iol.unh.edu; s=unh-iol; t=1753276847; x=1753881647; darn=dpdk.org; h=references:in-reply-to:cc:to:from:subject:message-id:date:from:to :cc:subject:date:message-id:reply-to; bh=8X7KZ0v5vvt9Z0KrBz8bi8JEZsqQ4FMexVmaMoGadJg=; b=JI8lPVWsoHjPAdqbw8KYYzpMqZofWw+eS9XIbITq/ufez71BaWiTMnKro/l4IwGeWh wE9Jp2JA44zQq1fTlnyRNy5IhCJuOqsJTVwnw8Rgpd7/3TdKGnjK96bUDv5WSRxYpJR+ WCnpWLGalfAqkP3ne/IwLevO9OvC5HwkgSMR0= X-Google-DKIM-Signature: v=1; a=rsa-sha256; c=relaxed/relaxed; d=1e100.net; s=20230601; t=1753276847; x=1753881647; h=references:in-reply-to:cc:to:from:subject:message-id:date :x-gm-message-state:from:to:cc:subject:date:message-id:reply-to; bh=8X7KZ0v5vvt9Z0KrBz8bi8JEZsqQ4FMexVmaMoGadJg=; b=LqVUnheRIOUkag5mhLKt6D6g+iuWTPeP5uFal8esdRRT4CiR8aLWt3tlXHMzP/mfie IQYL0FRZImdrQdfOrQZm6LTYGNPZNllKEFdgmGBoxZPPUSh1th6F0LynHoK6N4qpBlgO ESeL71xksgAqnj8JwHgHtM4dYwNYqm655W+oH1SZ/f5e9RiL57hRD+StQudQ+etqrFcn csR+w5molSYaBl+3idXUTtkkE/CmlP6Z7Nc8YOXumFurNeqwV7T8udMUfmskGq+WNqeW if9I5PuUg/Am5bzy1WgX8qY2DdwM30Pr46ATSD0m1fUr0VCBLjAQk0py0GtMQUyTK4Rh oqKA== X-Gm-Message-State: AOJu0YyaFU9CAhO7zeMoIaZip75XyzNe2aUJh7+xscNA/eiFNoLhucfg 3v2jGVdpQQXtA199HDe9+pTt3yW2caT+Ty6rd82RgbTVkPJh59jfItzce8FxbHepdfkiJjiKHHd bHqjYL2Qggvht9x1g3fmQUlndA/OXgtyabysfv9lmnbr7LX1Kxitske2HhBkX X-Gm-Gg: ASbGncv7MCUZC/YafdsqgJ6ki4jGd4uynbo/KXFZXIjwIkMBSKX/KtiJoyZHg3/P2H/ 2vKxn1TSMe2EjnYes5sZ6lU/gosAGRr+PkC+RYu47FDrChGQUQHuCvh6vOoeA3C8J+NyqfuK8tk gC5i1NlZuj0t1Pp/wNAbh2J/mPDukiBew1cZjon9HX0jwa77ianpNV+n661KpdqxFXN/hQ/QmH9 IW/94YhdbQG7+rAlm3Sfry1iKJ3TD/IfLRVrDmuAomg1smA+pwbLHtTGNTF3j9uGh+HdtNxUoYQ Ph7gfLthLKV/NQhacmlRoAjvs98GgTu5/Fj1YHkK9iYNSsOpig== X-Google-Smtp-Source: AGHT+IERgmkp64a6Ld/R0/90qQ2GvmRlbJmEgYvDDXwWOwiezxwtjwzF176zqf/wRG4Y37AElBQy2dhdAZFl X-Received: by 2002:a05:6602:1413:b0:87c:a93:da20 with SMTP id ca18e2360f4ac-87c65022377mr464115839f.10.1753276846801; Wed, 23 Jul 2025 06:20:46 -0700 (PDT) Received: from postal.iol.unh.edu (postal.iol.unh.edu. [2606:4100:3880:1234::84]) by smtp-relay.gmail.com with ESMTPS id ca18e2360f4ac-87c0e7244a0sm55748439f.23.2025.07.23.06.20.46 (version=TLS1_2 cipher=ECDHE-ECDSA-AES128-GCM-SHA256 bits=128/128); Wed, 23 Jul 2025 06:20:46 -0700 (PDT) X-Relaying-Domain: iol.unh.edu Date: Wed, 23 Jul 2025 06:20:46 -0700 (PDT) Message-ID: <6880e1ae.050a0220.183740.c51dSMTPIN_ADDED_MISSING@mx.google.com> Received: from [172.21.0.2] (unknown [172.18.0.240]) by postal.iol.unh.edu (Postfix) with ESMTP id 45226604D420; Wed, 23 Jul 2025 09:20:46 -0400 (EDT) Subject: |SUCCESS| pw155457 [PATCH] net/af_xdp: enable AF_XDP program attachm From: dpdklab@iol.unh.edu To: Test Report Cc: dpdk-test-reports@iol.unh.edu In-Reply-To: <20250723074249.3264675-1-shivajikant@google.com> References: <20250723074249.3264675-1-shivajikant@google.com> Content-Type: text/plain X-BeenThere: test-report@dpdk.org X-Mailman-Version: 2.1.29 Precedence: list List-Id: automatic DPDK test reports List-Unsubscribe: , List-Archive: List-Post: List-Help: List-Subscribe: , Errors-To: test-report-bounces@dpdk.org Test-Label: iol-unit-amd64-testing Test-Status: SUCCESS http://dpdk.org/patch/155457 _Testing PASS_ Submitter: Shivaji Kant Date: Wednesday, July 23 2025 07:42:49 DPDK git baseline: Repo:dpdk Branch: master CommitID:b78afde1fed9e11ee5cdce333a1a69dd7a9cf13e 155457 --> testing pass Upstream job id: Generic-VM-Unit-Test-DPDK#30130 Test environment and result as below: +-------------------------------+----------------+ | Environment | dpdk_unit_test | +===============================+================+ | CentOS Stream 10 | PASS | +-------------------------------+----------------+ | CentOS Stream 9 | PASS | +-------------------------------+----------------+ | Debian GNU/Linux 12 | PASS | +-------------------------------+----------------+ | Fedora Linux 41 | PASS | +-------------------------------+----------------+ | Fedora Linux 40 | PASS | +-------------------------------+----------------+ | Ubuntu 20.04 | PASS | +-------------------------------+----------------+ | Red Hat Enterprise Linux 9.5 | PASS | +-------------------------------+----------------+ | Red Hat Enterprise Linux 8.10 | PASS | +-------------------------------+----------------+ | Ubuntu 22.04 | PASS | +-------------------------------+----------------+ | Ubuntu 24.04 | PASS | +-------------------------------+----------------+ | Windows Server 2022 | PASS | +-------------------------------+----------------+ CentOS Stream 10 Kernel: 5.15 Compiler: gcc gcc (GCC) 14.2.1 20250110 (Red Hat 14.2.1-8) CentOS Stream 9 Kernel: 5.15 Compiler: gcc gcc (GCC) 11.5.0 20240719 (Red Hat 11.5.0-7) Debian GNU/Linux 12 Kernel: 5.15 Compiler: gcc gcc (Debian 12.2.0-14+deb12u1) 12.2.0 Fedora Linux 41 Kernel: 5.15 Compiler: gcc gcc (GCC) 14.3.1 20250523 (Red Hat 14.3.1-1) Fedora Linux 40 Kernel: 5.15 Compiler: clang gcc (GCC) 14.2.1 20240912 (Red Hat 14.2.1-3) Ubuntu 20.04 Kernel: 5.15 Compiler: gcc gcc (Ubuntu 9.4.0-1ubuntu1~20.04.2) 9.4.0 Red Hat Enterprise Linux 9.5 Kernel: 5.15 Compiler: gcc gcc (GCC) 11.5.0 20240719 (Red Hat 11.5.0-2) Red Hat Enterprise Linux 8.10 Kernel: 5.15 Compiler: gcc gcc (GCC) 8.5.0 20210514 (Red Hat 8.5.0-22) Ubuntu 22.04 Kernel: 5.15 Compiler: gcc gcc (Ubuntu 11.4.0-1ubuntu1~22.04) 11.4.0 Ubuntu 24.04 Kernel: 5.15 Compiler: gcc gcc (Ubuntu 13.3.0-6ubuntu2~24.04) 13.3.0 Windows Server 2022 Kernel: 10.0.20348.2031 Compiler: clang 15.0.7, gcc 14.1.0 (MinGW), and MSVC VS 19.39.33521 To view detailed results, visit: https://lab.dpdk.org/results/dashboard/patchsets/33735/ UNH-IOL DPDK Community Lab To manage your email subscriptions, visit: https://lab.dpdk.org/results/dashboard/preferences/subscriptions/