From mboxrd@z Thu Jan 1 00:00:00 1970 Return-Path: Received: from mails.dpdk.org (mails.dpdk.org [217.70.189.124]) by inbox.dpdk.org (Postfix) with ESMTP id 1FDB046BF1 for ; Wed, 23 Jul 2025 15:35:54 +0200 (CEST) Received: from mails.dpdk.org (localhost [127.0.0.1]) by mails.dpdk.org (Postfix) with ESMTP id 1C26440E2C; Wed, 23 Jul 2025 15:35:54 +0200 (CEST) Received: from mail-yb1-f225.google.com (mail-yb1-f225.google.com [209.85.219.225]) by mails.dpdk.org (Postfix) with ESMTP id 94BBB40E03 for ; Wed, 23 Jul 2025 15:35:52 +0200 (CEST) Received: by mail-yb1-f225.google.com with SMTP id 3f1490d57ef6-e8d157c946eso6411969276.2 for ; Wed, 23 Jul 2025 06:35:52 -0700 (PDT) DKIM-Signature: v=1; a=rsa-sha256; c=relaxed/relaxed; d=iol.unh.edu; s=unh-iol; t=1753277752; x=1753882552; darn=dpdk.org; h=references:in-reply-to:cc:to:from:subject:message-id:date:from:to :cc:subject:date:message-id:reply-to; bh=REsnluewf8MwswwqD+2foKo3RMabxhyi1pO/QVgzExE=; b=H3oMW05T+umuWm+XoNSxBTF38jTFhE2pgH6C4P3iK9opsBcXWiGxT3GsJS8P8+JGoj gOOrZbPPdMCFWSXJU/oqqDGhpDqgRSOLkBLIE6OTXtjJgmfSMa2wce/g7K8nactQpgHQ kxPNf53e5rHZyyt1VrOZUrS6W+87IZpMR6NNI= X-Google-DKIM-Signature: v=1; a=rsa-sha256; c=relaxed/relaxed; d=1e100.net; s=20230601; t=1753277752; x=1753882552; h=references:in-reply-to:cc:to:from:subject:message-id:date :x-gm-message-state:from:to:cc:subject:date:message-id:reply-to; bh=REsnluewf8MwswwqD+2foKo3RMabxhyi1pO/QVgzExE=; b=fYsRw4mCbl5WKMDvHrf7ZVZ1I//bgXTehkCpP4HjyTFVxVXyyIeZQIjRjSBFTUU+2h YfMtS+uAMmd/7UDfwr9zplhCHAYJrPxOU58uaXpOMHH95Q2AaLxQZ0P46BfCrQxMrZWL IFWzUO+aZ/QE0ytOBOJBKEOkHDWlp5Zo6ihsn3ar9CQd6zrFE+O8g9XW+6cjISaDb/4n c17ipiDsYyM7RD/zXkUpxoJctceOCvCRymBIgyW5U2L8mcy2QAi7ZuZZK22z8QT86sjT Yz5w50vhiyWeqHYnOITG5uB4IEzSFtvq62AV/qhAzNhMlKkUmJUl/ppn7g1WFNv942KL oilA== X-Gm-Message-State: AOJu0YwDAaR8b3ooUtLjB0OZcplJPokXbG2kvySwx72jNb2r7Qh92KnY Cywwn4NC1vr9PSX0lQVdPWvuvW2MfPvPWBk0rP7M+h21srCgylMvm3QMYWZHvr/ggBg1T7eoNhe WOa21/+lYsIa1nZeXCwxjn2Z/f5PUdjvO9LTFCh4oTExW X-Gm-Gg: ASbGncvMq5dHXCttYVTSVBdksjCnkBn+M0q9EgEObQ/eBNyGMnIoR2RKM0s0WiGk5N4 m49BwqqrBwanTrX+MhEZkdHoFHsbOUqnr5kNJn2Keu2EABp/jWRSjWHl+cOHmWQ+FCkfbhdig18 oPoa9tMIEQeXDE0Y30M6KRsJTj5/SUHn2RWxz9omRofzIeu0Ruu5w9DRHGt8zvKDUvj2XKb8NRH IwxMTeJ1h8XrifYmOBOhIDnS62nOsrn2EqCrTC1zaBxa0RoCUtToInhy1+UCWjbYHWtkHBVzOKZ c5oKDOlEXg4CcbjYQpagIN3xwSHM/snhV3PQbZeizxGHiK84m+WiAlhLPdb5ZZuRytn2ovby X-Google-Smtp-Source: AGHT+IFLzimhO2G+PgW+UScddUh2PNCm1EkMYVVy3cM2Kqc72zVMiJdq35duXzljcqCU5EDQ6LqmU2NaXFp6 X-Received: by 2002:a05:690c:dd1:b0:70d:f673:1412 with SMTP id 00721157ae682-719b40e10d0mr41600817b3.0.1753277751811; Wed, 23 Jul 2025 06:35:51 -0700 (PDT) Received: from postal.iol.unh.edu (postal.iol.unh.edu. [132.177.123.84]) by smtp-relay.gmail.com with ESMTPS id 00721157ae682-71953104e04sm6542887b3.7.2025.07.23.06.35.51 (version=TLS1_2 cipher=ECDHE-ECDSA-AES128-GCM-SHA256 bits=128/128); Wed, 23 Jul 2025 06:35:51 -0700 (PDT) X-Relaying-Domain: iol.unh.edu Date: Wed, 23 Jul 2025 06:35:51 -0700 (PDT) Message-ID: <6880e537.050a0220.17a6e6.1673SMTPIN_ADDED_MISSING@mx.google.com> Received: from [172.21.0.4] (unknown [172.18.0.240]) by postal.iol.unh.edu (Postfix) with ESMTP id 7424B604D420; Wed, 23 Jul 2025 09:35:51 -0400 (EDT) Subject: |SUCCESS| pw155458 [PATCH] net: fix incorrect L2 length for GRE tunn From: dpdklab@iol.unh.edu To: Test Report Cc: dpdk-test-reports@iol.unh.edu In-Reply-To: <20250723104710.558623-1-huangdengdui@huawei.com> References: <20250723104710.558623-1-huangdengdui@huawei.com> Content-Type: text/plain X-BeenThere: test-report@dpdk.org X-Mailman-Version: 2.1.29 Precedence: list List-Id: automatic DPDK test reports List-Unsubscribe: , List-Archive: List-Post: List-Help: List-Subscribe: , Errors-To: test-report-bounces@dpdk.org Test-Label: iol-compile-amd64-testing Test-Status: SUCCESS http://dpdk.org/patch/155458 _Testing PASS_ Submitter: Dengdui Huang Date: Wednesday, July 23 2025 10:47:10 DPDK git baseline: Repo:dpdk Branch: master CommitID:b222395561638f89562e4ef42e1eabf2d6db43dd 155458 --> testing pass Upstream job id: Windows-Compile-DPDK-VS#6444 Test environment and result as below: +---------------------+--------------------+-------------------------+-------------------+----------------------+ | Environment | dpdk_meson_compile | dpdk_llvm_clang_compile | dpdk_msvc_compile | dpdk_mingw64_compile | +=====================+====================+=========================+===================+======================+ | Ubuntu 20.04 | PASS | SKIPPED | SKIPPED | SKIPPED | +---------------------+--------------------+-------------------------+-------------------+----------------------+ | FreeBSD 14.2 | PASS | SKIPPED | SKIPPED | SKIPPED | +---------------------+--------------------+-------------------------+-------------------+----------------------+ | Windows Server 2022 | SKIPPED | PASS | PASS | PASS | +---------------------+--------------------+-------------------------+-------------------+----------------------+ Ubuntu 20.04 Kernel: 4.19 Compiler: gcc gcc (Ubuntu 9.4.0-1ubuntu1~20.04.2) 9.4.0 FreeBSD 14.2 Kernel: 14.2-RELEASE Compiler: clang 18.1.6 Windows Server 2022 Kernel: 10.0.20348.2031 Compiler: clang 15.0.7, gcc 14.1.0 (MinGW), and MSVC VS 19.39.33521 To view detailed results, visit: https://lab.dpdk.org/results/dashboard/patchsets/33736/ UNH-IOL DPDK Community Lab To manage your email subscriptions, visit: https://lab.dpdk.org/results/dashboard/preferences/subscriptions/