From mboxrd@z Thu Jan 1 00:00:00 1970 Return-Path: Received: from mails.dpdk.org (mails.dpdk.org [217.70.189.124]) by inbox.dpdk.org (Postfix) with ESMTP id B023846BF1 for ; Wed, 23 Jul 2025 15:36:58 +0200 (CEST) Received: from mails.dpdk.org (localhost [127.0.0.1]) by mails.dpdk.org (Postfix) with ESMTP id A5E754067C; Wed, 23 Jul 2025 15:36:58 +0200 (CEST) Received: from mail-io1-f98.google.com (mail-io1-f98.google.com [209.85.166.98]) by mails.dpdk.org (Postfix) with ESMTP id 0E4634067C for ; Wed, 23 Jul 2025 15:36:57 +0200 (CEST) Received: by mail-io1-f98.google.com with SMTP id ca18e2360f4ac-873501d2ca1so127551739f.2 for ; Wed, 23 Jul 2025 06:36:57 -0700 (PDT) DKIM-Signature: v=1; a=rsa-sha256; c=relaxed/relaxed; d=iol.unh.edu; s=unh-iol; t=1753277816; x=1753882616; darn=dpdk.org; h=references:in-reply-to:cc:to:from:subject:message-id:date:from:to :cc:subject:date:message-id:reply-to; bh=rYFDhunV8FjSGaxh6qElDpV85yg8EbfwQgaT+MKxVHU=; b=Q3ub5PV1F87xCFfvA8rIC0I+YOgcPIBUvEjBem7YcmnRJUfoZdyd5otKhp2o6mzthO w0lB3Gm1Et1SyrQRQwg+a6RlT1KLAsDm8mhGaR9YlgKxFPCr7g5Vxm+RaUqnvF89CuM+ Mz15qFtpZDoG4wmuWc+KiNmOU7N8ysji1RqYI= X-Google-DKIM-Signature: v=1; a=rsa-sha256; c=relaxed/relaxed; d=1e100.net; s=20230601; t=1753277816; x=1753882616; h=references:in-reply-to:cc:to:from:subject:message-id:date :x-gm-message-state:from:to:cc:subject:date:message-id:reply-to; bh=rYFDhunV8FjSGaxh6qElDpV85yg8EbfwQgaT+MKxVHU=; b=V+RF0xBt7iv6dVUeD5DmkLfoqquxVXBZZv9DmvFm67PYA4T++0iTjWB27Fwp/hRO7U Bzm84dRCJOkAaMAuhpCj5J4Gw63wJ577KXwzgDDB4Wr29vPRl09+frnWN0Y0goILBwap Pt+P8mZuAI6lclipdV+jDpWLfJsALt7mgGaBmFfLH5dMXBgwt7B/4kqbs0+EiByHJxZK 2nShXfibJp4OA6mmFXRBGL6DUcwF0ZQbuae7jhuWW+hpqywAPCkPkfLpOu01jFVZfg23 3ncDagFZAUBh9lxiIhbqIDpHHfMNge9BqJaSsqF2c7xyvQsNrPJEbyY88O88VbwyOpKR d9rQ== X-Gm-Message-State: AOJu0YzIyReGAYUihinTW80UQENZtstKaqAHjH/kOPWOVmOdDyWRf+oj LexgY7kxWVO3vcsRJouqF2rKUnODiDTvLWzQSE8NnaNmEvxhD7wMipwXN6kPm7ejg8MC+4RgHXn qMTEY+f7YXQHI1Xg7U9IHps17T0Ei3N+JIuKR2sEZ9Z50ttUeOHruF2kh8/kq X-Gm-Gg: ASbGnculL9MtPVZfLauubzjKHNMJ/PZ1iu1Nwkiks6dkLJa+OcTj412Y7zOjEDttNNq mcu4ArBhTJLoEe7iPl0C5VavWxGO7co7nrkKRWnGGPJfj+j77sCJWe7cJH2FrgmOTk0n1+OFxtl lHtkOw0qklDKNGIVfYMQReCW2F9JUS3rjU8vODQtSYlLUPkmckk/ti7Mn6vUw05h9KaNR76fVxj dbjIkO4O0GqRh4VYiKyjoE6Omb06YiOJ1bi2/UehYuENscGCbeBoUse1V90LFpMFLHJBRuspdFR 3xkApMDCWqRp+FYw83GTXIvVhaiS2cIaLzsPZRr0pfzu0aYPFg== X-Google-Smtp-Source: AGHT+IEO1jTDoY7dqnLc+mIYpkIQFRbM0qMqVK7wFmTkhmteGDwxvxJxJNl8HyT0aQGuj2PtPN6QlZJH68RK X-Received: by 2002:a05:6602:2b94:b0:864:4b3a:9e3a with SMTP id ca18e2360f4ac-87c65048fc9mr579640539f.13.1753277816299; Wed, 23 Jul 2025 06:36:56 -0700 (PDT) Received: from postal.iol.unh.edu (postal.iol.unh.edu. [2606:4100:3880:1234::84]) by smtp-relay.gmail.com with ESMTPS id 8926c6da1cb9f-5084c8f541asm571523173.35.2025.07.23.06.36.56 (version=TLS1_2 cipher=ECDHE-ECDSA-AES128-GCM-SHA256 bits=128/128); Wed, 23 Jul 2025 06:36:56 -0700 (PDT) X-Relaying-Domain: iol.unh.edu Date: Wed, 23 Jul 2025 06:36:56 -0700 (PDT) Message-ID: <6880e578.050a0220.53da1.d0a8SMTPIN_ADDED_MISSING@mx.google.com> Received: from [172.21.0.2] (unknown [172.18.0.240]) by postal.iol.unh.edu (Postfix) with ESMTP id CB0D1604D420; Wed, 23 Jul 2025 09:36:55 -0400 (EDT) Subject: |SUCCESS| pw155458 [PATCH] net: fix incorrect L2 length for GRE tunn From: dpdklab@iol.unh.edu To: Test Report Cc: dpdk-test-reports@iol.unh.edu In-Reply-To: <20250723104710.558623-1-huangdengdui@huawei.com> References: <20250723104710.558623-1-huangdengdui@huawei.com> Content-Type: text/plain X-BeenThere: test-report@dpdk.org X-Mailman-Version: 2.1.29 Precedence: list List-Id: automatic DPDK test reports List-Unsubscribe: , List-Archive: List-Post: List-Help: List-Subscribe: , Errors-To: test-report-bounces@dpdk.org Test-Label: iol-compile-amd64-testing Test-Status: SUCCESS http://dpdk.org/patch/155458 _Testing PASS_ Submitter: Dengdui Huang Date: Wednesday, July 23 2025 10:47:10 DPDK git baseline: Repo:dpdk Branch: master CommitID:b222395561638f89562e4ef42e1eabf2d6db43dd 155458 --> testing pass Upstream job id: Windows-Compile-DPDK-Native#29973 Test environment and result as below: +---------------------+--------------------+-------------------------+-------------------+----------------------+ | Environment | dpdk_meson_compile | dpdk_llvm_clang_compile | dpdk_msvc_compile | dpdk_mingw64_compile | +=====================+====================+=========================+===================+======================+ | Ubuntu 20.04 | PASS | SKIPPED | SKIPPED | SKIPPED | +---------------------+--------------------+-------------------------+-------------------+----------------------+ | FreeBSD 14.2 | PASS | SKIPPED | SKIPPED | SKIPPED | +---------------------+--------------------+-------------------------+-------------------+----------------------+ | Windows Server 2022 | SKIPPED | PASS | PASS | PASS | +---------------------+--------------------+-------------------------+-------------------+----------------------+ Ubuntu 20.04 Kernel: 4.19 Compiler: gcc gcc (Ubuntu 9.4.0-1ubuntu1~20.04.2) 9.4.0 FreeBSD 14.2 Kernel: 14.2-RELEASE Compiler: clang 18.1.6 Windows Server 2022 Kernel: 10.0.20348.2031 Compiler: clang 15.0.7, gcc 14.1.0 (MinGW), and MSVC VS 19.39.33521 To view detailed results, visit: https://lab.dpdk.org/results/dashboard/patchsets/33736/ UNH-IOL DPDK Community Lab To manage your email subscriptions, visit: https://lab.dpdk.org/results/dashboard/preferences/subscriptions/