From mboxrd@z Thu Jan 1 00:00:00 1970 Return-Path: Received: from mails.dpdk.org (mails.dpdk.org [217.70.189.124]) by inbox.dpdk.org (Postfix) with ESMTP id 4A98946BF2 for ; Wed, 23 Jul 2025 16:00:54 +0200 (CEST) Received: from mails.dpdk.org (localhost [127.0.0.1]) by mails.dpdk.org (Postfix) with ESMTP id 46AE3406A2; Wed, 23 Jul 2025 16:00:54 +0200 (CEST) Received: from mail-il1-f226.google.com (mail-il1-f226.google.com [209.85.166.226]) by mails.dpdk.org (Postfix) with ESMTP id 78749406A2 for ; Wed, 23 Jul 2025 16:00:51 +0200 (CEST) Received: by mail-il1-f226.google.com with SMTP id e9e14a558f8ab-3e28058c18cso59767215ab.0 for ; Wed, 23 Jul 2025 07:00:51 -0700 (PDT) DKIM-Signature: v=1; a=rsa-sha256; c=relaxed/relaxed; d=iol.unh.edu; s=unh-iol; t=1753279251; x=1753884051; darn=dpdk.org; h=references:in-reply-to:cc:to:from:subject:message-id:date:from:to :cc:subject:date:message-id:reply-to; bh=J/ScEyqQda4AvvkkMaKRU1bfZzrPFTEjbadZ0JaK/jE=; b=DCsw4L9bTh6cF5cF8NgYrTQXSBSGmfuRlnZQlAM1ZmbgWhTqmp//KqET++gw2eI7Cv SoZvnvZoWVFv2ildVmPMZcNFmuiO++4r2Rc82QGUwZq167oJhiR6sqExPVUq3LjwuPv2 ITy5qRcfQqZwvOa/hKtD3OxzjgYQdJ6spgwmE= X-Google-DKIM-Signature: v=1; a=rsa-sha256; c=relaxed/relaxed; d=1e100.net; s=20230601; t=1753279251; x=1753884051; h=references:in-reply-to:cc:to:from:subject:message-id:date :x-gm-message-state:from:to:cc:subject:date:message-id:reply-to; bh=J/ScEyqQda4AvvkkMaKRU1bfZzrPFTEjbadZ0JaK/jE=; b=S2UYBwRHisHbkcI1ak0u3tKSAB9d9YCPUNCIfFvHAvRdQhDrLe40Z6ymUmnR0THXEm I1MJKdwfJAVrkEszVu86DmO4ocNADvRhLq3iGYixO0+upq3+YZNbzS0OkXh70ufwQgIV /dKggwgVJHniHo6jpWOM7xlIrhUyTVPf4xNjEhEiEZjalUt8BgF2n2RKttI4ZXfGHVf1 MBJm0WcAWjj3InIMiJCEKZD5/UNNF50ywcnDYvLPVDX7mn9Iz/gZXNENYNypNcSnkklo i0QCgRD0el1kg/5y0h+YTHT4dfeJiY38G5u9e9bmP82XImem4xhleEjlW+OJq7L5EgAt Ifag== X-Gm-Message-State: AOJu0Yxg+NH36Qt9/Q66Sgq2ZqKf+QvLoXyyNg7PSKVs6NrIGvBncQ99 d0l9z8wyywb+rqipm9kDpqwtjY5toUE9393e/nLNmHbDgJmMVR8STbLTLWx6EtzTZVqC7khUd1D NuCPFcAU97Cp6lphB0XbAq5g6IDevaBkiOWhW0arrUhghwaE9qU4EWU1ztQGT X-Gm-Gg: ASbGncteyf3WP6hzaAOxQjWtiJ8eqRlhsnzBF9BQ8QBzsb9n+8HJeGBdrVbUzDajNLr +f5ISFWSOeHUQuA2+3qrdPeXlak9STuiEdmIkgIiL9/7o1FHjCKoHjAeA3TfNsvbKwD1tQyzKE+ Pg5yMotgNuyxusRnZ4yBNT0xRB/fw5MFW1H/hmBcZlju/Rf15isHmiiAFXQLFRmiBVJQk9XVnKv Ettfb+3JMXDuWiScfHgiMj4oTwg5D46m24j/uhGRNkkkG09/PW4yPL/p4vn+vp8cisU/1YmrtQO 7F3ioDI7ihabJvgsRwphl/DuBm+bxfjojMwaym3a0PFQLotxxw== X-Google-Smtp-Source: AGHT+IHJhrYKDQQU8VbbbwUmXpMULhwbKuK9Y2AMUyFBrSSIO4E+fwSDnsCrCtt1VP9U817+IjoST4vgqgq8 X-Received: by 2002:a05:6e02:2507:b0:3e2:9e8b:b64 with SMTP id e9e14a558f8ab-3e32991ea20mr46734145ab.0.1753279247991; Wed, 23 Jul 2025 07:00:47 -0700 (PDT) Received: from postal.iol.unh.edu (postal.iol.unh.edu. [2606:4100:3880:1234::84]) by smtp-relay.gmail.com with ESMTPS id e9e14a558f8ab-3e29838a74dsm7553455ab.60.2025.07.23.07.00.47 (version=TLS1_2 cipher=ECDHE-ECDSA-AES128-GCM-SHA256 bits=128/128); Wed, 23 Jul 2025 07:00:47 -0700 (PDT) X-Relaying-Domain: iol.unh.edu Date: Wed, 23 Jul 2025 07:00:47 -0700 (PDT) Message-ID: <6880eb0f.050a0220.3f77c.60e5SMTPIN_ADDED_MISSING@mx.google.com> Received: from [172.21.0.3] (unknown [172.18.0.240]) by postal.iol.unh.edu (Postfix) with ESMTP id 83BF6604D420; Wed, 23 Jul 2025 10:00:47 -0400 (EDT) Subject: |SUCCESS| pw155457 [PATCH] net/af_xdp: enable AF_XDP program attachm From: dpdklab@iol.unh.edu To: Test Report Cc: dpdk-test-reports@iol.unh.edu In-Reply-To: <20250723074249.3264675-1-shivajikant@google.com> References: <20250723074249.3264675-1-shivajikant@google.com> Content-Type: text/plain X-BeenThere: test-report@dpdk.org X-Mailman-Version: 2.1.29 Precedence: list List-Id: automatic DPDK test reports List-Unsubscribe: , List-Archive: List-Post: List-Help: List-Subscribe: , Errors-To: test-report-bounces@dpdk.org Test-Label: iol-abi-testing Test-Status: SUCCESS http://dpdk.org/patch/155457 _Testing PASS_ Submitter: Shivaji Kant Date: Wednesday, July 23 2025 07:42:49 DPDK git baseline: Repo:dpdk Branch: master CommitID:b78afde1fed9e11ee5cdce333a1a69dd7a9cf13e 155457 --> testing pass Upstream job id: Generic-DPDK-Compile-ABI#135473 Test environment and result as below: +-------------------------------+----------+ | Environment | abi_test | +===============================+==========+ | CentOS Stream 9 | PASS | +-------------------------------+----------+ | CentOS Stream 10 | PASS | +-------------------------------+----------+ | Debian GNU/Linux 12 | PASS | +-------------------------------+----------+ | Fedora Linux 40 | PASS | +-------------------------------+----------+ | openSUSE Leap 15.6 | PASS | +-------------------------------+----------+ | Fedora Linux 41 | PASS | +-------------------------------+----------+ | Red Hat Enterprise Linux 8.10 | PASS | +-------------------------------+----------+ | Red Hat Enterprise Linux 9.5 | PASS | +-------------------------------+----------+ | Ubuntu 22.04 | PASS | +-------------------------------+----------+ | Ubuntu 24.04 | PASS | +-------------------------------+----------+ CentOS Stream 9 Kernel: 5.15 Compiler: gcc gcc (GCC) 11.5.0 20240719 (Red Hat 11.5.0-7) CentOS Stream 10 Kernel: 5.15 Compiler: gcc gcc (GCC) 14.2.1 20250110 (Red Hat 14.2.1-8) Debian GNU/Linux 12 Kernel: 5.15 Compiler: gcc gcc (Debian 12.2.0-14+deb12u1) 12.2.0 Fedora Linux 40 Kernel: 5.15 Compiler: clang gcc (GCC) 14.2.1 20240912 (Red Hat 14.2.1-3) openSUSE Leap 15.6 Kernel: 5.15 Compiler: gcc gcc (SUSE Linux) 7.5.0 Fedora Linux 41 Kernel: 5.15 Compiler: clang gcc (GCC) 14.3.1 20250523 (Red Hat 14.3.1-1) Red Hat Enterprise Linux 8.10 Kernel: 5.15 Compiler: gcc gcc (GCC) 8.5.0 20210514 (Red Hat 8.5.0-22) Red Hat Enterprise Linux 9.5 Kernel: 5.15 Compiler: gcc gcc (GCC) 11.5.0 20240719 (Red Hat 11.5.0-2) Ubuntu 22.04 Kernel: 5.15 Compiler: gcc gcc (Ubuntu 11.4.0-1ubuntu1~22.04) 11.4.0 Ubuntu 24.04 Kernel: 5.15 Compiler: gcc gcc (Ubuntu 13.3.0-6ubuntu2~24.04) 13.3.0 To view detailed results, visit: https://lab.dpdk.org/results/dashboard/patchsets/33735/ UNH-IOL DPDK Community Lab To manage your email subscriptions, visit: https://lab.dpdk.org/results/dashboard/preferences/subscriptions/