From mboxrd@z Thu Jan 1 00:00:00 1970 Return-Path: Received: from mails.dpdk.org (mails.dpdk.org [217.70.189.124]) by inbox.dpdk.org (Postfix) with ESMTP id 5662446BF2 for ; Wed, 23 Jul 2025 16:01:05 +0200 (CEST) Received: from mails.dpdk.org (localhost [127.0.0.1]) by mails.dpdk.org (Postfix) with ESMTP id 5275C406A2; Wed, 23 Jul 2025 16:01:05 +0200 (CEST) Received: from mail-oa1-f99.google.com (mail-oa1-f99.google.com [209.85.160.99]) by mails.dpdk.org (Postfix) with ESMTP id 5961B406A2 for ; Wed, 23 Jul 2025 16:01:04 +0200 (CEST) Received: by mail-oa1-f99.google.com with SMTP id 586e51a60fabf-2ea34731c5dso4568708fac.0 for ; Wed, 23 Jul 2025 07:01:04 -0700 (PDT) DKIM-Signature: v=1; a=rsa-sha256; c=relaxed/relaxed; d=iol.unh.edu; s=unh-iol; t=1753279263; x=1753884063; darn=dpdk.org; h=references:in-reply-to:cc:to:from:subject:message-id:date:from:to :cc:subject:date:message-id:reply-to; bh=kjjxTFOZ1TXalnu6p1iC3YePN1tm+BJ+civu8e1U1Tc=; b=J2j/jH0yfn1QVR3gu6MiYJZr/vOMRApbhDkMQdTBEUHfLPU0qpSCIf9D6xBa+MZI7s HVo6ac+SnlLeNM3ucZiANcF5YtTkUHJGc7Bw/BNhvGdyvmCeKG3N8Pyi62iedDYrUnOF n9XAc6QeAX0XH9OxFbK7aSVrErg4PZIndnE6s= X-Google-DKIM-Signature: v=1; a=rsa-sha256; c=relaxed/relaxed; d=1e100.net; s=20230601; t=1753279263; x=1753884063; h=references:in-reply-to:cc:to:from:subject:message-id:date :x-gm-message-state:from:to:cc:subject:date:message-id:reply-to; bh=kjjxTFOZ1TXalnu6p1iC3YePN1tm+BJ+civu8e1U1Tc=; b=gdQDEXvyMCXjMUgXTH+7o6sAVH45o75YYFo5UiN3eEWC05QAiT5SxpHy6OsvZaFOaJ liChHOLTN8ebWqOJEUBE8q9PQiQIvqh2rc0zm5924e7i0DIxbfKvsDTa45L4PHxFIXFV zt7AM2ndxG7dqu4ZijmwiGtaaXxCe+7niW945fTL7xQi16zJogQ2Dn9cwSo1ahFOJksd wRkswIwQ/OWBMX95Idq5NXSFSZZJeaPksb72KSYX0dAxg/8rPOVwKwPNhQ2Ks0bKF3ho NI9tbfBwb1BfZyODDZENleCaiu+APcdOIeDNdMZgjqmXQZ1CC33XeTYJUaOCLH6BySIu 3B/Q== X-Gm-Message-State: AOJu0Yw1kpoJCfBd+sOhjCCcNcvI1dzkxRv0G1Ijt2VnfxKucG/nx4td CN6HhXc5zfoInwGgGsxZBrEOE4/lKTmJ+Ypdd7bkGIYC14l98K3vRrf96aBzoKCZdfO4ezHdfQD tUgAkGwLAENNMJ9P8cKLCSq5cCsyJxEsEdS5B3EF7w76/Z9OgxR0I5hVrkpzC X-Gm-Gg: ASbGnctM5ffgk3GJoEdCG0Qfq2nW95t29PNZxTJ5bu8UcU3u0fia4QaU8YvQg5fl9Zo dESILp68ykZcPNlREUTHOl/pbDjf0BK0zR61vpjHaxMZwBDANTRPGlS6IYQgoGk7CT41GG/3v4h MeO6NjbSq1PpVeCtRX8UFN9lvfWmDyfhmdTZ8PYBl9KQP331Yp+r1ZEfyEtPuxCScZ2Y0dBNIVH Ela3xQ0XAfD7SZFNzisQJmQdTmypcudv8A89b6AaRigobGZOmw73Q1zYvLt1FYpgHBVtENbFGgL M/IYArybtG6Q3TlzYYKA4sA3SnCWbVBacDFMOzE+40SGFi5+yQ== X-Google-Smtp-Source: AGHT+IEu4Ufy8rMfJa4g//k5JsBqiedqe9bAzoLfDqEnvI/pLImOfkf4n4YN3D7twZv6wvQrDbEgapQWRun6 X-Received: by 2002:a05:6870:854f:b0:2e8:ec55:aafc with SMTP id 586e51a60fabf-306c736f896mr1874898fac.37.1753279263136; Wed, 23 Jul 2025 07:01:03 -0700 (PDT) Received: from postal.iol.unh.edu (postal.iol.unh.edu. [2606:4100:3880:1234::84]) by smtp-relay.gmail.com with ESMTPS id 586e51a60fabf-306b3ef491dsm235553fac.13.2025.07.23.07.01.03 (version=TLS1_2 cipher=ECDHE-ECDSA-AES128-GCM-SHA256 bits=128/128); Wed, 23 Jul 2025 07:01:03 -0700 (PDT) X-Relaying-Domain: iol.unh.edu Date: Wed, 23 Jul 2025 07:01:03 -0700 (PDT) Message-ID: <6880eb1f.050a0220.a72f.c9e9SMTPIN_ADDED_MISSING@mx.google.com> Received: from [172.21.0.5] (unknown [172.18.0.240]) by postal.iol.unh.edu (Postfix) with ESMTP id A1987604D420; Wed, 23 Jul 2025 10:01:02 -0400 (EDT) Subject: |SUCCESS| pw155457 [PATCH] net/af_xdp: enable AF_XDP program attachm From: dpdklab@iol.unh.edu To: Test Report Cc: dpdk-test-reports@iol.unh.edu In-Reply-To: <20250723074249.3264675-1-shivajikant@google.com> References: <20250723074249.3264675-1-shivajikant@google.com> Content-Type: text/plain X-BeenThere: test-report@dpdk.org X-Mailman-Version: 2.1.29 Precedence: list List-Id: automatic DPDK test reports List-Unsubscribe: , List-Archive: List-Post: List-Help: List-Subscribe: , Errors-To: test-report-bounces@dpdk.org Test-Label: iol-unit-amd64-testing Test-Status: SUCCESS http://dpdk.org/patch/155457 _Testing PASS_ Submitter: Shivaji Kant Date: Wednesday, July 23 2025 07:42:49 DPDK git baseline: Repo:dpdk Branch: master CommitID:b78afde1fed9e11ee5cdce333a1a69dd7a9cf13e 155457 --> testing pass Upstream job id: Generic-VM-Unit-Test-DPDK#30132 Test environment and result as below: +-------------------------------+----------------+ | Environment | dpdk_unit_test | +===============================+================+ | CentOS Stream 9 | PASS | +-------------------------------+----------------+ | CentOS Stream 10 | PASS | +-------------------------------+----------------+ | Fedora Linux 40 | PASS | +-------------------------------+----------------+ | Fedora Linux 41 | PASS | +-------------------------------+----------------+ | Red Hat Enterprise Linux 8.10 | PASS | +-------------------------------+----------------+ | Red Hat Enterprise Linux 9.5 | PASS | +-------------------------------+----------------+ | Ubuntu 22.04 | PASS | +-------------------------------+----------------+ | Debian GNU/Linux 12 | PASS | +-------------------------------+----------------+ | Ubuntu 20.04 | PASS | +-------------------------------+----------------+ | Ubuntu 24.04 | PASS | +-------------------------------+----------------+ | Windows Server 2022 | PASS | +-------------------------------+----------------+ CentOS Stream 9 Kernel: 5.15 Compiler: gcc gcc (GCC) 11.5.0 20240719 (Red Hat 11.5.0-7) CentOS Stream 10 Kernel: 5.15 Compiler: gcc gcc (GCC) 14.2.1 20250110 (Red Hat 14.2.1-8) Fedora Linux 40 Kernel: 5.15 Compiler: clang gcc (GCC) 14.2.1 20240912 (Red Hat 14.2.1-3) Fedora Linux 41 Kernel: 5.15 Compiler: gcc gcc (GCC) 14.3.1 20250523 (Red Hat 14.3.1-1) Red Hat Enterprise Linux 8.10 Kernel: 5.15 Compiler: gcc gcc (GCC) 8.5.0 20210514 (Red Hat 8.5.0-22) Red Hat Enterprise Linux 9.5 Kernel: 5.15 Compiler: gcc gcc (GCC) 11.5.0 20240719 (Red Hat 11.5.0-2) Ubuntu 22.04 Kernel: 5.15 Compiler: gcc gcc (Ubuntu 11.4.0-1ubuntu1~22.04) 11.4.0 Debian GNU/Linux 12 Kernel: 5.15 Compiler: gcc gcc (Debian 12.2.0-14+deb12u1) 12.2.0 Ubuntu 20.04 Kernel: 5.15 Compiler: gcc gcc (Ubuntu 9.4.0-1ubuntu1~20.04.2) 9.4.0 Ubuntu 24.04 Kernel: 5.15 Compiler: gcc gcc (Ubuntu 13.3.0-6ubuntu2~24.04) 13.3.0 Windows Server 2022 Kernel: 10.0.20348.2031 Compiler: clang 15.0.7, gcc 14.1.0 (MinGW), and MSVC VS 19.39.33521 To view detailed results, visit: https://lab.dpdk.org/results/dashboard/patchsets/33735/ UNH-IOL DPDK Community Lab To manage your email subscriptions, visit: https://lab.dpdk.org/results/dashboard/preferences/subscriptions/