From mboxrd@z Thu Jan 1 00:00:00 1970 Return-Path: Received: from mails.dpdk.org (mails.dpdk.org [217.70.189.124]) by inbox.dpdk.org (Postfix) with ESMTP id 92F0746BF2 for ; Wed, 23 Jul 2025 16:35:07 +0200 (CEST) Received: from mails.dpdk.org (localhost [127.0.0.1]) by mails.dpdk.org (Postfix) with ESMTP id 8E80F40DDB; Wed, 23 Jul 2025 16:35:07 +0200 (CEST) Received: from mail-pf1-f225.google.com (mail-pf1-f225.google.com [209.85.210.225]) by mails.dpdk.org (Postfix) with ESMTP id B9C1040DDB for ; Wed, 23 Jul 2025 16:35:06 +0200 (CEST) Received: by mail-pf1-f225.google.com with SMTP id d2e1a72fcca58-749068b9b63so9635b3a.0 for ; Wed, 23 Jul 2025 07:35:06 -0700 (PDT) DKIM-Signature: v=1; a=rsa-sha256; c=relaxed/relaxed; d=iol.unh.edu; s=unh-iol; t=1753281306; x=1753886106; darn=dpdk.org; h=references:in-reply-to:cc:to:from:subject:message-id:date:from:to :cc:subject:date:message-id:reply-to; bh=H7Ts2qjeQ/D8gqrIkS41gVA1DwNd1Vc9i1xSS2D4OO8=; b=bH9fN1MZgJQMoprNBizpmKvCc7xAQgKeA7C8V7DwRA0nIV8RzuHXpivRGbnulEYech qWlQCzKoti32RaaMlytsmXYp0EFe5GvXMEv0HHjJCciJbmJ/mRFkyGyLW613z3nC/NNO T5ZlSopgsdJFPYeitRupkM0NgBkpfFbZb2uAw= X-Google-DKIM-Signature: v=1; a=rsa-sha256; c=relaxed/relaxed; d=1e100.net; s=20230601; t=1753281306; x=1753886106; h=references:in-reply-to:cc:to:from:subject:message-id:date :x-gm-message-state:from:to:cc:subject:date:message-id:reply-to; bh=H7Ts2qjeQ/D8gqrIkS41gVA1DwNd1Vc9i1xSS2D4OO8=; b=TQMyiazFv6Eyt1TvWuGrtxdPTmoGhyHpD9Y9w0j6xyO26NkuHveOS4op5O1xnBWXWm UUjbus9fIjR3wJrnjpbKWm0g7UAr3WnFFLEqjW6eJir/e52VP1NaqN9lx0lSQhGzvMVk u+Si1VSY2mbmPhovJ1Fwx4CTFkDI9gHGf1KNxJMrL1KwDMC1hUSe7x5ordH8wLn8zR24 d0jmz50/x7SjjI0NM/nFvQum7nmy6zMhzGK3krz8Xp6yERgxMFhIFq9xKD9ET1QEX06S r0GMTt4fjXPMT4Jb2LflbMYHEiyeNVmahKgJr7AltJgVGqrOGoAUcXuVme+moPlBE8R+ cDuQ== X-Gm-Message-State: AOJu0YxFhz1Ttc0WZMyFerGRl3cnUh5jOpECd7Ov3ZxtqGfBFDYN1eGS 6R7U/efj5U/g2HvJzQ06wA1V4s7y1jw5uB1Ezu4+YXDyAyRqfn7QACRV6sBQNTX384fTk1M2JnW YNltx+HmsvQ6wrBcDeMIdxLa7wcZTbgsYLi+a8pbJJamYSop3F5MgrDiEFEC2 X-Gm-Gg: ASbGncsPMaEytuzsj/R9ghDw6ii5ekGLKfj10Cwa5nHAMgzu4Q6HKVJNU3G+siYnjhg lqixanM9ITfqnPSMG6TcXdYsPsyA84t9nlBWlDl3KFJAlUj9n4DHkHyHUE6Pwd0FVoe+yOOB0GX Dueln/1xODJR75UTa6wOxEvZFgP+pkw0N94Oqp2Op5B4fzka+wfUdCmnWhyje2/TKzDrxLhlbvY VddO+DAADyZNrpM6Jdm0MU89ow2dOOFOlH/CKrCGTCsHTWyeinQT//F3mlc68fq0VVCRjFvOmG1 r+gH98y1N5O+2H/ud+rofIH+x98vgT7U9PLcOnkbsmKX4hOcVQ== X-Google-Smtp-Source: AGHT+IEnT43HbD6piJkJsriG2phRuwOBypCmwVejkC5NMM3wNCtaptoihodoAZwYTVRNr4sWvyRCyMJfvBJL X-Received: by 2002:a05:6a00:88c:b0:748:ff39:a0f7 with SMTP id d2e1a72fcca58-76034c5259emr4264492b3a.9.1753281305434; Wed, 23 Jul 2025 07:35:05 -0700 (PDT) Received: from postal.iol.unh.edu (postal.iol.unh.edu. [2606:4100:3880:1234::84]) by smtp-relay.gmail.com with ESMTPS id d2e1a72fcca58-759c84dac1fsm738053b3a.3.2025.07.23.07.35.05 (version=TLS1_2 cipher=ECDHE-ECDSA-AES128-GCM-SHA256 bits=128/128); Wed, 23 Jul 2025 07:35:05 -0700 (PDT) X-Relaying-Domain: iol.unh.edu Date: Wed, 23 Jul 2025 07:35:05 -0700 (PDT) Message-ID: <6880f319.050a0220.1f7534.5580SMTPIN_ADDED_MISSING@mx.google.com> Received: from [172.21.0.3] (unknown [172.18.0.240]) by postal.iol.unh.edu (Postfix) with ESMTP id D9C0A6051830; Wed, 23 Jul 2025 10:35:04 -0400 (EDT) Subject: |SUCCESS| pw155457 [PATCH] net/af_xdp: enable AF_XDP program attachm From: dpdklab@iol.unh.edu To: Test Report Cc: dpdk-test-reports@iol.unh.edu In-Reply-To: <20250723074249.3264675-1-shivajikant@google.com> References: <20250723074249.3264675-1-shivajikant@google.com> Content-Type: text/plain X-BeenThere: test-report@dpdk.org X-Mailman-Version: 2.1.29 Precedence: list List-Id: automatic DPDK test reports List-Unsubscribe: , List-Archive: List-Post: List-Help: List-Subscribe: , Errors-To: test-report-bounces@dpdk.org Test-Label: iol-unit-amd64-testing Test-Status: SUCCESS http://dpdk.org/patch/155457 _Testing PASS_ Submitter: Shivaji Kant Date: Wednesday, July 23 2025 07:42:49 DPDK git baseline: Repo:dpdk Branch: master CommitID:b78afde1fed9e11ee5cdce333a1a69dd7a9cf13e 155457 --> testing pass Upstream job id: Generic-VM-Unit-Test-DPDK#30133 Test environment and result as below: +-------------------------------+----------------+ | Environment | dpdk_unit_test | +===============================+================+ | CentOS Stream 9 | PASS | +-------------------------------+----------------+ | CentOS Stream 10 | PASS | +-------------------------------+----------------+ | Fedora Linux 40 | PASS | +-------------------------------+----------------+ | Fedora Linux 41 | PASS | +-------------------------------+----------------+ | Red Hat Enterprise Linux 8.10 | PASS | +-------------------------------+----------------+ | Red Hat Enterprise Linux 9.5 | PASS | +-------------------------------+----------------+ | Ubuntu 22.04 | PASS | +-------------------------------+----------------+ | Debian GNU/Linux 12 | PASS | +-------------------------------+----------------+ | Ubuntu 20.04 | PASS | +-------------------------------+----------------+ | Ubuntu 24.04 | PASS | +-------------------------------+----------------+ | Windows Server 2022 | PASS | +-------------------------------+----------------+ CentOS Stream 9 Kernel: 5.15 Compiler: gcc gcc (GCC) 11.5.0 20240719 (Red Hat 11.5.0-7) CentOS Stream 10 Kernel: 5.15 Compiler: gcc gcc (GCC) 14.2.1 20250110 (Red Hat 14.2.1-8) Fedora Linux 40 Kernel: 5.15 Compiler: clang gcc (GCC) 14.2.1 20240912 (Red Hat 14.2.1-3) Fedora Linux 41 Kernel: 5.15 Compiler: gcc gcc (GCC) 14.3.1 20250523 (Red Hat 14.3.1-1) Red Hat Enterprise Linux 8.10 Kernel: 5.15 Compiler: gcc gcc (GCC) 8.5.0 20210514 (Red Hat 8.5.0-22) Red Hat Enterprise Linux 9.5 Kernel: 5.15 Compiler: gcc gcc (GCC) 11.5.0 20240719 (Red Hat 11.5.0-2) Ubuntu 22.04 Kernel: 5.15 Compiler: gcc gcc (Ubuntu 11.4.0-1ubuntu1~22.04) 11.4.0 Debian GNU/Linux 12 Kernel: 5.15 Compiler: gcc gcc (Debian 12.2.0-14+deb12u1) 12.2.0 Ubuntu 20.04 Kernel: 5.15 Compiler: gcc gcc (Ubuntu 9.4.0-1ubuntu1~20.04.2) 9.4.0 Ubuntu 24.04 Kernel: 5.15 Compiler: gcc gcc (Ubuntu 13.3.0-6ubuntu2~24.04) 13.3.0 Windows Server 2022 Kernel: 10.0.20348.2031 Compiler: clang 15.0.7, gcc 14.1.0 (MinGW), and MSVC VS 19.39.33521 To view detailed results, visit: https://lab.dpdk.org/results/dashboard/patchsets/33735/ UNH-IOL DPDK Community Lab To manage your email subscriptions, visit: https://lab.dpdk.org/results/dashboard/preferences/subscriptions/