From mboxrd@z Thu Jan 1 00:00:00 1970 Return-Path: Received: from mails.dpdk.org (mails.dpdk.org [217.70.189.124]) by inbox.dpdk.org (Postfix) with ESMTP id A06A646BF2 for ; Wed, 23 Jul 2025 16:44:39 +0200 (CEST) Received: from mails.dpdk.org (localhost [127.0.0.1]) by mails.dpdk.org (Postfix) with ESMTP id 9B1A340667; Wed, 23 Jul 2025 16:44:39 +0200 (CEST) Received: from mail-yb1-f225.google.com (mail-yb1-f225.google.com [209.85.219.225]) by mails.dpdk.org (Postfix) with ESMTP id 1865F40667 for ; Wed, 23 Jul 2025 16:44:38 +0200 (CEST) Received: by mail-yb1-f225.google.com with SMTP id 3f1490d57ef6-e8bd2eae9e0so4920585276.1 for ; Wed, 23 Jul 2025 07:44:38 -0700 (PDT) DKIM-Signature: v=1; a=rsa-sha256; c=relaxed/relaxed; d=iol.unh.edu; s=unh-iol; t=1753281877; x=1753886677; darn=dpdk.org; h=references:in-reply-to:cc:to:from:subject:message-id:date:from:to :cc:subject:date:message-id:reply-to; bh=4S2PXrCan8WcXYd6ByNg5r6wZjWdT9vzybRqjtLHXrE=; b=cGPczJYxrVM2aUtSGW0UWi1NthpuI106TQNq2p1tbMjco/785r7SXtvAIECKgYKSer viMeRHZN+7xwbLFBT0qkpEYtO3Dy3N6YaX4/7z7BxsizCWi4Ygalemunf49CA1In5X5F hJchfp+WugNPgV+8mj2v1nGosF2Vjairhh/Yc= X-Google-DKIM-Signature: v=1; a=rsa-sha256; c=relaxed/relaxed; d=1e100.net; s=20230601; t=1753281877; x=1753886677; h=references:in-reply-to:cc:to:from:subject:message-id:date :x-gm-message-state:from:to:cc:subject:date:message-id:reply-to; bh=4S2PXrCan8WcXYd6ByNg5r6wZjWdT9vzybRqjtLHXrE=; b=gKfzK4AzHcrJsRtscy0ZqQsPXE7sGkHumvXfsxSvTlM4TIAiUpI/zLB6lhNqaqJ3nE cw1DLaNNShVHKByFMs8iyC9qY/mU4pTG8At9RkVw81qD5rgU3HgyOKvGl2egU/PIyG4V yJf+OarlpQ4cP1GdTnJz2cpvq2jnoX9fdFI3cUDqLEtr0AB1ePXMvHv5Lg678dGjUdJA YXnOjlltISb1iNzutWfd4+84y6zQnNcCHkNrBfLZzFxRAlhi/pjplt1nLyyuZTml2ypA gqI+L1XkJjGrT7dgOpU3Y9z+ZxkTwskJpow67E2tP90M/yy4UH1iCQmmtw2nZarys3Xj BLFg== X-Gm-Message-State: AOJu0Yx/PoCzGVFL0/PbaBEvY0ilrCcztp4/UURqxy2IHvPDKYtOMYDZ V3ZOI+HEts8YXno4j5Wh1VlKWvkae1TufDYY2tyz9w5FSzqHNrE0Zt+dzvJQssFS0wHOoxMX/LG M8vuQiZzBp7v2PWyiJGamuDnOS4foNpgxAKfZyhSR3PVubW1hBnUh6qVgb0DQ X-Gm-Gg: ASbGnctWcbQopg4RQMvwm1Uj73Zcvdkwzef5zwAevmnIgcauwQbUrsxmLF2zMITIqZH m0PDoTJNMuwREytho6sSZmxZqVr84OxYF0ZlqvbgxYbVwR6hCZYVSOI/Vg3XI+LEvko5bxna6zL HWAbgSfMfG0AdYevehnLJY1w4n1y1kXveyCToUxbUx0uwGUisRjg1iJtaLvi/FM4Ni3Ot6Ltc16 GM5wSxrsPSfr8XWXecvxIAWUbWVbNBN9DgrgJYt4DVE3bB0MQmqD/cwQFJGxvWebRErbtwCSL5i 8bKKND8Wxmuj/7nvu5C2K65iYQlVgUD++xPOdG1hFaPkKSs/6A== X-Google-Smtp-Source: AGHT+IFBFWQLLhukSNOjmdxnYVwwU40iOlZl+wKQc4/zDhq3yeT2/A8Lv14vQS5Oh7mVNp2oL2GwA0bGKQDM X-Received: by 2002:a05:6902:4a8d:b0:e8d:b953:c5a2 with SMTP id 3f1490d57ef6-e8dc5ac8f7fmr4035337276.23.1753281877148; Wed, 23 Jul 2025 07:44:37 -0700 (PDT) Received: from postal.iol.unh.edu (postal.iol.unh.edu. [2606:4100:3880:1234::84]) by smtp-relay.gmail.com with ESMTPS id 3f1490d57ef6-e8d7cdd284dsm685872276.17.2025.07.23.07.44.37 (version=TLS1_2 cipher=ECDHE-ECDSA-AES128-GCM-SHA256 bits=128/128); Wed, 23 Jul 2025 07:44:37 -0700 (PDT) X-Relaying-Domain: iol.unh.edu Date: Wed, 23 Jul 2025 07:44:37 -0700 (PDT) Message-ID: <6880f555.050a0220.1cbefa.39e7SMTPIN_ADDED_MISSING@mx.google.com> Received: from [172.21.0.3] (unknown [172.18.0.240]) by postal.iol.unh.edu (Postfix) with ESMTP id C6796604D420; Wed, 23 Jul 2025 10:44:36 -0400 (EDT) Subject: |SUCCESS| pw155446 [PATCH] lib/ethdev: fix segfault in secondary pro From: dpdklab@iol.unh.edu To: Test Report Cc: dpdk-test-reports@iol.unh.edu In-Reply-To: <20250723042959.1576338-1-14pwcse1224@uetpeshawar.edu.pk> References: <20250723042959.1576338-1-14pwcse1224@uetpeshawar.edu.pk> Content-Type: text/plain X-BeenThere: test-report@dpdk.org X-Mailman-Version: 2.1.29 Precedence: list List-Id: automatic DPDK test reports List-Unsubscribe: , List-Archive: List-Post: List-Help: List-Subscribe: , Errors-To: test-report-bounces@dpdk.org Test-Label: iol-compile-amd64-testing Test-Status: SUCCESS http://dpdk.org/patch/155446 _Testing PASS_ Submitter: Khadem Ullah <14pwcse1224@uetpeshawar.edu.pk> Date: Wednesday, July 23 2025 04:29:59 DPDK git baseline: Repo:dpdk Branch: master CommitID:b78afde1fed9e11ee5cdce333a1a69dd7a9cf13e 155446 --> testing pass Upstream job id: Generic-DPDK-Compile-Meson#411389 Test environment and result as below: +-------------------------------+--------------------+-------------------+-------------------------+----------------------+-------------------+------------------+ | Environment | dpdk_meson_compile | dpdk_msvc_compile | dpdk_llvm_clang_compile | dpdk_mingw64_compile | dpdk_compile_spdk | dpdk_compile_ovs | +===============================+====================+===================+=========================+======================+===================+==================+ | Ubuntu 20.04 | PASS | SKIPPED | SKIPPED | SKIPPED | SKIPPED | SKIPPED | +-------------------------------+--------------------+-------------------+-------------------------+----------------------+-------------------+------------------+ | FreeBSD 14.2 | PASS | SKIPPED | SKIPPED | SKIPPED | SKIPPED | SKIPPED | +-------------------------------+--------------------+-------------------+-------------------------+----------------------+-------------------+------------------+ | CentOS Stream 9 | PASS | SKIPPED | SKIPPED | SKIPPED | PASS | SKIPPED | +-------------------------------+--------------------+-------------------+-------------------------+----------------------+-------------------+------------------+ | CentOS Stream 10 | PASS | SKIPPED | SKIPPED | SKIPPED | SKIPPED | SKIPPED | +-------------------------------+--------------------+-------------------+-------------------------+----------------------+-------------------+------------------+ | Debian GNU/Linux 12 | PASS | SKIPPED | SKIPPED | SKIPPED | PASS | SKIPPED | +-------------------------------+--------------------+-------------------+-------------------------+----------------------+-------------------+------------------+ | Fedora Linux 40 | PASS | SKIPPED | SKIPPED | SKIPPED | PASS | SKIPPED | +-------------------------------+--------------------+-------------------+-------------------------+----------------------+-------------------+------------------+ | Fedora Linux 41 | PASS | SKIPPED | SKIPPED | SKIPPED | PASS | PASS | +-------------------------------+--------------------+-------------------+-------------------------+----------------------+-------------------+------------------+ | openSUSE Leap 15.6 | PASS | SKIPPED | SKIPPED | SKIPPED | SKIPPED | SKIPPED | +-------------------------------+--------------------+-------------------+-------------------------+----------------------+-------------------+------------------+ | Red Hat Enterprise Linux 8.10 | PASS | SKIPPED | SKIPPED | SKIPPED | SKIPPED | SKIPPED | +-------------------------------+--------------------+-------------------+-------------------------+----------------------+-------------------+------------------+ | Red Hat Enterprise Linux 9.5 | PASS | SKIPPED | SKIPPED | SKIPPED | SKIPPED | SKIPPED | +-------------------------------+--------------------+-------------------+-------------------------+----------------------+-------------------+------------------+ | Ubuntu 22.04 | PASS | SKIPPED | SKIPPED | SKIPPED | PASS | SKIPPED | +-------------------------------+--------------------+-------------------+-------------------------+----------------------+-------------------+------------------+ | Ubuntu 24.04 | PASS | SKIPPED | SKIPPED | SKIPPED | PASS | PASS | +-------------------------------+--------------------+-------------------+-------------------------+----------------------+-------------------+------------------+ | Alpine Linux 3.22.0 | PASS | SKIPPED | SKIPPED | SKIPPED | SKIPPED | SKIPPED | +-------------------------------+--------------------+-------------------+-------------------------+----------------------+-------------------+------------------+ | Windows Server 2022 | SKIPPED | PASS | PASS | PASS | SKIPPED | SKIPPED | +-------------------------------+--------------------+-------------------+-------------------------+----------------------+-------------------+------------------+ Ubuntu 20.04 Kernel: 4.19 Compiler: gcc gcc (Ubuntu 9.4.0-1ubuntu1~20.04.2) 9.4.0 FreeBSD 14.2 Kernel: 14.2-RELEASE Compiler: clang 18.1.6 CentOS Stream 9 Kernel: 5.15 Compiler: gcc gcc (GCC) 11.5.0 20240719 (Red Hat 11.5.0-7) CentOS Stream 10 Kernel: 5.15 Compiler: gcc gcc (GCC) 14.2.1 20250110 (Red Hat 14.2.1-8) Debian GNU/Linux 12 Kernel: 5.15 Compiler: gcc gcc (Debian 12.2.0-14+deb12u1) 12.2.0 Fedora Linux 40 Kernel: 5.15 Compiler: clang gcc (GCC) 14.2.1 20240912 (Red Hat 14.2.1-3) Fedora Linux 41 Kernel: 5.15 Compiler: clang gcc (GCC) 14.3.1 20250523 (Red Hat 14.3.1-1) openSUSE Leap 15.6 Kernel: 5.15 Compiler: gcc gcc (SUSE Linux) 7.5.0 Red Hat Enterprise Linux 8.10 Kernel: 5.15 Compiler: gcc gcc (GCC) 8.5.0 20210514 (Red Hat 8.5.0-22) Red Hat Enterprise Linux 9.5 Kernel: 5.15 Compiler: gcc gcc (GCC) 11.5.0 20240719 (Red Hat 11.5.0-2) Ubuntu 22.04 Kernel: 5.15 Compiler: gcc gcc (Ubuntu 11.4.0-1ubuntu1~22.04) 11.4.0 Ubuntu 24.04 Kernel: 5.15 Compiler: gcc gcc (Ubuntu 13.3.0-6ubuntu2~24.04) 13.3.0 Alpine Linux 3.22.0 Kernel: 5.15 Compiler: gcc gcc (Alpine 14.2.0) 14.2.0 Windows Server 2022 Kernel: 10.0.20348.2031 Compiler: clang 15.0.7, gcc 14.1.0 (MinGW), and MSVC VS 19.39.33521 To view detailed results, visit: https://lab.dpdk.org/results/dashboard/patchsets/33731/ UNH-IOL DPDK Community Lab To manage your email subscriptions, visit: https://lab.dpdk.org/results/dashboard/preferences/subscriptions/