From mboxrd@z Thu Jan 1 00:00:00 1970 Return-Path: Received: from mails.dpdk.org (mails.dpdk.org [217.70.189.124]) by inbox.dpdk.org (Postfix) with ESMTP id E93ED46BF2 for ; Wed, 23 Jul 2025 16:46:41 +0200 (CEST) Received: from mails.dpdk.org (localhost [127.0.0.1]) by mails.dpdk.org (Postfix) with ESMTP id CB96840667; Wed, 23 Jul 2025 16:46:41 +0200 (CEST) Received: from mail-oo1-f98.google.com (mail-oo1-f98.google.com [209.85.161.98]) by mails.dpdk.org (Postfix) with ESMTP id B1E2240667 for ; Wed, 23 Jul 2025 16:46:40 +0200 (CEST) Received: by mail-oo1-f98.google.com with SMTP id 006d021491bc7-615a4b504b2so1585920eaf.1 for ; Wed, 23 Jul 2025 07:46:40 -0700 (PDT) DKIM-Signature: v=1; a=rsa-sha256; c=relaxed/relaxed; d=iol.unh.edu; s=unh-iol; t=1753282000; x=1753886800; darn=dpdk.org; h=references:in-reply-to:cc:to:from:subject:message-id:date:from:to :cc:subject:date:message-id:reply-to; bh=avEP4wqi+6mut0sn6AWg+adgyNSmzRCzVVOgYf6uOCo=; b=H5Yc9L56i/TeL/S6l5n9Ci1Xkpz1xkBVwNvc4NMUTOSqBb3SOyjUrVbIsMfaFONNBP 9UJEtA1yibNgAc9ytZURgCeIUznzrEp8obOjziR/rFx8WK8TYroZg26J4JPaYL+QARaW RfTtotbfeu0GQJjirF8sxeHFiHuY6KJCx/KVU= X-Google-DKIM-Signature: v=1; a=rsa-sha256; c=relaxed/relaxed; d=1e100.net; s=20230601; t=1753282000; x=1753886800; h=references:in-reply-to:cc:to:from:subject:message-id:date :x-gm-message-state:from:to:cc:subject:date:message-id:reply-to; bh=avEP4wqi+6mut0sn6AWg+adgyNSmzRCzVVOgYf6uOCo=; b=NIMDeoKb8IhpcEhA732dRx7YS9rQVQIhWk4/QAz1UGJmQGGIDs/aqzMgEMGvyR81fy 1jPVfPp2r5MpTM74S+Luo5L43rOSRSZ8g+eT+kHPKEJKJJCqJdLm8UmAhhoxU/IkNPZe RUgjvjh3ietX2hDdcHGy9HX2OESIOCshMMJYb4fgntwM9USO7BWw+HkzAkZ5T/nt3dUv IFldPSoWmfKZSfscazwkYBEOfvVeI5b5d4E5poJn+/CProHnvk+JOlQmApZF7JqBmHCA PWIE+Rk7s1vMKVyh6DjMxW0ytJVpcl/lKsUwc+KZ+SbfMkDSxPTR7LXecS72rHr40LSl H4XQ== X-Gm-Message-State: AOJu0YyTZ6jknbaIytnxW5ZZ+SShy+rZyx1JPWty2DuaiWOZSSfMj3x7 yh0xtYggDElmkf6a7P0Rfl5eeRJrJIn6P/v+WfKdfhX8v+GxYWHrYfFCuX2aw/xqTnvrcrBj69Q XVe/BfGu7CY6RVIXJut/tI5LkziXt4cQe7vHHDie4N8lF X-Gm-Gg: ASbGncukxa37/lDqs4AGIgNNV5EeSCKg1Mtjz5J+qLEtwXX8FmH91l4CNzyHxfc9Qh6 ll7F+l89Badn2EHTVb1njeBA4mn+NcmM7IzKZFDf97CoGYCBzLqnTszDVEsSWMZQW3QNN07j/VQ RulRXQ8Il0PxYEaeEXvsPEOGHOf4OGGRme+OyAWHO/JvPEjDYZbEa1CPaAi9aycYqu6P3RnFucV eE3Ae/Gp9EQgqeJ0fFSzh7TXJw6HOAJrOn5zCEGq9rtuyEpZoziYw2eDXe44GPnZRF8gUeCiar2 ouohnHCSdh0zym7ST6ksLp5lBoe4h1kAnMVbagtNshd3Cj4OSZdkZAMIIS3nsSkLQze3lU48 X-Google-Smtp-Source: AGHT+IEFV7pBRi1iode7owJenrxPWTTrV19d0BZ/E99gnbjUjNt2ECFt7Sene7eTPfV0+nzPOIWBDjF5X08z X-Received: by 2002:a05:6870:638f:b0:29e:40f8:ad9b with SMTP id 586e51a60fabf-306c6f88d5emr2150081fac.14.1753281999767; Wed, 23 Jul 2025 07:46:39 -0700 (PDT) Received: from postal.iol.unh.edu (postal.iol.unh.edu. [132.177.123.84]) by smtp-relay.gmail.com with ESMTPS id 586e51a60fabf-301045710dbsm924986fac.7.2025.07.23.07.46.39 (version=TLS1_2 cipher=ECDHE-ECDSA-AES128-GCM-SHA256 bits=128/128); Wed, 23 Jul 2025 07:46:39 -0700 (PDT) X-Relaying-Domain: iol.unh.edu Date: Wed, 23 Jul 2025 07:46:39 -0700 (PDT) Message-ID: <6880f5cf.050a0220.46691.2c18SMTPIN_ADDED_MISSING@mx.google.com> Received: from [172.21.0.3] (unknown [172.18.0.240]) by postal.iol.unh.edu (Postfix) with ESMTP id 3D425604D420; Wed, 23 Jul 2025 10:46:39 -0400 (EDT) Subject: |SUCCESS| pw155457 [PATCH] net/af_xdp: enable AF_XDP program attachm From: dpdklab@iol.unh.edu To: Test Report Cc: dpdk-test-reports@iol.unh.edu In-Reply-To: <20250723074249.3264675-1-shivajikant@google.com> References: <20250723074249.3264675-1-shivajikant@google.com> Content-Type: text/plain X-BeenThere: test-report@dpdk.org X-Mailman-Version: 2.1.29 Precedence: list List-Id: automatic DPDK test reports List-Unsubscribe: , List-Archive: List-Post: List-Help: List-Subscribe: , Errors-To: test-report-bounces@dpdk.org Test-Label: iol-abi-testing Test-Status: SUCCESS http://dpdk.org/patch/155457 _Testing PASS_ Submitter: Shivaji Kant Date: Wednesday, July 23 2025 07:42:49 DPDK git baseline: Repo:dpdk Branch: master CommitID:b78afde1fed9e11ee5cdce333a1a69dd7a9cf13e 155457 --> testing pass Upstream job id: Generic-DPDK-Compile-ABI#135483 Test environment and result as below: +-------------------------------+----------+ | Environment | abi_test | +===============================+==========+ | CentOS Stream 9 | PASS | +-------------------------------+----------+ | Fedora Linux 40 | PASS | +-------------------------------+----------+ | CentOS Stream 10 | PASS | +-------------------------------+----------+ | Debian GNU/Linux 12 | PASS | +-------------------------------+----------+ | openSUSE Leap 15.6 | PASS | +-------------------------------+----------+ | Ubuntu 24.04 | PASS | +-------------------------------+----------+ | Fedora Linux 41 | PASS | +-------------------------------+----------+ | Ubuntu 22.04 | PASS | +-------------------------------+----------+ | Red Hat Enterprise Linux 9.5 | PASS | +-------------------------------+----------+ | Red Hat Enterprise Linux 8.10 | PASS | +-------------------------------+----------+ CentOS Stream 9 Kernel: 5.15 Compiler: gcc gcc (GCC) 11.5.0 20240719 (Red Hat 11.5.0-7) Fedora Linux 40 Kernel: 5.15 Compiler: clang gcc (GCC) 14.2.1 20240912 (Red Hat 14.2.1-3) CentOS Stream 10 Kernel: 5.15 Compiler: gcc gcc (GCC) 14.2.1 20250110 (Red Hat 14.2.1-8) Debian GNU/Linux 12 Kernel: 5.15 Compiler: gcc gcc (Debian 12.2.0-14+deb12u1) 12.2.0 openSUSE Leap 15.6 Kernel: 5.15 Compiler: gcc gcc (SUSE Linux) 7.5.0 Ubuntu 24.04 Kernel: 5.15 Compiler: gcc gcc (Ubuntu 13.3.0-6ubuntu2~24.04) 13.3.0 Fedora Linux 41 Kernel: 5.15 Compiler: gcc gcc (GCC) 14.3.1 20250523 (Red Hat 14.3.1-1) Ubuntu 22.04 Kernel: 5.15 Compiler: gcc gcc (Ubuntu 11.4.0-1ubuntu1~22.04) 11.4.0 Red Hat Enterprise Linux 9.5 Kernel: 5.15 Compiler: gcc gcc (GCC) 11.5.0 20240719 (Red Hat 11.5.0-2) Red Hat Enterprise Linux 8.10 Kernel: 5.15 Compiler: gcc gcc (GCC) 8.5.0 20210514 (Red Hat 8.5.0-22) To view detailed results, visit: https://lab.dpdk.org/results/dashboard/patchsets/33735/ UNH-IOL DPDK Community Lab To manage your email subscriptions, visit: https://lab.dpdk.org/results/dashboard/preferences/subscriptions/