From mboxrd@z Thu Jan 1 00:00:00 1970 Return-Path: Received: from mails.dpdk.org (mails.dpdk.org [217.70.189.124]) by inbox.dpdk.org (Postfix) with ESMTP id E893846BF2 for ; Wed, 23 Jul 2025 16:56:50 +0200 (CEST) Received: from mails.dpdk.org (localhost [127.0.0.1]) by mails.dpdk.org (Postfix) with ESMTP id C298540DD1; Wed, 23 Jul 2025 16:56:50 +0200 (CEST) Received: from mail-pj1-f98.google.com (mail-pj1-f98.google.com [209.85.216.98]) by mails.dpdk.org (Postfix) with ESMTP id 7D78E40DD1 for ; Wed, 23 Jul 2025 16:56:49 +0200 (CEST) Received: by mail-pj1-f98.google.com with SMTP id 98e67ed59e1d1-313a001d781so5636082a91.3 for ; Wed, 23 Jul 2025 07:56:49 -0700 (PDT) DKIM-Signature: v=1; a=rsa-sha256; c=relaxed/relaxed; d=iol.unh.edu; s=unh-iol; t=1753282608; x=1753887408; darn=dpdk.org; h=references:in-reply-to:cc:to:from:subject:message-id:date:from:to :cc:subject:date:message-id:reply-to; bh=H42EIA1fVU+hiZzni2GzqvJ0B1BCsnbNT0Wubh4p4x4=; b=LiFMn2lNSKG6FmBoWR/C4Fc9tUFHtYIds3gCD4WFpN/jZFsQ8VRyGf0hzJhys72amJ vTg9QhbXBj4+T4sp8W7Fcw9nrvrwlH/PAF2W1gYkqlDgF0VwDm2VYIC61on1LZFDfgEh zWunIpUEIOuKalRBSWyU3noL9fGkjozgMActY= X-Google-DKIM-Signature: v=1; a=rsa-sha256; c=relaxed/relaxed; d=1e100.net; s=20230601; t=1753282608; x=1753887408; h=references:in-reply-to:cc:to:from:subject:message-id:date :x-gm-message-state:from:to:cc:subject:date:message-id:reply-to; bh=H42EIA1fVU+hiZzni2GzqvJ0B1BCsnbNT0Wubh4p4x4=; b=fOYbZkNaNEsWjwcZdfW4GvO/Gek0JWA8HDNMXCzpCYylyWY8COUbyQpiEqMEEuwkzz H/0TgU0b4d+3CudQkz7kD9/MuuUwOf6WW6VBBq2Kyg3GA7HNMbcH9zvGcEvJTjFJ84mT +3+IAIPGocPO9O1i/vVtISsGXfPDbsa9/TCNpwODWpUGy9ki+aNuw1Q0LYInSUK3PXsA jf4u8evLyb4Gl6xKUh+JHwPWuIFkS+dgu/HUFVZyaQQ5ZREUycWqbl5HgVmXiJYDUSvv HP8QJiFGyz0z9oInTLNyJuyT1g3zvBnXPOYB2wQkb539/RQ0YI5kisV/vO0eXQETVAJ7 4Ghw== X-Gm-Message-State: AOJu0Ywckxd80gcdvrr7DK955+ou8Q04DBfE2FHBhhLK8EoqeYbWcI6G NPNJg3cUL0N+oPkEU0EF0OOcnwJsSM9mmg2VNiffZVPuk6xC3T11qsLt9N3hglz/Ub4n3GH/dCY Yc+egcIxft6nPInibk50Zaay/l9D3ICKx79Gj+sf8ilBoa1peEownUGiHETfA X-Gm-Gg: ASbGncsgKaei2Qa6u8iD4DLkDyY1Az8oergbgHstGmO6LzJ/9bRDRxCRrR/icj2g/xP n+MTXQExBsn0DpIcYd4zrNpREK0InJ/xRvNugXCz5QWCrgVdAEokikIk6ubzoVzQhCrI89vGOyG wbxo71rfUdPo/LjcIPjCoQcP2Q0u0AuNwSJPTdCMe0cizpPZCa4ABs2SkRRw/Q8+q1Wrn4r9ean G9Ya2S8osZ4eMlnV7wyexySeRJxwcYDdGmn+eWB837fvR+wAyilUFrSnmTGHBiKR+Gpr79Kxg8z pAABmGVUYTq2X8xwgXQmzpsyNqGXWrSz5ZzGNUgJdEDVLk9VuA== X-Google-Smtp-Source: AGHT+IFlqKdRYQz/SlBs8UzeHCdMAUrNbyqhd9QKx1OOr6eJVC1CWsRPyKK56GpwJgU9ctdrHduDNV1stzEx X-Received: by 2002:a17:90b:2b8e:b0:311:abba:53c9 with SMTP id 98e67ed59e1d1-31e506df905mr4324818a91.7.1753282608509; Wed, 23 Jul 2025 07:56:48 -0700 (PDT) Received: from postal.iol.unh.edu (postal.iol.unh.edu. [2606:4100:3880:1234::84]) by smtp-relay.gmail.com with ESMTPS id 98e67ed59e1d1-31e51a14185sm109699a91.12.2025.07.23.07.56.48 (version=TLS1_2 cipher=ECDHE-ECDSA-AES128-GCM-SHA256 bits=128/128); Wed, 23 Jul 2025 07:56:48 -0700 (PDT) X-Relaying-Domain: iol.unh.edu Date: Wed, 23 Jul 2025 07:56:48 -0700 (PDT) Message-ID: <6880f830.170a0220.168759.5644SMTPIN_ADDED_MISSING@mx.google.com> Received: from [172.21.0.3] (unknown [172.18.0.240]) by postal.iol.unh.edu (Postfix) with ESMTP id B2D51604D420; Wed, 23 Jul 2025 10:56:47 -0400 (EDT) Subject: |SUCCESS| pw155459 [PATCH] [v3] lib/ethdev: fix segfault in secondar From: dpdklab@iol.unh.edu To: Test Report Cc: dpdk-test-reports@iol.unh.edu In-Reply-To: <20250723131049.1703172-1-14pwcse1224@uetpeshawar.edu.pk> References: <20250723131049.1703172-1-14pwcse1224@uetpeshawar.edu.pk> Content-Type: text/plain X-BeenThere: test-report@dpdk.org X-Mailman-Version: 2.1.29 Precedence: list List-Id: automatic DPDK test reports List-Unsubscribe: , List-Archive: List-Post: List-Help: List-Subscribe: , Errors-To: test-report-bounces@dpdk.org Test-Label: iol-compile-amd64-testing Test-Status: SUCCESS http://dpdk.org/patch/155459 _Testing PASS_ Submitter: Khadem Ullah <14pwcse1224@uetpeshawar.edu.pk> Date: Wednesday, July 23 2025 13:10:49 DPDK git baseline: Repo:dpdk Branch: master CommitID:b78afde1fed9e11ee5cdce333a1a69dd7a9cf13e 155459 --> testing pass Upstream job id: Generic-VM-DPDK-Compile-Meson#37344 Test environment and result as below: +---------------------+-------------------+-------------------------+--------------------+----------------------+ | Environment | dpdk_msvc_compile | dpdk_llvm_clang_compile | dpdk_meson_compile | dpdk_mingw64_compile | +=====================+===================+=========================+====================+======================+ | Windows Server 2022 | PASS | PASS | SKIPPED | PASS | +---------------------+-------------------+-------------------------+--------------------+----------------------+ | FreeBSD 14.2 | SKIPPED | SKIPPED | PASS | SKIPPED | +---------------------+-------------------+-------------------------+--------------------+----------------------+ | Ubuntu 20.04 | SKIPPED | SKIPPED | PASS | SKIPPED | +---------------------+-------------------+-------------------------+--------------------+----------------------+ Windows Server 2022 Kernel: 10.0.20348.2031 Compiler: clang 15.0.7, gcc 14.1.0 (MinGW), and MSVC VS 19.39.33521 FreeBSD 14.2 Kernel: 14.2-RELEASE Compiler: clang 18.1.6 Ubuntu 20.04 Kernel: 4.19 Compiler: gcc gcc (Ubuntu 9.4.0-1ubuntu1~20.04.2) 9.4.0 To view detailed results, visit: https://lab.dpdk.org/results/dashboard/patchsets/33737/ UNH-IOL DPDK Community Lab To manage your email subscriptions, visit: https://lab.dpdk.org/results/dashboard/preferences/subscriptions/