From mboxrd@z Thu Jan 1 00:00:00 1970 Return-Path: Received: from mails.dpdk.org (mails.dpdk.org [217.70.189.124]) by inbox.dpdk.org (Postfix) with ESMTP id EF5BB46BF2 for ; Wed, 23 Jul 2025 17:07:25 +0200 (CEST) Received: from mails.dpdk.org (localhost [127.0.0.1]) by mails.dpdk.org (Postfix) with ESMTP id C49C740DF8; Wed, 23 Jul 2025 17:07:25 +0200 (CEST) Received: from mail-pl1-f225.google.com (mail-pl1-f225.google.com [209.85.214.225]) by mails.dpdk.org (Postfix) with ESMTP id 7D16040DD1 for ; Wed, 23 Jul 2025 17:07:24 +0200 (CEST) Received: by mail-pl1-f225.google.com with SMTP id d9443c01a7336-235ea292956so62743915ad.1 for ; Wed, 23 Jul 2025 08:07:24 -0700 (PDT) DKIM-Signature: v=1; a=rsa-sha256; c=relaxed/relaxed; d=iol.unh.edu; s=unh-iol; t=1753283243; x=1753888043; darn=dpdk.org; h=references:in-reply-to:cc:to:from:subject:message-id:date:from:to :cc:subject:date:message-id:reply-to; bh=0IniJF2Vpi4dloLjKVZLR3pLowj9rcogV23g1fP9arY=; b=VBWASbl9VSaUiX2OvjteG/edY7I5sY8QWxR+H+i0LD1hOUM0b1Gn23z7JKg74/DByM F/+k/5/Y2+1britZIvPT2RVrf/wfMOrp/D4GoUgc1WfXLPxnt1Re7F9j8aGxcuCcFVsq HxtIkv6r+BmoRvwNvF/8lbD58TI//wqDAAMuU= X-Google-DKIM-Signature: v=1; a=rsa-sha256; c=relaxed/relaxed; d=1e100.net; s=20230601; t=1753283243; x=1753888043; h=references:in-reply-to:cc:to:from:subject:message-id:date :x-gm-message-state:from:to:cc:subject:date:message-id:reply-to; bh=0IniJF2Vpi4dloLjKVZLR3pLowj9rcogV23g1fP9arY=; b=dFY5R8l0rck05cXjIbE65K4rBOB0KgnrzP6lV2L0frf1hRjllWiZQqFSUFcXR1rKxf pneG7jLRY9OaGvR4pY/8hkpsK87Enzth73hCPOjyCmnjATImPfX0SqRoKx22GWx4Rf31 pJc1C4+thpd8c/9NLUJfYRLK9Sk7sueyGWlQFpoo/XFzNLxHnzIY+kFRbNR4VOZqnA72 WM3CWjdCCIjWu6YlWxEMf6OkZI7VONz8zGY5gQzTNZfqeANiQ3oCsp9MH9ACByqOtIOp IWhHjRGuNgS3O7taQcqZ13tzIn+28j15o9P2FPdJG4Y3+c/4Cs2Ib1cQxYNe1HupSEGB IkHw== X-Gm-Message-State: AOJu0YzOXx24WFPg8KatU8thBxj2UByzLUsLz9IyDe7lhLMi78FXmuqd 56sME0L7J5NVEvclJBWN2W7Jp1638G+UUz+BqmSgOz3ecR9JmmKM2ZF6/9/oG30wjzAyMqmDAfU jXi4jFTavFJ+E8zSCOiN4btLKhAZUwjUZyozzvkb1Z+2IT9fHkclwMS3bJMmv X-Gm-Gg: ASbGnctC5yyw8SyhVHm6fjJ/2cDq2vGKyR7J3hMQKHwc5bLcdpjyodovEKTuhvJlMDQ DBjLXfv2Oy+MTlZzMbeOkbChfAPzt2dD0wHwSL4vgeWFOlvk151B7nj/rB5eNGslOtE4C5Ivm8d YdywQ4zTpNsezThk0OiAdyHQrZv8k2y+TW0gvTMaGeqj4cDdGPp/LlgWxVg+PgYWdj9+ir/r9o/ WQix62rTwj8AQRgB0xsZNrpagSwz5tpwDhiEe4Ubrjcc0eew8f/sw9gvU9DtR09L4vtkQrHdUDM niajjkML67YLsyxOq818QTsIQLTBtW2KB888wz+GEBBYNh2OkQ== X-Google-Smtp-Source: AGHT+IFch77+mX/3GS71qbnJ+wiRU5pKsXJLLJH+ivazwGCJf7dQpbLtxy2drgu58AsBa4CfHKknlhikVf91 X-Received: by 2002:a17:903:1b0c:b0:235:f143:9b07 with SMTP id d9443c01a7336-23f9813aa53mr45481585ad.5.1753283243575; Wed, 23 Jul 2025 08:07:23 -0700 (PDT) Received: from postal.iol.unh.edu (postal.iol.unh.edu. [2606:4100:3880:1234::84]) by smtp-relay.gmail.com with ESMTPS id d9443c01a7336-23e3b6b784dsm6895315ad.58.2025.07.23.08.07.23 (version=TLS1_2 cipher=ECDHE-ECDSA-AES128-GCM-SHA256 bits=128/128); Wed, 23 Jul 2025 08:07:23 -0700 (PDT) X-Relaying-Domain: iol.unh.edu Date: Wed, 23 Jul 2025 08:07:23 -0700 (PDT) Message-ID: <6880faab.170a0220.3924ed.3963SMTPIN_ADDED_MISSING@mx.google.com> Received: from [172.21.0.4] (unknown [172.18.0.240]) by postal.iol.unh.edu (Postfix) with ESMTP id 78F63604D420; Wed, 23 Jul 2025 11:07:22 -0400 (EDT) Subject: |WARNING| pw155447-155454 [PATCH] [v9,8/8] lib/pmu: fix out-of-bound From: dpdklab@iol.unh.edu To: Test Report Cc: dpdk-test-reports@iol.unh.edu In-Reply-To: <20250723044118.2962318-9-tduszynski@marvell.com> References: <20250723044118.2962318-9-tduszynski@marvell.com> Content-Type: text/plain X-BeenThere: test-report@dpdk.org X-Mailman-Version: 2.1.29 Precedence: list List-Id: automatic DPDK test reports List-Unsubscribe: , List-Archive: List-Post: List-Help: List-Subscribe: , Errors-To: test-report-bounces@dpdk.org Test-Label: iol-compile-amd64-testing Test-Status: WARNING http://dpdk.org/patch/155454 _Testing issues_ Submitter: Tomasz Duszynski Date: Wednesday, July 23 2025 04:41:18 DPDK git baseline: Repo:dpdk Branch: master CommitID:b222395561638f89562e4ef42e1eabf2d6db43dd 155447-155454 --> testing issues Upstream job id: Generic-DPDK-Compile-Meson#411447 Test environment and result as below: +-------------------------------+-------------------+--------------------+-------------------------+----------------------+-------------------+------------------+ | Environment | dpdk_msvc_compile | dpdk_meson_compile | dpdk_llvm_clang_compile | dpdk_mingw64_compile | dpdk_compile_spdk | dpdk_compile_ovs | +===============================+===================+====================+=========================+======================+===================+==================+ | Windows Server 2022 | PASS | SKIPPED | PASS | PASS | SKIPPED | SKIPPED | +-------------------------------+-------------------+--------------------+-------------------------+----------------------+-------------------+------------------+ | FreeBSD 14.2 | SKIPPED | PASS | SKIPPED | SKIPPED | SKIPPED | SKIPPED | +-------------------------------+-------------------+--------------------+-------------------------+----------------------+-------------------+------------------+ | Ubuntu 20.04 | SKIPPED | PEND | SKIPPED | SKIPPED | SKIPPED | SKIPPED | +-------------------------------+-------------------+--------------------+-------------------------+----------------------+-------------------+------------------+ | CentOS Stream 9 | SKIPPED | PASS | SKIPPED | SKIPPED | WARN | SKIPPED | +-------------------------------+-------------------+--------------------+-------------------------+----------------------+-------------------+------------------+ | CentOS Stream 10 | SKIPPED | PEND | SKIPPED | SKIPPED | SKIPPED | SKIPPED | +-------------------------------+-------------------+--------------------+-------------------------+----------------------+-------------------+------------------+ | Debian GNU/Linux 12 | SKIPPED | PEND | SKIPPED | SKIPPED | PEND | SKIPPED | +-------------------------------+-------------------+--------------------+-------------------------+----------------------+-------------------+------------------+ | Fedora Linux 40 | SKIPPED | PEND | SKIPPED | SKIPPED | PEND | SKIPPED | +-------------------------------+-------------------+--------------------+-------------------------+----------------------+-------------------+------------------+ | Fedora Linux 41 | SKIPPED | PEND | SKIPPED | SKIPPED | PEND | PEND | +-------------------------------+-------------------+--------------------+-------------------------+----------------------+-------------------+------------------+ | openSUSE Leap 15.6 | SKIPPED | PEND | SKIPPED | SKIPPED | SKIPPED | SKIPPED | +-------------------------------+-------------------+--------------------+-------------------------+----------------------+-------------------+------------------+ | Red Hat Enterprise Linux 8.10 | SKIPPED | PEND | SKIPPED | SKIPPED | SKIPPED | SKIPPED | +-------------------------------+-------------------+--------------------+-------------------------+----------------------+-------------------+------------------+ | Red Hat Enterprise Linux 9.5 | SKIPPED | PASS | SKIPPED | SKIPPED | SKIPPED | SKIPPED | +-------------------------------+-------------------+--------------------+-------------------------+----------------------+-------------------+------------------+ | Ubuntu 22.04 | SKIPPED | PEND | SKIPPED | SKIPPED | PEND | SKIPPED | +-------------------------------+-------------------+--------------------+-------------------------+----------------------+-------------------+------------------+ | Ubuntu 24.04 | SKIPPED | PEND | SKIPPED | SKIPPED | PEND | PEND | +-------------------------------+-------------------+--------------------+-------------------------+----------------------+-------------------+------------------+ | Alpine Linux 3.22.0 | SKIPPED | PEND | SKIPPED | SKIPPED | SKIPPED | SKIPPED | +-------------------------------+-------------------+--------------------+-------------------------+----------------------+-------------------+------------------+ ==== 20 line log output for CentOS Stream 9 (dpdk_compile_spdk): ==== --- Failed to get log output --- ==== End log output ==== Windows Server 2022 Kernel: 10.0.20348.2031 Compiler: clang 15.0.7, gcc 14.1.0 (MinGW), and MSVC VS 19.39.33521 FreeBSD 14.2 Kernel: 14.2-RELEASE Compiler: clang 18.1.6 Ubuntu 20.04 Kernel: 4.19 Compiler: gcc gcc (Ubuntu 9.4.0-1ubuntu1~20.04.2) 9.4.0 CentOS Stream 9 Kernel: 5.15 Compiler: gcc gcc (GCC) 11.5.0 20240719 (Red Hat 11.5.0-7) CentOS Stream 10 Kernel: 5.15 Compiler: gcc gcc (GCC) 14.2.1 20250110 (Red Hat 14.2.1-8) Debian GNU/Linux 12 Kernel: 5.15 Compiler: gcc gcc (Debian 12.2.0-14+deb12u1) 12.2.0 Fedora Linux 40 Kernel: 5.15 Compiler: clang gcc (GCC) 14.2.1 20240912 (Red Hat 14.2.1-3) Fedora Linux 41 Kernel: 5.15 Compiler: clang gcc (GCC) 14.3.1 20250523 (Red Hat 14.3.1-1) openSUSE Leap 15.6 Kernel: 5.15 Compiler: gcc gcc (SUSE Linux) 7.5.0 Red Hat Enterprise Linux 8.10 Kernel: 5.15 Compiler: gcc gcc (GCC) 8.5.0 20210514 (Red Hat 8.5.0-22) Red Hat Enterprise Linux 9.5 Kernel: 5.15 Compiler: gcc gcc (GCC) 11.5.0 20240719 (Red Hat 11.5.0-2) Ubuntu 22.04 Kernel: 5.15 Compiler: gcc gcc (Ubuntu 11.4.0-1ubuntu1~22.04) 11.4.0 Ubuntu 24.04 Kernel: 5.15 Compiler: gcc gcc (Ubuntu 13.3.0-6ubuntu2~24.04) 13.3.0 Alpine Linux 3.22.0 Kernel: 5.15 Compiler: gcc gcc (Alpine 14.2.0) 14.2.0 To view detailed results, visit: https://lab.dpdk.org/results/dashboard/patchsets/33732/ UNH-IOL DPDK Community Lab To manage your email subscriptions, visit: https://lab.dpdk.org/results/dashboard/preferences/subscriptions/