From mboxrd@z Thu Jan 1 00:00:00 1970 Return-Path: Received: from mails.dpdk.org (mails.dpdk.org [217.70.189.124]) by inbox.dpdk.org (Postfix) with ESMTP id E7C9746BF2 for ; Wed, 23 Jul 2025 17:07:51 +0200 (CEST) Received: from mails.dpdk.org (localhost [127.0.0.1]) by mails.dpdk.org (Postfix) with ESMTP id DC30840DD1; Wed, 23 Jul 2025 17:07:51 +0200 (CEST) Received: from mail-pl1-f227.google.com (mail-pl1-f227.google.com [209.85.214.227]) by mails.dpdk.org (Postfix) with ESMTP id 2AD2240DD1 for ; Wed, 23 Jul 2025 17:07:50 +0200 (CEST) Received: by mail-pl1-f227.google.com with SMTP id d9443c01a7336-23c703c471dso11693075ad.0 for ; Wed, 23 Jul 2025 08:07:50 -0700 (PDT) DKIM-Signature: v=1; a=rsa-sha256; c=relaxed/relaxed; d=iol.unh.edu; s=unh-iol; t=1753283269; x=1753888069; darn=dpdk.org; h=references:in-reply-to:cc:to:from:subject:message-id:date:from:to :cc:subject:date:message-id:reply-to; bh=FKea+ag5dW9PnjLM4peGLqpvkeWHd8xYEtS02Z1nicg=; b=IkxbjxZNLoHj8B8uEQ2JPYYJw3jlXTXiqSVVrKcXewDfXlos+6iYaGNjf3LM1UoYm6 zXeBWDRUrQYzjiSkDguiKNX9I/r7Uz+wpOKgIZJlDfk+Gae2bNc2tNBoPYMzR7v3K4/C nDXKnGA3HhpGPPqndDz0Hcr48q+VL2xX7LJ5U= X-Google-DKIM-Signature: v=1; a=rsa-sha256; c=relaxed/relaxed; d=1e100.net; s=20230601; t=1753283269; x=1753888069; h=references:in-reply-to:cc:to:from:subject:message-id:date :x-gm-message-state:from:to:cc:subject:date:message-id:reply-to; bh=FKea+ag5dW9PnjLM4peGLqpvkeWHd8xYEtS02Z1nicg=; b=SjZ+X3QVW8m9dFmMlw7xqWF4CpXoX0kVF1EUiuSXQGCEFGDNw5fcB20+drwfDDpDjq nmkeEL0xbiW3IJ0b9sW73k4YtouuECCCJxiXehpp6HjXvyQUu/+1pv7nuno3H9wbw0+t yqp21kjDGPpOlxW1+cgmUxf3zt9rM++8dyPiIxBfcmJn2pfkt43JV0gBxMk1OCfnF9QV CLr8l96rfS5rVsCjaAJep1WdDL3FH7rMumE03PJqKzvJ+m1bhtMmspEc36lgz+04ZrPz L7o1kXG4z0YQp/iBaTG80uGSp9DPDFb5Sa3GYifOw5XFy03o4mR9tS/1pJWOvtJkhFfE DThg== X-Gm-Message-State: AOJu0YwDZ17rFqomDMs2Kfan0Ixm7MrPKFuOEAZv+W1HKwo/UYvrieOi JkZ1z08YHYS3HjXbhJXFp56lD70sw0+24wRaqb8bS1JuRxsNV8GtDqEoUytOeJRTpxkh8G9C4YW 93zU5PAgh/rMH2CRNHERL8P58LYFRxeILv5YwYNWuauCiY0qBtnB/z7jcFO6n X-Gm-Gg: ASbGncsr/4hsaVFwnCMoVWXxSJey9k1pCf8DOHH8EcRTBCLEQm8FhalVuv7A98bM3aT 5sOK8ZR14giDdfKbxh/+2MVo7b+tk5Os/Ukukf7kXDqGgIXTFbaYG3UKvQdK8mOAIZ4glNTurmj VUB8DL3rQu78pIXNy74zXyMqGNnzZ1mTsoS36XMLeeckycCatzbiDqSG/ETXmLo/pl5FLGgs0Qo fzzKnsty14SNtvjdxQYH6AKXcZe0DWj1ops8xVjmFHvt88jkvJPPVPgbGUiN9SsNHnf0nZFVNY6 omvuvmJ/CxQbBB+YrJEOWA5UpLgthbAlUigM9YFR3jSpOH4K5Q== X-Google-Smtp-Source: AGHT+IGtyUqg+oIwxXQV98sMR7AHtqyCoRTwsrFKCY1nYVikV+W7wucNAiBZZZMw1bbIePZQlTJQtI3U0hFC X-Received: by 2002:a17:902:e84e:b0:23d:dd63:2ce0 with SMTP id d9443c01a7336-23f981aeca4mr53417875ad.0.1753283269282; Wed, 23 Jul 2025 08:07:49 -0700 (PDT) Received: from postal.iol.unh.edu (postal.iol.unh.edu. [2606:4100:3880:1234::84]) by smtp-relay.gmail.com with ESMTPS id d9443c01a7336-23e3b6f2ce0sm6653025ad.111.2025.07.23.08.07.49 (version=TLS1_2 cipher=ECDHE-ECDSA-AES128-GCM-SHA256 bits=128/128); Wed, 23 Jul 2025 08:07:49 -0700 (PDT) X-Relaying-Domain: iol.unh.edu Date: Wed, 23 Jul 2025 08:07:49 -0700 (PDT) Message-ID: <6880fac5.170a0220.48247.0f65SMTPIN_ADDED_MISSING@mx.google.com> Received: from [172.21.0.3] (unknown [172.18.0.240]) by postal.iol.unh.edu (Postfix) with ESMTP id 70979604D420; Wed, 23 Jul 2025 11:07:48 -0400 (EDT) Subject: |WARNING| pw155447-155454 [PATCH] [v9,8/8] lib/pmu: fix out-of-bound From: dpdklab@iol.unh.edu To: Test Report Cc: dpdk-test-reports@iol.unh.edu In-Reply-To: <20250723044118.2962318-9-tduszynski@marvell.com> References: <20250723044118.2962318-9-tduszynski@marvell.com> Content-Type: text/plain X-BeenThere: test-report@dpdk.org X-Mailman-Version: 2.1.29 Precedence: list List-Id: automatic DPDK test reports List-Unsubscribe: , List-Archive: List-Post: List-Help: List-Subscribe: , Errors-To: test-report-bounces@dpdk.org Test-Label: iol-compile-amd64-testing Test-Status: WARNING http://dpdk.org/patch/155454 _Testing issues_ Submitter: Tomasz Duszynski Date: Wednesday, July 23 2025 04:41:18 DPDK git baseline: Repo:dpdk Branch: master CommitID:b222395561638f89562e4ef42e1eabf2d6db43dd 155447-155454 --> testing issues Upstream job id: Generic-DPDK-Compile-Meson#411456 Test environment and result as below: +-------------------------------+-------------------+--------------------+-------------------------+----------------------+-------------------+------------------+ | Environment | dpdk_msvc_compile | dpdk_meson_compile | dpdk_llvm_clang_compile | dpdk_mingw64_compile | dpdk_compile_spdk | dpdk_compile_ovs | +===============================+===================+====================+=========================+======================+===================+==================+ | Windows Server 2022 | PASS | SKIPPED | PASS | PASS | SKIPPED | SKIPPED | +-------------------------------+-------------------+--------------------+-------------------------+----------------------+-------------------+------------------+ | FreeBSD 14.2 | SKIPPED | PASS | SKIPPED | SKIPPED | SKIPPED | SKIPPED | +-------------------------------+-------------------+--------------------+-------------------------+----------------------+-------------------+------------------+ | Ubuntu 20.04 | SKIPPED | PEND | SKIPPED | SKIPPED | SKIPPED | SKIPPED | +-------------------------------+-------------------+--------------------+-------------------------+----------------------+-------------------+------------------+ | CentOS Stream 9 | SKIPPED | PASS | SKIPPED | SKIPPED | WARN | SKIPPED | +-------------------------------+-------------------+--------------------+-------------------------+----------------------+-------------------+------------------+ | CentOS Stream 10 | SKIPPED | PEND | SKIPPED | SKIPPED | SKIPPED | SKIPPED | +-------------------------------+-------------------+--------------------+-------------------------+----------------------+-------------------+------------------+ | Debian GNU/Linux 12 | SKIPPED | PEND | SKIPPED | SKIPPED | PEND | SKIPPED | +-------------------------------+-------------------+--------------------+-------------------------+----------------------+-------------------+------------------+ | Fedora Linux 40 | SKIPPED | PEND | SKIPPED | SKIPPED | PEND | SKIPPED | +-------------------------------+-------------------+--------------------+-------------------------+----------------------+-------------------+------------------+ | Fedora Linux 41 | SKIPPED | PEND | SKIPPED | SKIPPED | PEND | PEND | +-------------------------------+-------------------+--------------------+-------------------------+----------------------+-------------------+------------------+ | openSUSE Leap 15.6 | SKIPPED | PEND | SKIPPED | SKIPPED | SKIPPED | SKIPPED | +-------------------------------+-------------------+--------------------+-------------------------+----------------------+-------------------+------------------+ | Red Hat Enterprise Linux 8.10 | SKIPPED | PEND | SKIPPED | SKIPPED | SKIPPED | SKIPPED | +-------------------------------+-------------------+--------------------+-------------------------+----------------------+-------------------+------------------+ | Red Hat Enterprise Linux 9.5 | SKIPPED | PASS | SKIPPED | SKIPPED | SKIPPED | SKIPPED | +-------------------------------+-------------------+--------------------+-------------------------+----------------------+-------------------+------------------+ | Ubuntu 22.04 | SKIPPED | PEND | SKIPPED | SKIPPED | PEND | SKIPPED | +-------------------------------+-------------------+--------------------+-------------------------+----------------------+-------------------+------------------+ | Ubuntu 24.04 | SKIPPED | PEND | SKIPPED | SKIPPED | PEND | PEND | +-------------------------------+-------------------+--------------------+-------------------------+----------------------+-------------------+------------------+ | Alpine Linux 3.22.0 | SKIPPED | PEND | SKIPPED | SKIPPED | SKIPPED | SKIPPED | +-------------------------------+-------------------+--------------------+-------------------------+----------------------+-------------------+------------------+ ==== 20 line log output for CentOS Stream 9 (dpdk_compile_spdk): ==== --- Failed to get log output --- ==== End log output ==== Windows Server 2022 Kernel: 10.0.20348.2031 Compiler: clang 15.0.7, gcc 14.1.0 (MinGW), and MSVC VS 19.39.33521 FreeBSD 14.2 Kernel: 14.2-RELEASE Compiler: clang 18.1.6 Ubuntu 20.04 Kernel: 4.19 Compiler: gcc gcc (Ubuntu 9.4.0-1ubuntu1~20.04.2) 9.4.0 CentOS Stream 9 Kernel: 5.15 Compiler: gcc gcc (GCC) 11.5.0 20240719 (Red Hat 11.5.0-7) CentOS Stream 10 Kernel: 5.15 Compiler: gcc gcc (GCC) 14.2.1 20250110 (Red Hat 14.2.1-8) Debian GNU/Linux 12 Kernel: 5.15 Compiler: gcc gcc (Debian 12.2.0-14+deb12u1) 12.2.0 Fedora Linux 40 Kernel: 5.15 Compiler: clang gcc (GCC) 14.2.1 20240912 (Red Hat 14.2.1-3) Fedora Linux 41 Kernel: 5.15 Compiler: clang gcc (GCC) 14.3.1 20250523 (Red Hat 14.3.1-1) openSUSE Leap 15.6 Kernel: 5.15 Compiler: gcc gcc (SUSE Linux) 7.5.0 Red Hat Enterprise Linux 8.10 Kernel: 5.15 Compiler: gcc gcc (GCC) 8.5.0 20210514 (Red Hat 8.5.0-22) Red Hat Enterprise Linux 9.5 Kernel: 5.15 Compiler: gcc gcc (GCC) 11.5.0 20240719 (Red Hat 11.5.0-2) Ubuntu 22.04 Kernel: 5.15 Compiler: gcc gcc (Ubuntu 11.4.0-1ubuntu1~22.04) 11.4.0 Ubuntu 24.04 Kernel: 5.15 Compiler: gcc gcc (Ubuntu 13.3.0-6ubuntu2~24.04) 13.3.0 Alpine Linux 3.22.0 Kernel: 5.15 Compiler: gcc gcc (Alpine 14.2.0) 14.2.0 To view detailed results, visit: https://lab.dpdk.org/results/dashboard/patchsets/33732/ UNH-IOL DPDK Community Lab To manage your email subscriptions, visit: https://lab.dpdk.org/results/dashboard/preferences/subscriptions/