From mboxrd@z Thu Jan 1 00:00:00 1970 Return-Path: Received: from mails.dpdk.org (mails.dpdk.org [217.70.189.124]) by inbox.dpdk.org (Postfix) with ESMTP id 2F22B46BF2 for ; Wed, 23 Jul 2025 17:26:32 +0200 (CEST) Received: from mails.dpdk.org (localhost [127.0.0.1]) by mails.dpdk.org (Postfix) with ESMTP id 28E57402A9; Wed, 23 Jul 2025 17:26:32 +0200 (CEST) Received: from mail-il1-f228.google.com (mail-il1-f228.google.com [209.85.166.228]) by mails.dpdk.org (Postfix) with ESMTP id 7A6B8402A9 for ; Wed, 23 Jul 2025 17:26:31 +0200 (CEST) Received: by mail-il1-f228.google.com with SMTP id e9e14a558f8ab-3e28cf0f464so36440645ab.1 for ; Wed, 23 Jul 2025 08:26:31 -0700 (PDT) DKIM-Signature: v=1; a=rsa-sha256; c=relaxed/relaxed; d=iol.unh.edu; s=unh-iol; t=1753284391; x=1753889191; darn=dpdk.org; h=references:in-reply-to:cc:to:from:subject:message-id:date:from:to :cc:subject:date:message-id:reply-to; bh=ybyh4IW8Fl7waInyK8H0RgNq+3lEEkvBX/3e2Z5dipc=; b=CxZazF6hCpoEpk87XTheHZKiCZH1AfJTgB4lvuxZ6CNmquhNvOjjQiw91YvaD3YMkd qlsXTggs4fFrx5Zm7EHsXXhzttO28yMTBXGith89oKjb06isSYobjuNfPpWWjzOVARC6 kepIC73IrFo3aTjJggkoQP3QlLsbboQMiUXz8= X-Google-DKIM-Signature: v=1; a=rsa-sha256; c=relaxed/relaxed; d=1e100.net; s=20230601; t=1753284391; x=1753889191; h=references:in-reply-to:cc:to:from:subject:message-id:date :x-gm-message-state:from:to:cc:subject:date:message-id:reply-to; bh=ybyh4IW8Fl7waInyK8H0RgNq+3lEEkvBX/3e2Z5dipc=; b=N1GX7383fvQA4O9NTAx3dWhz+tMYtnKn1oxuMdIlMbplQd6iV3B5Wnb+cOEb1ruOu8 Kr5rUOZzKmgWG+4F26z46AsSldRCwy7pU8/brt0W5xHt3MTLbXnJCIsUIkGBwyzGUEl/ hSqf3Oxg4mPsUDVIGtPPzs+7tF8V7FajtQ8dv9HlcEuW/f6InU2LYW9xxOaEOOyF4nCz 2co1lXMLGteDeoubqdKeNCdGnDApkcsjHcUZTcjxIEaNWQ6Fxp8j/LbzH3JU9ik4yKHT dgkAgFv0y3PAmofhvO+z3DoLlihuVOhBOZ7U6dpiSkP8as7wiKugjVJ6cuapnY9fZTvZ twHw== X-Gm-Message-State: AOJu0Yz1PUAFkVDeoIVbODHtFfMLl5mXGOhmAnhYigjgzOZEr1Hrbah+ uXgLcHf74Z4tJJG6MXIO4TLQJT4Ff6iZeNrJ4gj58vV8UYt58AQLheHvHbvJoFZaEa2TKbMuauj RSI40IbUUDdlC/e9Fo5CzMzEaaIB/jQaU2heJtz1259T7Rf/vhvyK4HorpVrE X-Gm-Gg: ASbGncvqT4CPfSD4BYxgF+gf5RmRHBBtPRyF5Am+3z9hzF40/hHQK+Do3AgEdoDp41R ENgGacEHlwMSMkzrdcOPv+TeG1SaBC6CJiR3dkfg0/3/fozTsmNc1qOqsEX1RAHZPZ9kA2bfH8p gUolAr/lgH7GUs5Rn7gogIosNhS4rcqwVqv6mcEExUpLioknQteBsRszIni4PSXYIgmfDhzmIEx iq1DR3iWOPj/JYbtvlfaBl9g2R2ausyc2LYvM3pZSoFCZz1Qgf3wZRZ25hgG4chmCvJPkNmYv+X WNKyN4FVaAttp/+zDfv7/IJ4YzOG2cy4ITVmbWAUB6RA+4AgRA== X-Google-Smtp-Source: AGHT+IGubvObxUSI6f4esWleS0piyz21noOimFLVix7Ld4G5vilHeicex1jMoJ1Lsn7Naq6FpTZWiDJLIGvH X-Received: by 2002:a05:6e02:144c:b0:3df:5283:ac73 with SMTP id e9e14a558f8ab-3e335584d19mr73479365ab.12.1753284390651; Wed, 23 Jul 2025 08:26:30 -0700 (PDT) Received: from postal.iol.unh.edu (postal.iol.unh.edu. [2606:4100:3880:1234::84]) by smtp-relay.gmail.com with ESMTPS id 8926c6da1cb9f-5084c7b71d1sm556890173.28.2025.07.23.08.26.30 (version=TLS1_2 cipher=ECDHE-ECDSA-AES128-GCM-SHA256 bits=128/128); Wed, 23 Jul 2025 08:26:30 -0700 (PDT) X-Relaying-Domain: iol.unh.edu Date: Wed, 23 Jul 2025 08:26:30 -0700 (PDT) Message-ID: <6880ff26.050a0220.296e2e.c2b9SMTPIN_ADDED_MISSING@mx.google.com> Received: from [172.21.0.5] (unknown [172.18.0.240]) by postal.iol.unh.edu (Postfix) with ESMTP id C00A86050A61; Wed, 23 Jul 2025 11:26:29 -0400 (EDT) Subject: |SUCCESS| pw155455 [PATCH] [v2] lib/ethdev: fix segfault in secondar From: dpdklab@iol.unh.edu To: Test Report Cc: dpdk-test-reports@iol.unh.edu In-Reply-To: <20250723045022.1580829-1-14pwcse1224@uetpeshawar.edu.pk> References: <20250723045022.1580829-1-14pwcse1224@uetpeshawar.edu.pk> Content-Type: text/plain X-BeenThere: test-report@dpdk.org X-Mailman-Version: 2.1.29 Precedence: list List-Id: automatic DPDK test reports List-Unsubscribe: , List-Archive: List-Post: List-Help: List-Subscribe: , Errors-To: test-report-bounces@dpdk.org Test-Label: iol-compile-amd64-testing Test-Status: SUCCESS http://dpdk.org/patch/155455 _Testing PASS_ Submitter: Khadem Ullah <14pwcse1224@uetpeshawar.edu.pk> Date: Wednesday, July 23 2025 04:50:22 DPDK git baseline: Repo:dpdk Branch: master CommitID:b78afde1fed9e11ee5cdce333a1a69dd7a9cf13e 155455 --> testing pass Upstream job id: Generic-DPDK-Compile-Meson#411445 Test environment and result as below: +-------------------------------+--------------------+-------------------+-------------------------+----------------------+-------------------+------------------+ | Environment | dpdk_meson_compile | dpdk_msvc_compile | dpdk_llvm_clang_compile | dpdk_mingw64_compile | dpdk_compile_spdk | dpdk_compile_ovs | +===============================+====================+===================+=========================+======================+===================+==================+ | Ubuntu 20.04 | PASS | SKIPPED | SKIPPED | SKIPPED | SKIPPED | SKIPPED | +-------------------------------+--------------------+-------------------+-------------------------+----------------------+-------------------+------------------+ | FreeBSD 14.2 | PASS | SKIPPED | SKIPPED | SKIPPED | SKIPPED | SKIPPED | +-------------------------------+--------------------+-------------------+-------------------------+----------------------+-------------------+------------------+ | CentOS Stream 9 | PASS | SKIPPED | SKIPPED | SKIPPED | PASS | SKIPPED | +-------------------------------+--------------------+-------------------+-------------------------+----------------------+-------------------+------------------+ | CentOS Stream 10 | PASS | SKIPPED | SKIPPED | SKIPPED | SKIPPED | SKIPPED | +-------------------------------+--------------------+-------------------+-------------------------+----------------------+-------------------+------------------+ | Debian GNU/Linux 12 | PASS | SKIPPED | SKIPPED | SKIPPED | PASS | SKIPPED | +-------------------------------+--------------------+-------------------+-------------------------+----------------------+-------------------+------------------+ | Fedora Linux 40 | PASS | SKIPPED | SKIPPED | SKIPPED | PASS | SKIPPED | +-------------------------------+--------------------+-------------------+-------------------------+----------------------+-------------------+------------------+ | Fedora Linux 41 | PASS | SKIPPED | SKIPPED | SKIPPED | PASS | PASS | +-------------------------------+--------------------+-------------------+-------------------------+----------------------+-------------------+------------------+ | Red Hat Enterprise Linux 8.10 | PASS | SKIPPED | SKIPPED | SKIPPED | SKIPPED | SKIPPED | +-------------------------------+--------------------+-------------------+-------------------------+----------------------+-------------------+------------------+ | Red Hat Enterprise Linux 9.5 | PASS | SKIPPED | SKIPPED | SKIPPED | SKIPPED | SKIPPED | +-------------------------------+--------------------+-------------------+-------------------------+----------------------+-------------------+------------------+ | Ubuntu 22.04 | PASS | SKIPPED | SKIPPED | SKIPPED | PASS | SKIPPED | +-------------------------------+--------------------+-------------------+-------------------------+----------------------+-------------------+------------------+ | Ubuntu 24.04 | PASS | SKIPPED | SKIPPED | SKIPPED | PASS | PASS | +-------------------------------+--------------------+-------------------+-------------------------+----------------------+-------------------+------------------+ | Alpine Linux 3.22.0 | PASS | SKIPPED | SKIPPED | SKIPPED | SKIPPED | SKIPPED | +-------------------------------+--------------------+-------------------+-------------------------+----------------------+-------------------+------------------+ | Windows Server 2022 | SKIPPED | PASS | PASS | PASS | SKIPPED | SKIPPED | +-------------------------------+--------------------+-------------------+-------------------------+----------------------+-------------------+------------------+ Ubuntu 20.04 Kernel: 4.19 Compiler: gcc gcc (Ubuntu 9.4.0-1ubuntu1~20.04.2) 9.4.0 FreeBSD 14.2 Kernel: 14.2-RELEASE Compiler: clang 18.1.6 CentOS Stream 9 Kernel: 5.15 Compiler: gcc gcc (GCC) 11.5.0 20240719 (Red Hat 11.5.0-7) CentOS Stream 10 Kernel: 5.15 Compiler: gcc gcc (GCC) 14.2.1 20250110 (Red Hat 14.2.1-8) Debian GNU/Linux 12 Kernel: 5.15 Compiler: gcc gcc (Debian 12.2.0-14+deb12u1) 12.2.0 Fedora Linux 40 Kernel: 5.15 Compiler: clang gcc (GCC) 14.2.1 20240912 (Red Hat 14.2.1-3) Fedora Linux 41 Kernel: 5.15 Compiler: clang gcc (GCC) 14.3.1 20250523 (Red Hat 14.3.1-1) Red Hat Enterprise Linux 8.10 Kernel: 5.15 Compiler: gcc gcc (GCC) 8.5.0 20210514 (Red Hat 8.5.0-22) Red Hat Enterprise Linux 9.5 Kernel: 5.15 Compiler: gcc gcc (GCC) 11.5.0 20240719 (Red Hat 11.5.0-2) Ubuntu 22.04 Kernel: 5.15 Compiler: gcc gcc (Ubuntu 11.4.0-1ubuntu1~22.04) 11.4.0 Ubuntu 24.04 Kernel: 5.15 Compiler: gcc gcc (Ubuntu 13.3.0-6ubuntu2~24.04) 13.3.0 Alpine Linux 3.22.0 Kernel: 5.15 Compiler: gcc gcc (Alpine 14.2.0) 14.2.0 Windows Server 2022 Kernel: 10.0.20348.2031 Compiler: clang 15.0.7, gcc 14.1.0 (MinGW), and MSVC VS 19.39.33521 To view detailed results, visit: https://lab.dpdk.org/results/dashboard/patchsets/33733/ UNH-IOL DPDK Community Lab To manage your email subscriptions, visit: https://lab.dpdk.org/results/dashboard/preferences/subscriptions/