From mboxrd@z Thu Jan 1 00:00:00 1970 Return-Path: Received: from mails.dpdk.org (mails.dpdk.org [217.70.189.124]) by inbox.dpdk.org (Postfix) with ESMTP id 4089F46BF2 for ; Wed, 23 Jul 2025 17:51:12 +0200 (CEST) Received: from mails.dpdk.org (localhost [127.0.0.1]) by mails.dpdk.org (Postfix) with ESMTP id 1984E40267; Wed, 23 Jul 2025 17:51:12 +0200 (CEST) Received: from mail-il1-f228.google.com (mail-il1-f228.google.com [209.85.166.228]) by mails.dpdk.org (Postfix) with ESMTP id 7F87C40267 for ; Wed, 23 Jul 2025 17:51:10 +0200 (CEST) Received: by mail-il1-f228.google.com with SMTP id e9e14a558f8ab-3e28cf0f464so36589065ab.1 for ; Wed, 23 Jul 2025 08:51:10 -0700 (PDT) DKIM-Signature: v=1; a=rsa-sha256; c=relaxed/relaxed; d=iol.unh.edu; s=unh-iol; t=1753285870; x=1753890670; darn=dpdk.org; h=references:in-reply-to:cc:to:from:subject:message-id:date:from:to :cc:subject:date:message-id:reply-to; bh=JioAnjKtJVfn7GF7ZOfpG3g49n1AV0Sir+fI7DSNBQQ=; b=GvbSAl14d/X3PZE3aRlwy8M8Y70dgk1nK7icv1j8lwBlf/SWnqT7WE+x4GpnH5iP3v R2fko7SSV3FZbPTONvNnuXrajIRnUfYlMOcM2Yadjhr+ylLCfNy9E8xaXHA4GvhaOboW roncjv3KbUrkk+twZliuTU1+PMI+2ZbH/jTy8= X-Google-DKIM-Signature: v=1; a=rsa-sha256; c=relaxed/relaxed; d=1e100.net; s=20230601; t=1753285870; x=1753890670; h=references:in-reply-to:cc:to:from:subject:message-id:date :x-gm-message-state:from:to:cc:subject:date:message-id:reply-to; bh=JioAnjKtJVfn7GF7ZOfpG3g49n1AV0Sir+fI7DSNBQQ=; b=DygoTscq5NejpC5xHgqWqvY7xDbEw8FqxZV/m2Zph4LGR7xuMjBCHtkRWfIjBUB2TB TnQ7CVCEftICYfU6ohuM8XxPHyBTLX/+bIsXZZyxpdNXarqsY6ouJVLPjh/8TlWEStFo F46IVhMyzosMTrEtzGY6htzfTcP+6EdKyYMe2EBTkvbyaN8EVTvPn0H3m+Z1Nb7+BTAk RudU7q0MeNtQI/+4x/pmsWaVN2EmvQXKFS5fSz6MDRvR4MGj4189NMkqMJy9OxmfPME5 +fJCzx4LM1iIYt/GLIram1PPsgqQKTXirWeLWLD5rwCTNNR5xB1vf5awPsUikRPgbky+ ZFKg== X-Gm-Message-State: AOJu0Yz95niH8s/43sCE5sE61mbXbgCQMuLmjX47KfdYqmWvy5brW3Y2 fwBTJ+FCZrAUq/USJ5o0L2mAtGx0z8l+FrhRjJm3v799Oo1AV2UvuceHPtHCnrhoyDWWMS8urSE 6zxZxGZ5OyCfvykFzzfxshj5B3GPt3806XT9IFxLKhXScMIOF3G+OEAnkVQJO X-Gm-Gg: ASbGnctDzewjAckmLTzcGAMhcCenTycfxRJ5dDvWyCvekgESVlMSArNEYacjZJazi7o 6Vd2Ivb0mJtmYkn7KnzlqiAbyoaGblhMGNGxVEMPqfRdB8ZTtfrIQgnNpyKkMf0HPeudeBIV/3l y5bNdavFTqcvXfNgnw21UZRf4muibftYzXTBBInCwN2AOZ0heHYWXCDK1Lxb0f6FOgw0iPzprY9 ZwVi4DFfUGcsKiBKmeJbr+ZCzij1EyPA+LHP0WIkgZLW8QQUdD/awd88ob2pn+EOEnCAEcC5UUF BDhpZ4bCmdFPug2bzhnFRUxtkwpgMydrm+bzpmnBx6dt1ZVmBg== X-Google-Smtp-Source: AGHT+IHFYsAtS+ZbzACK1S9+DEGvVakFPt2hfNCIMGeZKy1USXt1iLPlGvcrNhClxBF5w3Vo7HQTK3gF5W1q X-Received: by 2002:a92:cdaa:0:b0:3e2:abbc:c0c with SMTP id e9e14a558f8ab-3e32fcb809dmr58396835ab.7.1753285869007; Wed, 23 Jul 2025 08:51:09 -0700 (PDT) Received: from postal.iol.unh.edu (postal.iol.unh.edu. [2606:4100:3880:1234::84]) by smtp-relay.gmail.com with ESMTPS id e9e14a558f8ab-3e29838e828sm7795225ab.62.2025.07.23.08.51.08 (version=TLS1_2 cipher=ECDHE-ECDSA-AES128-GCM-SHA256 bits=128/128); Wed, 23 Jul 2025 08:51:08 -0700 (PDT) X-Relaying-Domain: iol.unh.edu Date: Wed, 23 Jul 2025 08:51:09 -0700 (PDT) Message-ID: <688104ec.050a0220.33a1b4.903fSMTPIN_ADDED_MISSING@mx.google.com> Received: from [172.21.0.4] (unknown [172.18.0.240]) by postal.iol.unh.edu (Postfix) with ESMTP id 901BF604D421; Wed, 23 Jul 2025 11:51:08 -0400 (EDT) Subject: |SUCCESS| pw155458 [PATCH] net: fix incorrect L2 length for GRE tunn From: dpdklab@iol.unh.edu To: Test Report Cc: dpdk-test-reports@iol.unh.edu In-Reply-To: <20250723104710.558623-1-huangdengdui@huawei.com> References: <20250723104710.558623-1-huangdengdui@huawei.com> Content-Type: text/plain X-BeenThere: test-report@dpdk.org X-Mailman-Version: 2.1.29 Precedence: list List-Id: automatic DPDK test reports List-Unsubscribe: , List-Archive: List-Post: List-Help: List-Subscribe: , Errors-To: test-report-bounces@dpdk.org Test-Label: iol-unit-amd64-testing Test-Status: SUCCESS http://dpdk.org/patch/155458 _Testing PASS_ Submitter: Dengdui Huang Date: Wednesday, July 23 2025 10:47:10 DPDK git baseline: Repo:dpdk Branch: master CommitID:b222395561638f89562e4ef42e1eabf2d6db43dd 155458 --> testing pass Upstream job id: Generic-Unit-Test-DPDK#357750 Test environment and result as below: +-------------------------------+----------------+ | Environment | dpdk_unit_test | +===============================+================+ | CentOS Stream 9 | PASS | +-------------------------------+----------------+ | Debian GNU/Linux 12 | PASS | +-------------------------------+----------------+ | CentOS Stream 10 | PASS | +-------------------------------+----------------+ | Ubuntu 20.04 | PASS | +-------------------------------+----------------+ | Red Hat Enterprise Linux 9.5 | PASS | +-------------------------------+----------------+ | Fedora Linux 41 | PASS | +-------------------------------+----------------+ | Red Hat Enterprise Linux 8.10 | PASS | +-------------------------------+----------------+ | Fedora Linux 40 | PASS | +-------------------------------+----------------+ | Ubuntu 24.04 | PASS | +-------------------------------+----------------+ | Ubuntu 22.04 | PASS | +-------------------------------+----------------+ | Windows Server 2022 | PASS | +-------------------------------+----------------+ CentOS Stream 9 Kernel: 5.15 Compiler: gcc gcc (GCC) 11.5.0 20240719 (Red Hat 11.5.0-7) Debian GNU/Linux 12 Kernel: 5.15 Compiler: gcc gcc (Debian 12.2.0-14+deb12u1) 12.2.0 CentOS Stream 10 Kernel: 5.15 Compiler: gcc gcc (GCC) 14.2.1 20250110 (Red Hat 14.2.1-8) Ubuntu 20.04 Kernel: 5.15 Compiler: gcc gcc (Ubuntu 9.4.0-1ubuntu1~20.04.2) 9.4.0 Red Hat Enterprise Linux 9.5 Kernel: 5.15 Compiler: gcc gcc (GCC) 11.5.0 20240719 (Red Hat 11.5.0-2) Fedora Linux 41 Kernel: 5.15 Compiler: clang gcc (GCC) 14.3.1 20250523 (Red Hat 14.3.1-1) Red Hat Enterprise Linux 8.10 Kernel: 5.15 Compiler: gcc gcc (GCC) 8.5.0 20210514 (Red Hat 8.5.0-22) Fedora Linux 40 Kernel: 5.15 Compiler: clang gcc (GCC) 14.2.1 20240912 (Red Hat 14.2.1-3) Ubuntu 24.04 Kernel: 5.15 Compiler: gcc gcc (Ubuntu 13.3.0-6ubuntu2~24.04) 13.3.0 Ubuntu 22.04 Kernel: 5.15 Compiler: gcc gcc (Ubuntu 11.4.0-1ubuntu1~22.04) 11.4.0 Windows Server 2022 Kernel: 10.0.20348.2031 Compiler: clang 15.0.7, gcc 14.1.0 (MinGW), and MSVC VS 19.39.33521 To view detailed results, visit: https://lab.dpdk.org/results/dashboard/patchsets/33736/ UNH-IOL DPDK Community Lab To manage your email subscriptions, visit: https://lab.dpdk.org/results/dashboard/preferences/subscriptions/