From mboxrd@z Thu Jan 1 00:00:00 1970 Return-Path: Received: from mails.dpdk.org (mails.dpdk.org [217.70.189.124]) by inbox.dpdk.org (Postfix) with ESMTP id BCD0746BF2 for ; Wed, 23 Jul 2025 17:54:47 +0200 (CEST) Received: from mails.dpdk.org (localhost [127.0.0.1]) by mails.dpdk.org (Postfix) with ESMTP id A345040267; Wed, 23 Jul 2025 17:54:47 +0200 (CEST) Received: from mail-pg1-f226.google.com (mail-pg1-f226.google.com [209.85.215.226]) by mails.dpdk.org (Postfix) with ESMTP id 335A240267 for ; Wed, 23 Jul 2025 17:54:47 +0200 (CEST) Received: by mail-pg1-f226.google.com with SMTP id 41be03b00d2f7-b39011e5f8eso111468a12.0 for ; Wed, 23 Jul 2025 08:54:47 -0700 (PDT) DKIM-Signature: v=1; a=rsa-sha256; c=relaxed/relaxed; d=iol.unh.edu; s=unh-iol; t=1753286086; x=1753890886; darn=dpdk.org; h=references:in-reply-to:cc:to:from:subject:message-id:date:from:to :cc:subject:date:message-id:reply-to; bh=NtMLeNd0dFU+74aXwxejm7xURaxNp3biHUE302MzWZM=; b=Kk2o/ahad5EvkPutX5Tka9cGa9L1Oz2Kl9yk/tk9EsvlPLYi9zCyvboWsmly1Ac/4Q KE2h33f8z4fJQF6WSaOjPz/RcAWRr/pOicrTKzRr4mc1inm+z5PYOm2T6qidM4x1rxWT fQVUWUEkGU6LiBGXhI2x8S2hKUEKb/edXPqWg= X-Google-DKIM-Signature: v=1; a=rsa-sha256; c=relaxed/relaxed; d=1e100.net; s=20230601; t=1753286086; x=1753890886; h=references:in-reply-to:cc:to:from:subject:message-id:date :x-gm-message-state:from:to:cc:subject:date:message-id:reply-to; bh=NtMLeNd0dFU+74aXwxejm7xURaxNp3biHUE302MzWZM=; b=XUiWHIdzZv+IitAe0TK2oHynsPi6qw+6Sq1rK0B+L8vM2H+Dmp8XGRVYBCRhZKLIbi Jv1y7R8toWKm2i2QeZ89zqt1a51KCp+ZAzFjKQ9FBLVYxoAU1TqPVCOMIxxP0kd6mvca qRzumjXWUw9i5C7/XHG2SonVJmfJOu1bCEG6iOpjjMPTRkihwPFhFHlF4FHqK/Kco0T1 EPnOXoNWEO1F23ezB5j96AeCobthyy4a4yq7PL37OKTJBqN8FnwPvnF9ShQSHU8qOJH7 PgqpipknNnlz0jRnWSUWZVoVNkIU5MJBglvi+rRjFDB8P+LtX7f6ZOq54IoDWQxAwD7c PbYQ== X-Gm-Message-State: AOJu0Yyt5M2+kzfPQm0u6RNtfsiDnwzET5zNeWCNPLPD+eeZoAMJdrnX rqOVRk1N5YQ6CynacTDC6ZaKHwL9jbVCmAYtMU36IwYf3Y0Jzq0ICLK/zh+eE4iUjbq/nhnBDAY /Yu8NFaoMJMgHPo5ZtsExb3kjn9WMqcGADUvTInT9qNH4 X-Gm-Gg: ASbGncuPNe/HOUulNDSioBEj4MN8rFHSAU5o8tbxMikc8M442DCtIWbh4JRYCvQ2Iur VJMG0flV2vTKECNy70RLtmFfPsK7CNaEgsN1NGLIN4hdMqGJWuU28r2snIRbl3wxowftBRXlfJq Euy836Ific4Zqb6Upz+SCyxn2QrlZsSiIKFO5uhnPOUO92SdeVJJekAt0WLzKE2sA7i0tFXYgEV PIdT8IPjvDU+mw3sA0dipBdPg5/wMeHGNce1io518AdG2E2DDlAfALyUPMfHH9fX1CieZ813+Am Z4IeKm8zbKmIX+XSfaiy8rE3cH3S9AO7KcZarRmXB9Is743q6Lmp538gSobPvJ97BX37/afK X-Google-Smtp-Source: AGHT+IHmxdkRDPjRwUoZtSPIJlaKw1HM1Z1K5kjHTxuNqw3VC0O+FAxI8H6XyAlS9Nk/KaJl2gcfnWNL6l89 X-Received: by 2002:a17:903:178b:b0:23e:317a:abc6 with SMTP id d9443c01a7336-23f981e5a3fmr52241895ad.47.1753286086184; Wed, 23 Jul 2025 08:54:46 -0700 (PDT) Received: from postal.iol.unh.edu (postal.iol.unh.edu. [132.177.123.84]) by smtp-relay.gmail.com with ESMTPS id d9443c01a7336-23e3b6b74e4sm6824725ad.57.2025.07.23.08.54.46 (version=TLS1_2 cipher=ECDHE-ECDSA-AES128-GCM-SHA256 bits=128/128); Wed, 23 Jul 2025 08:54:46 -0700 (PDT) X-Relaying-Domain: iol.unh.edu Date: Wed, 23 Jul 2025 08:54:46 -0700 (PDT) Message-ID: <688105c6.170a0220.3620c1.26deSMTPIN_ADDED_MISSING@mx.google.com> Received: from [172.21.0.3] (unknown [172.18.0.240]) by postal.iol.unh.edu (Postfix) with ESMTP id A3B7F604D420; Wed, 23 Jul 2025 11:54:45 -0400 (EDT) Subject: |SUCCESS| pw155456 [PATCH] net/mlx5: fix ipool memory leak From: dpdklab@iol.unh.edu To: Test Report Cc: dpdk-test-reports@iol.unh.edu In-Reply-To: <20250723064923.1805575-1-rongweil@nvidia.com> References: <20250723064923.1805575-1-rongweil@nvidia.com> Content-Type: text/plain X-BeenThere: test-report@dpdk.org X-Mailman-Version: 2.1.29 Precedence: list List-Id: automatic DPDK test reports List-Unsubscribe: , List-Archive: List-Post: List-Help: List-Subscribe: , Errors-To: test-report-bounces@dpdk.org Test-Label: iol-compile-amd64-testing Test-Status: SUCCESS http://dpdk.org/patch/155456 _Testing PASS_ Submitter: Rongwei Liu Date: Wednesday, July 23 2025 06:49:22 DPDK git baseline: Repo:dpdk Branch: master CommitID:b222395561638f89562e4ef42e1eabf2d6db43dd 155456 --> testing pass Upstream job id: Generic-DPDK-Compile-Meson#411492 Test environment and result as below: +-------------------------------+-------------------------+--------------------+-------------------+----------------------+-------------------+------------------+ | Environment | dpdk_llvm_clang_compile | dpdk_meson_compile | dpdk_msvc_compile | dpdk_mingw64_compile | dpdk_compile_spdk | dpdk_compile_ovs | +===============================+=========================+====================+===================+======================+===================+==================+ | Windows Server 2022 | PASS | SKIPPED | PASS | PASS | SKIPPED | SKIPPED | +-------------------------------+-------------------------+--------------------+-------------------+----------------------+-------------------+------------------+ | Ubuntu 20.04 | SKIPPED | PASS | SKIPPED | SKIPPED | SKIPPED | SKIPPED | +-------------------------------+-------------------------+--------------------+-------------------+----------------------+-------------------+------------------+ | FreeBSD 14.2 | SKIPPED | PASS | SKIPPED | SKIPPED | SKIPPED | SKIPPED | +-------------------------------+-------------------------+--------------------+-------------------+----------------------+-------------------+------------------+ | CentOS Stream 9 | SKIPPED | PASS | SKIPPED | SKIPPED | PASS | SKIPPED | +-------------------------------+-------------------------+--------------------+-------------------+----------------------+-------------------+------------------+ | CentOS Stream 10 | SKIPPED | PASS | SKIPPED | SKIPPED | SKIPPED | SKIPPED | +-------------------------------+-------------------------+--------------------+-------------------+----------------------+-------------------+------------------+ | Debian GNU/Linux 12 | SKIPPED | PASS | SKIPPED | SKIPPED | PASS | SKIPPED | +-------------------------------+-------------------------+--------------------+-------------------+----------------------+-------------------+------------------+ | Fedora Linux 40 | SKIPPED | PASS | SKIPPED | SKIPPED | PASS | SKIPPED | +-------------------------------+-------------------------+--------------------+-------------------+----------------------+-------------------+------------------+ | Fedora Linux 41 | SKIPPED | PASS | SKIPPED | SKIPPED | PASS | PASS | +-------------------------------+-------------------------+--------------------+-------------------+----------------------+-------------------+------------------+ | openSUSE Leap 15.6 | SKIPPED | PASS | SKIPPED | SKIPPED | SKIPPED | SKIPPED | +-------------------------------+-------------------------+--------------------+-------------------+----------------------+-------------------+------------------+ | Red Hat Enterprise Linux 8.10 | SKIPPED | PASS | SKIPPED | SKIPPED | SKIPPED | SKIPPED | +-------------------------------+-------------------------+--------------------+-------------------+----------------------+-------------------+------------------+ | Red Hat Enterprise Linux 9.5 | SKIPPED | PASS | SKIPPED | SKIPPED | SKIPPED | SKIPPED | +-------------------------------+-------------------------+--------------------+-------------------+----------------------+-------------------+------------------+ | Ubuntu 22.04 | SKIPPED | PASS | SKIPPED | SKIPPED | PASS | SKIPPED | +-------------------------------+-------------------------+--------------------+-------------------+----------------------+-------------------+------------------+ | Ubuntu 24.04 | SKIPPED | PASS | SKIPPED | SKIPPED | PASS | PASS | +-------------------------------+-------------------------+--------------------+-------------------+----------------------+-------------------+------------------+ | Alpine Linux 3.22.0 | SKIPPED | PASS | SKIPPED | SKIPPED | SKIPPED | SKIPPED | +-------------------------------+-------------------------+--------------------+-------------------+----------------------+-------------------+------------------+ Windows Server 2022 Kernel: 10.0.20348.2031 Compiler: clang 15.0.7, gcc 14.1.0 (MinGW), and MSVC VS 19.39.33521 Ubuntu 20.04 Kernel: 4.19 Compiler: gcc gcc (Ubuntu 9.4.0-1ubuntu1~20.04.2) 9.4.0 FreeBSD 14.2 Kernel: 14.2-RELEASE Compiler: clang 18.1.6 CentOS Stream 9 Kernel: 5.15 Compiler: gcc gcc (GCC) 11.5.0 20240719 (Red Hat 11.5.0-7) CentOS Stream 10 Kernel: 5.15 Compiler: gcc gcc (GCC) 14.2.1 20250110 (Red Hat 14.2.1-8) Debian GNU/Linux 12 Kernel: 5.15 Compiler: gcc gcc (Debian 12.2.0-14+deb12u1) 12.2.0 Fedora Linux 40 Kernel: 5.15 Compiler: clang gcc (GCC) 14.2.1 20240912 (Red Hat 14.2.1-3) Fedora Linux 41 Kernel: 5.15 Compiler: clang gcc (GCC) 14.3.1 20250523 (Red Hat 14.3.1-1) openSUSE Leap 15.6 Kernel: 5.15 Compiler: gcc gcc (SUSE Linux) 7.5.0 Red Hat Enterprise Linux 8.10 Kernel: 5.15 Compiler: gcc gcc (GCC) 8.5.0 20210514 (Red Hat 8.5.0-22) Red Hat Enterprise Linux 9.5 Kernel: 5.15 Compiler: gcc gcc (GCC) 11.5.0 20240719 (Red Hat 11.5.0-2) Ubuntu 22.04 Kernel: 5.15 Compiler: gcc gcc (Ubuntu 11.4.0-1ubuntu1~22.04) 11.4.0 Ubuntu 24.04 Kernel: 5.15 Compiler: gcc gcc (Ubuntu 13.3.0-6ubuntu2~24.04) 13.3.0 Alpine Linux 3.22.0 Kernel: 5.15 Compiler: gcc gcc (Alpine 14.2.0) 14.2.0 To view detailed results, visit: https://lab.dpdk.org/results/dashboard/patchsets/33734/ UNH-IOL DPDK Community Lab To manage your email subscriptions, visit: https://lab.dpdk.org/results/dashboard/preferences/subscriptions/