From mboxrd@z Thu Jan 1 00:00:00 1970 Return-Path: Received: from mails.dpdk.org (mails.dpdk.org [217.70.189.124]) by inbox.dpdk.org (Postfix) with ESMTP id C06CA46BF2 for ; Wed, 23 Jul 2025 17:55:10 +0200 (CEST) Received: from mails.dpdk.org (localhost [127.0.0.1]) by mails.dpdk.org (Postfix) with ESMTP id BC97540267; Wed, 23 Jul 2025 17:55:10 +0200 (CEST) Received: from mail-pl1-f227.google.com (mail-pl1-f227.google.com [209.85.214.227]) by mails.dpdk.org (Postfix) with ESMTP id D523E40267 for ; Wed, 23 Jul 2025 17:55:09 +0200 (CEST) Received: by mail-pl1-f227.google.com with SMTP id d9443c01a7336-23aeac7d77aso59154555ad.3 for ; Wed, 23 Jul 2025 08:55:09 -0700 (PDT) DKIM-Signature: v=1; a=rsa-sha256; c=relaxed/relaxed; d=iol.unh.edu; s=unh-iol; t=1753286109; x=1753890909; darn=dpdk.org; h=references:in-reply-to:cc:to:from:subject:message-id:date:from:to :cc:subject:date:message-id:reply-to; bh=06bJri1oSYixGzmad+qZdPl+vzQhm1h0SVjb2+LMPhc=; b=VWE/ceMdqwKbY3vtRBR5iHtqYfCStBKFGpT3ZIbl4KBNLMUDYAxEJN3btfuQ49MA9e hZFfsJSYSb+LU0RnkY1RrOgYxL8tdXGRCH1hRwXG3C+M7lmtqvpmZ17EIKFEqreLoGru HFWk3ZCm+Ozhs76vcfFaKWv0mddtWzjWzqdh0= X-Google-DKIM-Signature: v=1; a=rsa-sha256; c=relaxed/relaxed; d=1e100.net; s=20230601; t=1753286109; x=1753890909; h=references:in-reply-to:cc:to:from:subject:message-id:date :x-gm-message-state:from:to:cc:subject:date:message-id:reply-to; bh=06bJri1oSYixGzmad+qZdPl+vzQhm1h0SVjb2+LMPhc=; b=Ys5nipvcWL49jp8OhvurrMWYgPuEXfjL2x42s9wr+/4H6Bt22/Uj6AfN6df1OcENhg acA7PaQ8gbZronoL4PKGibhORuDL02IuybbyDHTk7PYmdPlghyFMJCC7pIwvzOuc39Oe LQUfmO28p/rpvlnuJa6EC6J1Vl5b0Gg888znpFwHfEOAgR6eln7iSWx81EqSkKMFZzJD dGkpH4fMhFd7n8uPOUBG3X3C9JdWQYnrMsjTHj7A3E6c7JxBMNZnpv0ISVbLaL0XJDjp Mzru/PBqncCk7kAO5nNOC0xeM9AByhAKjE/BwzifqLd0Y9ldnZWeCGT4im9+VaGERYjt uHwA== X-Gm-Message-State: AOJu0Yx6M8Y8A9PPk2MDJTMTI+KeU8vUYs5+Za7m7xOHlTohVPGBlSBi B4W39haWqP5vTiGeZLE3Sc+v4N7N3qZ4iQXnpSVFnz8MSh/EkDrBDPSE9v72jkZmwHU2ePxoBGA /fStLrdp3mITcgYsC6LAmpU5dijZUCPMhMZ+cYwA2iDvtSqu+iAcbWwaJ5Lub X-Gm-Gg: ASbGnctfaZFedFSTjA+VOGkQsdzcFGutYJN0eJJv75HyeZu8if2mDL1c1p5xujfzjwr kRAtTDi0qnAjR+PpH8I0M7YKbZOlTa6MmXqxHsK9f5cV3hb54w0decGNMMCneL67Y1s2yqkc4+a OlBr+0AN1x2fFKh3UwEBYLVh0SRY+0fYcc4FHbFzFX9HOhV/kLKd6zy41Xqc6zJcsuzTFKvfPbf tg+sl63dysWTQPMJnFsnXPALM7xEYkp8aIEgekn2lu/DahtI9lLntdSKIeM6JRlRomA+v/YsrR9 LvmDaH+h1OivtZclcZqrBbkw5CM2aLGz8XKAxD8IzWsQn6a+OQ== X-Google-Smtp-Source: AGHT+IHBQv1GtQ2HYo4fPCtab8ew2X+Re/h5ak7DF3gkYlS2Cp/pHrWrOrIQzYNhkMXoapk3xycX7PjHMGva X-Received: by 2002:a17:903:230c:b0:234:a66d:ccf5 with SMTP id d9443c01a7336-23f98235191mr60468355ad.49.1753286108974; Wed, 23 Jul 2025 08:55:08 -0700 (PDT) Received: from postal.iol.unh.edu (postal.iol.unh.edu. [2606:4100:3880:1234::84]) by smtp-relay.gmail.com with ESMTPS id d9443c01a7336-23e3b6323d6sm6733545ad.51.2025.07.23.08.55.08 (version=TLS1_2 cipher=ECDHE-ECDSA-AES128-GCM-SHA256 bits=128/128); Wed, 23 Jul 2025 08:55:08 -0700 (PDT) X-Relaying-Domain: iol.unh.edu Date: Wed, 23 Jul 2025 08:55:08 -0700 (PDT) Message-ID: <688105dc.170a0220.1b66b7.152cSMTPIN_ADDED_MISSING@mx.google.com> Received: from [172.21.0.5] (unknown [172.18.0.240]) by postal.iol.unh.edu (Postfix) with ESMTP id 40BFB604D420; Wed, 23 Jul 2025 11:55:08 -0400 (EDT) Subject: |WARNING| pw155447-155454 [PATCH] [v9,8/8] lib/pmu: fix out-of-bound From: dpdklab@iol.unh.edu To: Test Report Cc: dpdk-test-reports@iol.unh.edu In-Reply-To: <20250723044118.2962318-9-tduszynski@marvell.com> References: <20250723044118.2962318-9-tduszynski@marvell.com> Content-Type: text/plain X-BeenThere: test-report@dpdk.org X-Mailman-Version: 2.1.29 Precedence: list List-Id: automatic DPDK test reports List-Unsubscribe: , List-Archive: List-Post: List-Help: List-Subscribe: , Errors-To: test-report-bounces@dpdk.org Test-Label: iol-compile-amd64-testing Test-Status: WARNING http://dpdk.org/patch/155454 _Testing issues_ Submitter: Tomasz Duszynski Date: Wednesday, July 23 2025 04:41:18 DPDK git baseline: Repo:dpdk Branch: master CommitID:b222395561638f89562e4ef42e1eabf2d6db43dd 155447-155454 --> testing issues Upstream job id: Generic-DPDK-Compile-Meson#411459 Test environment and result as below: +-------------------------------+-------------------+--------------------+-------------------------+----------------------+-------------------+------------------+ | Environment | dpdk_msvc_compile | dpdk_meson_compile | dpdk_llvm_clang_compile | dpdk_mingw64_compile | dpdk_compile_spdk | dpdk_compile_ovs | +===============================+===================+====================+=========================+======================+===================+==================+ | Windows Server 2022 | PASS | SKIPPED | PASS | PASS | SKIPPED | SKIPPED | +-------------------------------+-------------------+--------------------+-------------------------+----------------------+-------------------+------------------+ | FreeBSD 14.2 | SKIPPED | PASS | SKIPPED | SKIPPED | SKIPPED | SKIPPED | +-------------------------------+-------------------+--------------------+-------------------------+----------------------+-------------------+------------------+ | Ubuntu 20.04 | SKIPPED | PASS | SKIPPED | SKIPPED | SKIPPED | SKIPPED | +-------------------------------+-------------------+--------------------+-------------------------+----------------------+-------------------+------------------+ | CentOS Stream 9 | SKIPPED | PASS | SKIPPED | SKIPPED | WARN | SKIPPED | +-------------------------------+-------------------+--------------------+-------------------------+----------------------+-------------------+------------------+ | CentOS Stream 10 | SKIPPED | PASS | SKIPPED | SKIPPED | SKIPPED | SKIPPED | +-------------------------------+-------------------+--------------------+-------------------------+----------------------+-------------------+------------------+ | Debian GNU/Linux 12 | SKIPPED | PASS | SKIPPED | SKIPPED | WARN | SKIPPED | +-------------------------------+-------------------+--------------------+-------------------------+----------------------+-------------------+------------------+ | Fedora Linux 40 | SKIPPED | PASS | SKIPPED | SKIPPED | WARN | SKIPPED | +-------------------------------+-------------------+--------------------+-------------------------+----------------------+-------------------+------------------+ | Fedora Linux 41 | SKIPPED | PASS | SKIPPED | SKIPPED | WARN | PASS | +-------------------------------+-------------------+--------------------+-------------------------+----------------------+-------------------+------------------+ | openSUSE Leap 15.6 | SKIPPED | PASS | SKIPPED | SKIPPED | SKIPPED | SKIPPED | +-------------------------------+-------------------+--------------------+-------------------------+----------------------+-------------------+------------------+ | Red Hat Enterprise Linux 8.10 | SKIPPED | PASS | SKIPPED | SKIPPED | SKIPPED | SKIPPED | +-------------------------------+-------------------+--------------------+-------------------------+----------------------+-------------------+------------------+ | Red Hat Enterprise Linux 9.5 | SKIPPED | PASS | SKIPPED | SKIPPED | SKIPPED | SKIPPED | +-------------------------------+-------------------+--------------------+-------------------------+----------------------+-------------------+------------------+ | Ubuntu 22.04 | SKIPPED | PASS | SKIPPED | SKIPPED | WARN | SKIPPED | +-------------------------------+-------------------+--------------------+-------------------------+----------------------+-------------------+------------------+ | Ubuntu 24.04 | SKIPPED | PASS | SKIPPED | SKIPPED | WARN | PASS | +-------------------------------+-------------------+--------------------+-------------------------+----------------------+-------------------+------------------+ | Alpine Linux 3.22.0 | SKIPPED | PASS | SKIPPED | SKIPPED | SKIPPED | SKIPPED | +-------------------------------+-------------------+--------------------+-------------------------+----------------------+-------------------+------------------+ ==== 20 line log output for Ubuntu 24.04 (dpdk_compile_spdk): ==== --- Failed to get log output --- ==== End log output ==== Windows Server 2022 Kernel: 10.0.20348.2031 Compiler: clang 15.0.7, gcc 14.1.0 (MinGW), and MSVC VS 19.39.33521 FreeBSD 14.2 Kernel: 14.2-RELEASE Compiler: clang 18.1.6 Ubuntu 20.04 Kernel: 4.19 Compiler: gcc gcc (Ubuntu 9.4.0-1ubuntu1~20.04.2) 9.4.0 CentOS Stream 9 Kernel: 5.15 Compiler: gcc gcc (GCC) 11.5.0 20240719 (Red Hat 11.5.0-7) CentOS Stream 10 Kernel: 5.15 Compiler: gcc gcc (GCC) 14.2.1 20250110 (Red Hat 14.2.1-8) Debian GNU/Linux 12 Kernel: 5.15 Compiler: gcc gcc (Debian 12.2.0-14+deb12u1) 12.2.0 Fedora Linux 40 Kernel: 5.15 Compiler: clang gcc (GCC) 14.2.1 20240912 (Red Hat 14.2.1-3) Fedora Linux 41 Kernel: 5.15 Compiler: clang gcc (GCC) 14.3.1 20250523 (Red Hat 14.3.1-1) openSUSE Leap 15.6 Kernel: 5.15 Compiler: gcc gcc (SUSE Linux) 7.5.0 Red Hat Enterprise Linux 8.10 Kernel: 5.15 Compiler: gcc gcc (GCC) 8.5.0 20210514 (Red Hat 8.5.0-22) Red Hat Enterprise Linux 9.5 Kernel: 5.15 Compiler: gcc gcc (GCC) 11.5.0 20240719 (Red Hat 11.5.0-2) Ubuntu 22.04 Kernel: 5.15 Compiler: gcc gcc (Ubuntu 11.4.0-1ubuntu1~22.04) 11.4.0 Ubuntu 24.04 Kernel: 5.15 Compiler: gcc gcc (Ubuntu 13.3.0-6ubuntu2~24.04) 13.3.0 Alpine Linux 3.22.0 Kernel: 5.15 Compiler: gcc gcc (Alpine 14.2.0) 14.2.0 To view detailed results, visit: https://lab.dpdk.org/results/dashboard/patchsets/33732/ UNH-IOL DPDK Community Lab To manage your email subscriptions, visit: https://lab.dpdk.org/results/dashboard/preferences/subscriptions/