From mboxrd@z Thu Jan 1 00:00:00 1970 Return-Path: Received: from mails.dpdk.org (mails.dpdk.org [217.70.189.124]) by inbox.dpdk.org (Postfix) with ESMTP id 00B8446BF2 for ; Wed, 23 Jul 2025 17:56:53 +0200 (CEST) Received: from mails.dpdk.org (localhost [127.0.0.1]) by mails.dpdk.org (Postfix) with ESMTP id EF45240267; Wed, 23 Jul 2025 17:56:53 +0200 (CEST) Received: from mail-qt1-f226.google.com (mail-qt1-f226.google.com [209.85.160.226]) by mails.dpdk.org (Postfix) with ESMTP id BCCFA40267 for ; Wed, 23 Jul 2025 17:56:52 +0200 (CEST) Received: by mail-qt1-f226.google.com with SMTP id d75a77b69052e-4ab92d06ddeso454821cf.3 for ; Wed, 23 Jul 2025 08:56:52 -0700 (PDT) DKIM-Signature: v=1; a=rsa-sha256; c=relaxed/relaxed; d=iol.unh.edu; s=unh-iol; t=1753286212; x=1753891012; darn=dpdk.org; h=references:in-reply-to:cc:to:from:subject:message-id:date:from:to :cc:subject:date:message-id:reply-to; bh=PKpvsjCwPLIIPnfqj+N1XPFeh/eCgA9wvJF6+Hzuhd8=; b=gxjlACII/61jNjWh9JIwvJDw4wfHowJHZ9Coq+PNKHFec0mmnV7YTzPvx7Pig0zsVS CTlqLel7i4siZqyoc9Qlo2vXNPjCr2wkogQtqeYTmUHDvSk68conJ+kOR086vlsAZsJe pkgo6KWVOeXeHCHwvj4GqbyVoRrTyKK4erzIo= X-Google-DKIM-Signature: v=1; a=rsa-sha256; c=relaxed/relaxed; d=1e100.net; s=20230601; t=1753286212; x=1753891012; h=references:in-reply-to:cc:to:from:subject:message-id:date :x-gm-message-state:from:to:cc:subject:date:message-id:reply-to; bh=PKpvsjCwPLIIPnfqj+N1XPFeh/eCgA9wvJF6+Hzuhd8=; b=l7U4RrTrchlQQP4dFuOppuI2n61SfiqtTzpqfnwI1sPA+ZYhC0TjXNg2L0iIf1cPUM Iqhmf7YlYpz/PJts+DobKgdH29XLAo8L+S4jq9jwNypFIVYBM3VXzTXbiPv/IGQnWhHi fI6TdoJRu6yugfFE9fp72TmyKnKriBW/42m8KDxoQz32Op3cTOER/7bOtSA7loVffECy O0WhoGrOzwcHW8OR7uz2GAGyMNb4nKlAiyVE3kB8CbQs0InER+CL2vrdrUcrfardyL4x 169kHPaTJZZmG0C8yjyAZ+BKMAn6t/cga2vjWW6+BEjn95ivEDsWYBobm/WXpN3tTaWI GT7w== X-Gm-Message-State: AOJu0YxaMCwLunlwmVTErp6yE4G7QrIEuNvnP8hwf8mEEGS6SQzFjkwc QZx4cr2boyQoO7+QvBQW1/lXSzGKMkorfMvbqWbyWarrAgXl2/wPW7Qt7jG0gyj1nzqekTcsH6Z zwWpjQa6vifceBC3PVyO7N5Z72RWmjKCS+tqWgzp85Ut/ X-Gm-Gg: ASbGnctcONPg0rz5TjQ+2diq9gHGEUKEQ1uhe9jbts8pNAlyVHCLQ357tpiTShSo0Ym uggq6yXXSC44eoZoa/Dj5WQOgs59X2DbcAuE+BEFJlLIQGJx4PSD/n6q1cavJTzMEnRn2FRJrHi Mpi8pnCqbZ+2VZ0xRxy8BjkTE7/Yd310HuRqsNgYXy+qQeP3Ew3NREffT/NS0ZZ92U+1DDIhCz1 MarLiXCKSiDpzNvYyuBkqBjKukr8wunAkKWx+LYoazVeTa3it+Dm/cK1T/LI41UeiMRncz2lFOQ DLLY21wTz17Xd1EEMN9EOPP1Q9hkB5flL6TrWqIoMyUzm17qFpxq81WD8mCjbxGHjN+qWfF7 X-Google-Smtp-Source: AGHT+IEBA/LNsc8EyQKM85Jm1GA+e47qEMMH64esEXmPinkNgenSUGJFtozhPvLB2ZSyc8Ai9adk8xl39u4P X-Received: by 2002:ac8:5796:0:b0:4ab:82ab:727 with SMTP id d75a77b69052e-4ae6dfd2d7bmr39786761cf.48.1753286212007; Wed, 23 Jul 2025 08:56:52 -0700 (PDT) Received: from postal.iol.unh.edu (postal.iol.unh.edu. [132.177.123.84]) by smtp-relay.gmail.com with ESMTPS id d75a77b69052e-4abb4a1a02asm6201051cf.11.2025.07.23.08.56.51 (version=TLS1_2 cipher=ECDHE-ECDSA-AES128-GCM-SHA256 bits=128/128); Wed, 23 Jul 2025 08:56:52 -0700 (PDT) X-Relaying-Domain: iol.unh.edu Date: Wed, 23 Jul 2025 08:56:52 -0700 (PDT) Message-ID: <68810644.c80a0220.246aa1.ff2fSMTPIN_ADDED_MISSING@mx.google.com> Received: from [172.21.0.3] (unknown [172.18.0.240]) by postal.iol.unh.edu (Postfix) with ESMTP id A8D91604D420; Wed, 23 Jul 2025 11:56:51 -0400 (EDT) Subject: |SUCCESS| pw155456 [PATCH] net/mlx5: fix ipool memory leak From: dpdklab@iol.unh.edu To: Test Report Cc: dpdk-test-reports@iol.unh.edu In-Reply-To: <20250723064923.1805575-1-rongweil@nvidia.com> References: <20250723064923.1805575-1-rongweil@nvidia.com> Content-Type: text/plain X-BeenThere: test-report@dpdk.org X-Mailman-Version: 2.1.29 Precedence: list List-Id: automatic DPDK test reports List-Unsubscribe: , List-Archive: List-Post: List-Help: List-Subscribe: , Errors-To: test-report-bounces@dpdk.org Test-Label: iol-compile-amd64-testing Test-Status: SUCCESS http://dpdk.org/patch/155456 _Testing PASS_ Submitter: Rongwei Liu Date: Wednesday, July 23 2025 06:49:22 DPDK git baseline: Repo:dpdk Branch: master CommitID:b222395561638f89562e4ef42e1eabf2d6db43dd 155456 --> testing pass Upstream job id: Generic-DPDK-Compile-Meson#411482 Test environment and result as below: +-------------------------------+-------------------------+--------------------+-------------------+----------------------+-------------------+------------------+ | Environment | dpdk_llvm_clang_compile | dpdk_meson_compile | dpdk_msvc_compile | dpdk_mingw64_compile | dpdk_compile_spdk | dpdk_compile_ovs | +===============================+=========================+====================+===================+======================+===================+==================+ | Windows Server 2022 | PASS | SKIPPED | PASS | PASS | SKIPPED | SKIPPED | +-------------------------------+-------------------------+--------------------+-------------------+----------------------+-------------------+------------------+ | Ubuntu 20.04 | SKIPPED | PASS | SKIPPED | SKIPPED | SKIPPED | SKIPPED | +-------------------------------+-------------------------+--------------------+-------------------+----------------------+-------------------+------------------+ | FreeBSD 14.2 | SKIPPED | PASS | SKIPPED | SKIPPED | SKIPPED | SKIPPED | +-------------------------------+-------------------------+--------------------+-------------------+----------------------+-------------------+------------------+ | CentOS Stream 9 | SKIPPED | PASS | SKIPPED | SKIPPED | PASS | SKIPPED | +-------------------------------+-------------------------+--------------------+-------------------+----------------------+-------------------+------------------+ | CentOS Stream 10 | SKIPPED | PASS | SKIPPED | SKIPPED | SKIPPED | SKIPPED | +-------------------------------+-------------------------+--------------------+-------------------+----------------------+-------------------+------------------+ | Debian GNU/Linux 12 | SKIPPED | PASS | SKIPPED | SKIPPED | PASS | SKIPPED | +-------------------------------+-------------------------+--------------------+-------------------+----------------------+-------------------+------------------+ | Fedora Linux 40 | SKIPPED | PASS | SKIPPED | SKIPPED | PASS | SKIPPED | +-------------------------------+-------------------------+--------------------+-------------------+----------------------+-------------------+------------------+ | Fedora Linux 41 | SKIPPED | PASS | SKIPPED | SKIPPED | PASS | PASS | +-------------------------------+-------------------------+--------------------+-------------------+----------------------+-------------------+------------------+ | openSUSE Leap 15.6 | SKIPPED | PASS | SKIPPED | SKIPPED | SKIPPED | SKIPPED | +-------------------------------+-------------------------+--------------------+-------------------+----------------------+-------------------+------------------+ | Red Hat Enterprise Linux 8.10 | SKIPPED | PASS | SKIPPED | SKIPPED | SKIPPED | SKIPPED | +-------------------------------+-------------------------+--------------------+-------------------+----------------------+-------------------+------------------+ | Red Hat Enterprise Linux 9.5 | SKIPPED | PASS | SKIPPED | SKIPPED | SKIPPED | SKIPPED | +-------------------------------+-------------------------+--------------------+-------------------+----------------------+-------------------+------------------+ | Ubuntu 22.04 | SKIPPED | PASS | SKIPPED | SKIPPED | PASS | SKIPPED | +-------------------------------+-------------------------+--------------------+-------------------+----------------------+-------------------+------------------+ | Ubuntu 24.04 | SKIPPED | PASS | SKIPPED | SKIPPED | PASS | PASS | +-------------------------------+-------------------------+--------------------+-------------------+----------------------+-------------------+------------------+ | Alpine Linux 3.22.0 | SKIPPED | PASS | SKIPPED | SKIPPED | SKIPPED | SKIPPED | +-------------------------------+-------------------------+--------------------+-------------------+----------------------+-------------------+------------------+ Windows Server 2022 Kernel: 10.0.20348.2031 Compiler: clang 15.0.7, gcc 14.1.0 (MinGW), and MSVC VS 19.39.33521 Ubuntu 20.04 Kernel: 4.19 Compiler: gcc gcc (Ubuntu 9.4.0-1ubuntu1~20.04.2) 9.4.0 FreeBSD 14.2 Kernel: 14.2-RELEASE Compiler: clang 18.1.6 CentOS Stream 9 Kernel: 5.15 Compiler: gcc gcc (GCC) 11.5.0 20240719 (Red Hat 11.5.0-7) CentOS Stream 10 Kernel: 5.15 Compiler: gcc gcc (GCC) 14.2.1 20250110 (Red Hat 14.2.1-8) Debian GNU/Linux 12 Kernel: 5.15 Compiler: gcc gcc (Debian 12.2.0-14+deb12u1) 12.2.0 Fedora Linux 40 Kernel: 5.15 Compiler: clang gcc (GCC) 14.2.1 20240912 (Red Hat 14.2.1-3) Fedora Linux 41 Kernel: 5.15 Compiler: clang gcc (GCC) 14.3.1 20250523 (Red Hat 14.3.1-1) openSUSE Leap 15.6 Kernel: 5.15 Compiler: gcc gcc (SUSE Linux) 7.5.0 Red Hat Enterprise Linux 8.10 Kernel: 5.15 Compiler: gcc gcc (GCC) 8.5.0 20210514 (Red Hat 8.5.0-22) Red Hat Enterprise Linux 9.5 Kernel: 5.15 Compiler: gcc gcc (GCC) 11.5.0 20240719 (Red Hat 11.5.0-2) Ubuntu 22.04 Kernel: 5.15 Compiler: gcc gcc (Ubuntu 11.4.0-1ubuntu1~22.04) 11.4.0 Ubuntu 24.04 Kernel: 5.15 Compiler: gcc gcc (Ubuntu 13.3.0-6ubuntu2~24.04) 13.3.0 Alpine Linux 3.22.0 Kernel: 5.15 Compiler: gcc gcc (Alpine 14.2.0) 14.2.0 To view detailed results, visit: https://lab.dpdk.org/results/dashboard/patchsets/33734/ UNH-IOL DPDK Community Lab To manage your email subscriptions, visit: https://lab.dpdk.org/results/dashboard/preferences/subscriptions/