From mboxrd@z Thu Jan 1 00:00:00 1970 Return-Path: Received: from mails.dpdk.org (mails.dpdk.org [217.70.189.124]) by inbox.dpdk.org (Postfix) with ESMTP id 7E26546BF2 for ; Wed, 23 Jul 2025 17:59:15 +0200 (CEST) Received: from mails.dpdk.org (localhost [127.0.0.1]) by mails.dpdk.org (Postfix) with ESMTP id 75C6E40267; Wed, 23 Jul 2025 17:59:15 +0200 (CEST) Received: from mail-io1-f97.google.com (mail-io1-f97.google.com [209.85.166.97]) by mails.dpdk.org (Postfix) with ESMTP id 5199840267 for ; Wed, 23 Jul 2025 17:59:14 +0200 (CEST) Received: by mail-io1-f97.google.com with SMTP id ca18e2360f4ac-87c6dfca35bso3764739f.1 for ; Wed, 23 Jul 2025 08:59:14 -0700 (PDT) DKIM-Signature: v=1; a=rsa-sha256; c=relaxed/relaxed; d=iol.unh.edu; s=unh-iol; t=1753286353; x=1753891153; darn=dpdk.org; h=references:in-reply-to:cc:to:from:subject:message-id:date:from:to :cc:subject:date:message-id:reply-to; bh=iuutKNNBJI8ZRQ801DP/3kIMH7WXEsdQKMFPHyclhAs=; b=L+MMwEp8tPOcRdoeezx905yLc7mrI8ptfCT9eDsx8T6J/CU/HQQJVkiYTLmCiAHnd6 OpnRpNEf38UVmzhfRbJr9aMPNgAqhbb2uJfJwXLYHUYfYxrZVOUhjiOP1fek2zI1FYBe rafqRZs7XTOK1SdyTTnzs8lz72a2XqZINQHwY= X-Google-DKIM-Signature: v=1; a=rsa-sha256; c=relaxed/relaxed; d=1e100.net; s=20230601; t=1753286353; x=1753891153; h=references:in-reply-to:cc:to:from:subject:message-id:date :x-gm-message-state:from:to:cc:subject:date:message-id:reply-to; bh=iuutKNNBJI8ZRQ801DP/3kIMH7WXEsdQKMFPHyclhAs=; b=YE43ZDA0TEB2avGFFb0jXUld+mBPojmICjf2AJsxex1xZYv7mLF/1gkd/XV9K5rY/E JKAsdGSWiilzr7EAVeh604IaKGfQrFvxTE9E7EA1FNc5uZ5tU/OcLGA0YAOoN6/6AbU/ bPqDC12RCMm2ow7jDG5MzaPUutxvSXrt9J37rKZRGUjdp6Dj/eNeqkkLjRQNSJLd19DG ve88ZLIbnrvKIlexkdqMUclt4bwuK8CBVEKQ0pdz8vSJAKsIQcYPqzsnQcixIiiHLlfR TOcOtbiUWcJJWccF42cNW2U0nQuf6G36uBgoIOMG3fjCElt0B3qkxETkjw2723aMps4Y fc4g== X-Gm-Message-State: AOJu0YzDgAIa3gZ74gb1cOSvTIj7my3MkCs0a02i+bVK+jF6DIR1aD6g uf7Tsq8M4+LEPssnlQhPWIh2fbydr/qm0/0WetnFUlqmyRYf3zDEycrqFvP9LCUysnKW64/YfYB BS1v9wdyEjqecTk0DCdklEEOS5PXfF1EvWb4lLuGNgkDt1vcz0zxru3SUR/vw X-Gm-Gg: ASbGncu9mG8FPfuAwxbFNDrCzKlnEUIRhKNQ5s/OJgD0lG/dRp0wzpN2o0Gg1rsM5Va BfElCMqxnYwpmoYvD/PKLQFttWftEbhMPA1EbBIJ+GXlFWYz0nRAPLsCFm5/sKc4iDJ4z9CsYxa ZLQE6TNhHlziROBBpJSD1QiSP7TtG3lxw0B7q9+4qMuLV6yesuG4S0ZsYUsXZ4bdi1cM8pnMKxN ykPEqvi9sYjdSWWe4tBMYTQQglAryg0SXrItu3ILxARPnRmK/+VTATguHO/421u/gVvHdORpUkT yxydMtOrHVuCReJyQ/YT24CCUOfY9y+IdLAY2bqqS/G60tjL8Q== X-Google-Smtp-Source: AGHT+IGBMB6rEcb4PBSZzAPdq05LK9By29zmB9BXUHOU9YsANy4+ZAu1e1UD1Js37AgXOPSI1tpHafNFAbkH X-Received: by 2002:a05:6602:256b:b0:87c:788:e1e7 with SMTP id ca18e2360f4ac-87c537b39c5mr1189456039f.2.1753286353528; Wed, 23 Jul 2025 08:59:13 -0700 (PDT) Received: from postal.iol.unh.edu (postal.iol.unh.edu. [2606:4100:3880:1234::84]) by smtp-relay.gmail.com with ESMTPS id 8926c6da1cb9f-5089b312927sm118310173.38.2025.07.23.08.59.13 (version=TLS1_2 cipher=ECDHE-ECDSA-AES128-GCM-SHA256 bits=128/128); Wed, 23 Jul 2025 08:59:13 -0700 (PDT) X-Relaying-Domain: iol.unh.edu Date: Wed, 23 Jul 2025 08:59:13 -0700 (PDT) Message-ID: <688106d1.050a0220.b5b62.5e90SMTPIN_ADDED_MISSING@mx.google.com> Received: from [172.21.0.7] (unknown [172.18.0.240]) by postal.iol.unh.edu (Postfix) with ESMTP id 0AF41604D420; Wed, 23 Jul 2025 11:59:12 -0400 (EDT) Subject: |SUCCESS| pw155456 [PATCH] net/mlx5: fix ipool memory leak From: dpdklab@iol.unh.edu To: Test Report Cc: dpdk-test-reports@iol.unh.edu In-Reply-To: <20250723064923.1805575-1-rongweil@nvidia.com> References: <20250723064923.1805575-1-rongweil@nvidia.com> Content-Type: text/plain X-BeenThere: test-report@dpdk.org X-Mailman-Version: 2.1.29 Precedence: list List-Id: automatic DPDK test reports List-Unsubscribe: , List-Archive: List-Post: List-Help: List-Subscribe: , Errors-To: test-report-bounces@dpdk.org Test-Label: iol-compile-amd64-testing Test-Status: SUCCESS http://dpdk.org/patch/155456 _Testing PASS_ Submitter: Rongwei Liu Date: Wednesday, July 23 2025 06:49:22 DPDK git baseline: Repo:dpdk Branch: master CommitID:b222395561638f89562e4ef42e1eabf2d6db43dd 155456 --> testing pass Upstream job id: Generic-DPDK-Compile-Meson#411481 Test environment and result as below: +-------------------------------+-------------------------+--------------------+-------------------+----------------------+-------------------+------------------+ | Environment | dpdk_llvm_clang_compile | dpdk_meson_compile | dpdk_msvc_compile | dpdk_mingw64_compile | dpdk_compile_spdk | dpdk_compile_ovs | +===============================+=========================+====================+===================+======================+===================+==================+ | Windows Server 2022 | PASS | SKIPPED | PASS | PASS | SKIPPED | SKIPPED | +-------------------------------+-------------------------+--------------------+-------------------+----------------------+-------------------+------------------+ | Ubuntu 20.04 | SKIPPED | PASS | SKIPPED | SKIPPED | SKIPPED | SKIPPED | +-------------------------------+-------------------------+--------------------+-------------------+----------------------+-------------------+------------------+ | FreeBSD 14.2 | SKIPPED | PASS | SKIPPED | SKIPPED | SKIPPED | SKIPPED | +-------------------------------+-------------------------+--------------------+-------------------+----------------------+-------------------+------------------+ | CentOS Stream 9 | SKIPPED | PASS | SKIPPED | SKIPPED | PASS | SKIPPED | +-------------------------------+-------------------------+--------------------+-------------------+----------------------+-------------------+------------------+ | CentOS Stream 10 | SKIPPED | PASS | SKIPPED | SKIPPED | SKIPPED | SKIPPED | +-------------------------------+-------------------------+--------------------+-------------------+----------------------+-------------------+------------------+ | Debian GNU/Linux 12 | SKIPPED | PASS | SKIPPED | SKIPPED | PASS | SKIPPED | +-------------------------------+-------------------------+--------------------+-------------------+----------------------+-------------------+------------------+ | Fedora Linux 40 | SKIPPED | PASS | SKIPPED | SKIPPED | PASS | SKIPPED | +-------------------------------+-------------------------+--------------------+-------------------+----------------------+-------------------+------------------+ | Fedora Linux 41 | SKIPPED | PASS | SKIPPED | SKIPPED | PASS | PASS | +-------------------------------+-------------------------+--------------------+-------------------+----------------------+-------------------+------------------+ | openSUSE Leap 15.6 | SKIPPED | PASS | SKIPPED | SKIPPED | SKIPPED | SKIPPED | +-------------------------------+-------------------------+--------------------+-------------------+----------------------+-------------------+------------------+ | Red Hat Enterprise Linux 8.10 | SKIPPED | PASS | SKIPPED | SKIPPED | SKIPPED | SKIPPED | +-------------------------------+-------------------------+--------------------+-------------------+----------------------+-------------------+------------------+ | Red Hat Enterprise Linux 9.5 | SKIPPED | PASS | SKIPPED | SKIPPED | SKIPPED | SKIPPED | +-------------------------------+-------------------------+--------------------+-------------------+----------------------+-------------------+------------------+ | Ubuntu 22.04 | SKIPPED | PASS | SKIPPED | SKIPPED | PASS | SKIPPED | +-------------------------------+-------------------------+--------------------+-------------------+----------------------+-------------------+------------------+ | Ubuntu 24.04 | SKIPPED | PASS | SKIPPED | SKIPPED | PASS | PASS | +-------------------------------+-------------------------+--------------------+-------------------+----------------------+-------------------+------------------+ | Alpine Linux 3.22.0 | SKIPPED | PASS | SKIPPED | SKIPPED | SKIPPED | SKIPPED | +-------------------------------+-------------------------+--------------------+-------------------+----------------------+-------------------+------------------+ Windows Server 2022 Kernel: 10.0.20348.2031 Compiler: clang 15.0.7, gcc 14.1.0 (MinGW), and MSVC VS 19.39.33521 Ubuntu 20.04 Kernel: 4.19 Compiler: gcc gcc (Ubuntu 9.4.0-1ubuntu1~20.04.2) 9.4.0 FreeBSD 14.2 Kernel: 14.2-RELEASE Compiler: clang 18.1.6 CentOS Stream 9 Kernel: 5.15 Compiler: gcc gcc (GCC) 11.5.0 20240719 (Red Hat 11.5.0-7) CentOS Stream 10 Kernel: 5.15 Compiler: gcc gcc (GCC) 14.2.1 20250110 (Red Hat 14.2.1-8) Debian GNU/Linux 12 Kernel: 5.15 Compiler: gcc gcc (Debian 12.2.0-14+deb12u1) 12.2.0 Fedora Linux 40 Kernel: 5.15 Compiler: clang gcc (GCC) 14.2.1 20240912 (Red Hat 14.2.1-3) Fedora Linux 41 Kernel: 5.15 Compiler: clang gcc (GCC) 14.3.1 20250523 (Red Hat 14.3.1-1) openSUSE Leap 15.6 Kernel: 5.15 Compiler: gcc gcc (SUSE Linux) 7.5.0 Red Hat Enterprise Linux 8.10 Kernel: 5.15 Compiler: gcc gcc (GCC) 8.5.0 20210514 (Red Hat 8.5.0-22) Red Hat Enterprise Linux 9.5 Kernel: 5.15 Compiler: gcc gcc (GCC) 11.5.0 20240719 (Red Hat 11.5.0-2) Ubuntu 22.04 Kernel: 5.15 Compiler: gcc gcc (Ubuntu 11.4.0-1ubuntu1~22.04) 11.4.0 Ubuntu 24.04 Kernel: 5.15 Compiler: gcc gcc (Ubuntu 13.3.0-6ubuntu2~24.04) 13.3.0 Alpine Linux 3.22.0 Kernel: 5.15 Compiler: gcc gcc (Alpine 14.2.0) 14.2.0 To view detailed results, visit: https://lab.dpdk.org/results/dashboard/patchsets/33734/ UNH-IOL DPDK Community Lab To manage your email subscriptions, visit: https://lab.dpdk.org/results/dashboard/preferences/subscriptions/