From mboxrd@z Thu Jan 1 00:00:00 1970 Return-Path: Received: from mails.dpdk.org (mails.dpdk.org [217.70.189.124]) by inbox.dpdk.org (Postfix) with ESMTP id 8E2F846BF2 for ; Wed, 23 Jul 2025 17:59:19 +0200 (CEST) Received: from mails.dpdk.org (localhost [127.0.0.1]) by mails.dpdk.org (Postfix) with ESMTP id 89B8640267; Wed, 23 Jul 2025 17:59:19 +0200 (CEST) Received: from mail-pl1-f227.google.com (mail-pl1-f227.google.com [209.85.214.227]) by mails.dpdk.org (Postfix) with ESMTP id 566E040267 for ; Wed, 23 Jul 2025 17:59:18 +0200 (CEST) Received: by mail-pl1-f227.google.com with SMTP id d9443c01a7336-2350fc2591dso1063145ad.1 for ; Wed, 23 Jul 2025 08:59:18 -0700 (PDT) DKIM-Signature: v=1; a=rsa-sha256; c=relaxed/relaxed; d=iol.unh.edu; s=unh-iol; t=1753286357; x=1753891157; darn=dpdk.org; h=references:in-reply-to:cc:to:from:subject:message-id:date:from:to :cc:subject:date:message-id:reply-to; bh=3S7oXBB33ji/Qg/6yCywXqYfMnEYihpaBl3YBX2/gX0=; b=i35x7Wdu95sVlMJRNTWA3gupgYWB0ReVt1oVGu5lMG5wjLd2ZliSS4ACwSWY9gIYWe JlaitlsT8snHh9L8h+WqohEl6Fl9ug2Wgn2AQXdmSJTUGkWuhli7uKdKgUPd5w1jNHxt pbf9nxwo2iIUG1UjJI+pPjrPsnR5ZTtrao/tM= X-Google-DKIM-Signature: v=1; a=rsa-sha256; c=relaxed/relaxed; d=1e100.net; s=20230601; t=1753286357; x=1753891157; h=references:in-reply-to:cc:to:from:subject:message-id:date :x-gm-message-state:from:to:cc:subject:date:message-id:reply-to; bh=3S7oXBB33ji/Qg/6yCywXqYfMnEYihpaBl3YBX2/gX0=; b=GTXmvyNVNxPmVF3o6anTKsb3u7kgm1Ufe+SL5dVQD8hZJap40zZV4qgEKUNe9k7KAW JMImoMmeTeJL+bqLuOARBaNFCfWJSRV5wXGSovIjamfyaaDG9xmlJTn1dhBHDdCq/Vv4 H52ZNPbdTOl9HMvXW/egD5U6ArgkPAf/sHD+F6qMpUZlc6ppXvzOdYzZ45zixnGbFrsM W8KImsJM4Jz5cdYHYVqhGJtBNn3FDGwW13f4x+l2tn4jz/tjRBPnkS32qEondbLGUuQW VZ/drAuLxN77SkJMIjplT8TFYaLZJhu9ocBw6mhEgIAAnGIVq/s4VjYO4qKyojRg2vol qsVw== X-Gm-Message-State: AOJu0YxeK1uqiwrKjAJtJpN+gR5lQ+1IQXbl88bTaGPBSPWFt+8jTRSy YQabk6NHzzLj1Es7iQrQm9MzzSl0ooou3YHX66habHKNWM1p6izRtZr0XCBLXDKHsozMxNa3lhF SSI2gaafL4sznXtpdfx/gkIreWrFMS8kuoUkseqD1UWYKnzdowzy5HJXBmEEt X-Gm-Gg: ASbGncuNUrT6MVPyMkS7zJsOuBzFZSUy19SjBePbyIMQatVAOQN/Im2leCpTLEMw0hs Z8/civUFwE98Uvo0LksVVqmZY/Z5MiiXGFAvMGluLGMMr4NcUPUGK/Z8X+Dl/SIEi4RRd3oj8hn sZSz9w8dIlaVXoW/qIcQF3SiEjV2UF3tPAtvJXWTBBT47HA+9CK/qMUFH2dZETiHSbSpnyGYHm6 SeyMJ0KRRrU5ZdkUjb4UkIuZU85QF7XZONbTUi5C+Qo4RJau8cbRXoWSUkckZYwzuLLN0oL5z4k +q+Hia1GVRQLw+AdEP4zkfftkxnkYCOSDokO5s3WTAU3gu33OQ== X-Google-Smtp-Source: AGHT+IFJtMeM4E0HGJgVc6K2D/EU2q4NP4Ol+wYKs4vTD7zgWqMIYdFYVPJ7o1H6gNJlwCOGdNg8aB3XB7BR X-Received: by 2002:a17:902:ec83:b0:235:f091:11e5 with SMTP id d9443c01a7336-23f98293e3bmr47671685ad.10.1753286357459; Wed, 23 Jul 2025 08:59:17 -0700 (PDT) Received: from postal.iol.unh.edu (postal.iol.unh.edu. [2606:4100:3880:1234::84]) by smtp-relay.gmail.com with ESMTPS id d9443c01a7336-23e3b5f66c1sm7167605ad.7.2025.07.23.08.59.17 (version=TLS1_2 cipher=ECDHE-ECDSA-AES128-GCM-SHA256 bits=128/128); Wed, 23 Jul 2025 08:59:17 -0700 (PDT) X-Relaying-Domain: iol.unh.edu Date: Wed, 23 Jul 2025 08:59:17 -0700 (PDT) Message-ID: <688106d5.170a0220.12e6a.4084SMTPIN_ADDED_MISSING@mx.google.com> Received: from [172.21.0.3] (unknown [172.18.0.240]) by postal.iol.unh.edu (Postfix) with ESMTP id E5C0B604D420; Wed, 23 Jul 2025 11:59:16 -0400 (EDT) Subject: |WARNING| pw155447-155454 [PATCH] [v9,8/8] lib/pmu: fix out-of-bound From: dpdklab@iol.unh.edu To: Test Report Cc: dpdk-test-reports@iol.unh.edu In-Reply-To: <20250723044118.2962318-9-tduszynski@marvell.com> References: <20250723044118.2962318-9-tduszynski@marvell.com> Content-Type: text/plain X-BeenThere: test-report@dpdk.org X-Mailman-Version: 2.1.29 Precedence: list List-Id: automatic DPDK test reports List-Unsubscribe: , List-Archive: List-Post: List-Help: List-Subscribe: , Errors-To: test-report-bounces@dpdk.org Test-Label: iol-compile-amd64-testing Test-Status: WARNING http://dpdk.org/patch/155454 _Testing issues_ Submitter: Tomasz Duszynski Date: Wednesday, July 23 2025 04:41:18 DPDK git baseline: Repo:dpdk Branch: master CommitID:b222395561638f89562e4ef42e1eabf2d6db43dd 155447-155454 --> testing issues Upstream job id: Generic-DPDK-Compile-Meson#411460 Test environment and result as below: +-------------------------------+-------------------+--------------------+-------------------------+----------------------+-------------------+------------------+ | Environment | dpdk_msvc_compile | dpdk_meson_compile | dpdk_llvm_clang_compile | dpdk_mingw64_compile | dpdk_compile_spdk | dpdk_compile_ovs | +===============================+===================+====================+=========================+======================+===================+==================+ | Windows Server 2022 | PASS | SKIPPED | PASS | PASS | SKIPPED | SKIPPED | +-------------------------------+-------------------+--------------------+-------------------------+----------------------+-------------------+------------------+ | FreeBSD 14.2 | SKIPPED | PASS | SKIPPED | SKIPPED | SKIPPED | SKIPPED | +-------------------------------+-------------------+--------------------+-------------------------+----------------------+-------------------+------------------+ | Ubuntu 20.04 | SKIPPED | PASS | SKIPPED | SKIPPED | SKIPPED | SKIPPED | +-------------------------------+-------------------+--------------------+-------------------------+----------------------+-------------------+------------------+ | CentOS Stream 9 | SKIPPED | PASS | SKIPPED | SKIPPED | WARN | SKIPPED | +-------------------------------+-------------------+--------------------+-------------------------+----------------------+-------------------+------------------+ | CentOS Stream 10 | SKIPPED | PASS | SKIPPED | SKIPPED | SKIPPED | SKIPPED | +-------------------------------+-------------------+--------------------+-------------------------+----------------------+-------------------+------------------+ | Debian GNU/Linux 12 | SKIPPED | PASS | SKIPPED | SKIPPED | WARN | SKIPPED | +-------------------------------+-------------------+--------------------+-------------------------+----------------------+-------------------+------------------+ | Fedora Linux 40 | SKIPPED | PASS | SKIPPED | SKIPPED | WARN | SKIPPED | +-------------------------------+-------------------+--------------------+-------------------------+----------------------+-------------------+------------------+ | Fedora Linux 41 | SKIPPED | PASS | SKIPPED | SKIPPED | WARN | PASS | +-------------------------------+-------------------+--------------------+-------------------------+----------------------+-------------------+------------------+ | openSUSE Leap 15.6 | SKIPPED | PASS | SKIPPED | SKIPPED | SKIPPED | SKIPPED | +-------------------------------+-------------------+--------------------+-------------------------+----------------------+-------------------+------------------+ | Red Hat Enterprise Linux 8.10 | SKIPPED | PASS | SKIPPED | SKIPPED | SKIPPED | SKIPPED | +-------------------------------+-------------------+--------------------+-------------------------+----------------------+-------------------+------------------+ | Red Hat Enterprise Linux 9.5 | SKIPPED | PASS | SKIPPED | SKIPPED | SKIPPED | SKIPPED | +-------------------------------+-------------------+--------------------+-------------------------+----------------------+-------------------+------------------+ | Ubuntu 22.04 | SKIPPED | PASS | SKIPPED | SKIPPED | WARN | SKIPPED | +-------------------------------+-------------------+--------------------+-------------------------+----------------------+-------------------+------------------+ | Ubuntu 24.04 | SKIPPED | PASS | SKIPPED | SKIPPED | WARN | PASS | +-------------------------------+-------------------+--------------------+-------------------------+----------------------+-------------------+------------------+ | Alpine Linux 3.22.0 | SKIPPED | PASS | SKIPPED | SKIPPED | SKIPPED | SKIPPED | +-------------------------------+-------------------+--------------------+-------------------------+----------------------+-------------------+------------------+ ==== 20 line log output for Ubuntu 24.04 (dpdk_compile_spdk): ==== --- Failed to get log output --- ==== End log output ==== Windows Server 2022 Kernel: 10.0.20348.2031 Compiler: clang 15.0.7, gcc 14.1.0 (MinGW), and MSVC VS 19.39.33521 FreeBSD 14.2 Kernel: 14.2-RELEASE Compiler: clang 18.1.6 Ubuntu 20.04 Kernel: 4.19 Compiler: gcc gcc (Ubuntu 9.4.0-1ubuntu1~20.04.2) 9.4.0 CentOS Stream 9 Kernel: 5.15 Compiler: gcc gcc (GCC) 11.5.0 20240719 (Red Hat 11.5.0-7) CentOS Stream 10 Kernel: 5.15 Compiler: gcc gcc (GCC) 14.2.1 20250110 (Red Hat 14.2.1-8) Debian GNU/Linux 12 Kernel: 5.15 Compiler: gcc gcc (Debian 12.2.0-14+deb12u1) 12.2.0 Fedora Linux 40 Kernel: 5.15 Compiler: clang gcc (GCC) 14.2.1 20240912 (Red Hat 14.2.1-3) Fedora Linux 41 Kernel: 5.15 Compiler: clang gcc (GCC) 14.3.1 20250523 (Red Hat 14.3.1-1) openSUSE Leap 15.6 Kernel: 5.15 Compiler: gcc gcc (SUSE Linux) 7.5.0 Red Hat Enterprise Linux 8.10 Kernel: 5.15 Compiler: gcc gcc (GCC) 8.5.0 20210514 (Red Hat 8.5.0-22) Red Hat Enterprise Linux 9.5 Kernel: 5.15 Compiler: gcc gcc (GCC) 11.5.0 20240719 (Red Hat 11.5.0-2) Ubuntu 22.04 Kernel: 5.15 Compiler: gcc gcc (Ubuntu 11.4.0-1ubuntu1~22.04) 11.4.0 Ubuntu 24.04 Kernel: 5.15 Compiler: gcc gcc (Ubuntu 13.3.0-6ubuntu2~24.04) 13.3.0 Alpine Linux 3.22.0 Kernel: 5.15 Compiler: gcc gcc (Alpine 14.2.0) 14.2.0 To view detailed results, visit: https://lab.dpdk.org/results/dashboard/patchsets/33732/ UNH-IOL DPDK Community Lab To manage your email subscriptions, visit: https://lab.dpdk.org/results/dashboard/preferences/subscriptions/