From mboxrd@z Thu Jan 1 00:00:00 1970 Return-Path: Received: from mails.dpdk.org (mails.dpdk.org [217.70.189.124]) by inbox.dpdk.org (Postfix) with ESMTP id A805646BF2 for ; Wed, 23 Jul 2025 17:59:55 +0200 (CEST) Received: from mails.dpdk.org (localhost [127.0.0.1]) by mails.dpdk.org (Postfix) with ESMTP id A363440267; Wed, 23 Jul 2025 17:59:55 +0200 (CEST) Received: from mail-il1-f225.google.com (mail-il1-f225.google.com [209.85.166.225]) by mails.dpdk.org (Postfix) with ESMTP id 3E07D40267 for ; Wed, 23 Jul 2025 17:59:54 +0200 (CEST) Received: by mail-il1-f225.google.com with SMTP id e9e14a558f8ab-3e3b4a90cefso30425ab.1 for ; Wed, 23 Jul 2025 08:59:54 -0700 (PDT) DKIM-Signature: v=1; a=rsa-sha256; c=relaxed/relaxed; d=iol.unh.edu; s=unh-iol; t=1753286393; x=1753891193; darn=dpdk.org; h=references:in-reply-to:cc:to:from:subject:message-id:date:from:to :cc:subject:date:message-id:reply-to; bh=y5chEY0ux2I2HG2wsj6GoDkUfUXN/51ptZs+Q2LKrE0=; b=MbMftfrizHNZQ2OHYEV3OGXxit3Khyj/koo1qPI2mnhPUiBWCjs2HEFfVVQ8+hDkHX j1VWwr30G51MfEGnaRqDnh89xtiF69iwMR4d9K+CB5lyFuklFgdWu91K0lMrX6svgY5a /aJWvY26D5I5zs2IRZ4FDy25CA5PtQqOOpetg= X-Google-DKIM-Signature: v=1; a=rsa-sha256; c=relaxed/relaxed; d=1e100.net; s=20230601; t=1753286393; x=1753891193; h=references:in-reply-to:cc:to:from:subject:message-id:date :x-gm-message-state:from:to:cc:subject:date:message-id:reply-to; bh=y5chEY0ux2I2HG2wsj6GoDkUfUXN/51ptZs+Q2LKrE0=; b=Fw3Ngt9FuWZPgTefL/OHHVzVbuIidGlmSX+HtcAIUTz8kcsMXvF1S08CNuKF7xblQY XmQKoqPVDxIgsnj/EHfMOxb6gImMEfGoj+N9hz2B8l1Q3xBQ/5fcQAWRkyHfZFf8CMAr aPPedUcDmapR7d/JO/QD4d6XkbSs1xJ+zoSpKRaMbJzLtHc5wAbjrkgfrR+M+ydTZ52f FBMnC5sH1qUZG9+O0QgGmp3iqlDbUtrC66dB+mBORiAXdgq0vXdWJL636ZfLfafQtR5D Ad3nnx2EVd1gBv6LRS7NbmV//k1tjfkHczZIwMAHcmmMBg4c7pQmgWIvsMi+VYHcYl+8 cNyA== X-Gm-Message-State: AOJu0YxB2KjymYF7gc3W31sRHI4Vjk347WyMKcSaNIMY1H2P09oWQpRJ BB8HiQzqWuuJqgNaCpXHBjlTMTW6oKjlFBO9o7VsUXj8jv9DvEzKlfgk28a3YQSvJNJAWddz2z+ id2hm/DtchxFASa8LQm3GLpMigjzew5F1zjyfmNRR8LhY X-Gm-Gg: ASbGncuf2T90bD4yc44/dUeE0ubV6zbyU4Tn1taHfGutiXTCT8IXk5Lzu55v2IjxazP mqcCpvfiL8d/Y5kgAPBVPrtMxOH8PXGR5mL2g/emS++OPwgmrjInQGUMBGRLQhkor9YgLceNW9S A/OulcLJ3miwlxFWa13p03pybugoHUNlBmMf3SIvAzQwftil9/2gVURAMtzMSGkRcPAHcdBbF/v Npu9rVUTl8SdltOaIwaKOiA1f+Ldpez0vs0oof4teKuU878D92rRPV9snL4RhZpNPup0HX7g7sK RLWv4s0E2KwgMm0sPIDi/XBVvZMOwDFpSI8LgG7S69zH1OOdodoEeFe7nRSf64Inl6IPhia7 X-Google-Smtp-Source: AGHT+IEX4g1Jg/F2rjbYpHFFIH8q04Wpi2AO0fsVyMJa2pGeyUFguRkyMpLPBhqcdgGHQW88Drywj65s1XmE X-Received: by 2002:a92:b752:0:b0:3de:11e3:8d38 with SMTP id e9e14a558f8ab-3e3354f2b04mr57207925ab.22.1753286393483; Wed, 23 Jul 2025 08:59:53 -0700 (PDT) Received: from postal.iol.unh.edu (postal.iol.unh.edu. [132.177.123.84]) by smtp-relay.gmail.com with ESMTPS id e9e14a558f8ab-3e2c5901330sm1755485ab.31.2025.07.23.08.59.53 (version=TLS1_2 cipher=ECDHE-ECDSA-AES128-GCM-SHA256 bits=128/128); Wed, 23 Jul 2025 08:59:53 -0700 (PDT) X-Relaying-Domain: iol.unh.edu Date: Wed, 23 Jul 2025 08:59:53 -0700 (PDT) Message-ID: <688106f9.920a0220.2c8787.91a2SMTPIN_ADDED_MISSING@mx.google.com> Received: from [172.21.0.3] (unknown [172.18.0.240]) by postal.iol.unh.edu (Postfix) with ESMTP id 102E6604D420; Wed, 23 Jul 2025 11:59:53 -0400 (EDT) Subject: |SUCCESS| pw155461-155481 [PATCH] [v5,22/22] ci: extend coverage wit From: dpdklab@iol.unh.edu To: Test Report Cc: dpdk-test-reports@iol.unh.edu In-Reply-To: <20250723133157.159825-23-david.marchand@redhat.com> References: <20250723133157.159825-23-david.marchand@redhat.com> Content-Type: text/plain X-BeenThere: test-report@dpdk.org X-Mailman-Version: 2.1.29 Precedence: list List-Id: automatic DPDK test reports List-Unsubscribe: , List-Archive: List-Post: List-Help: List-Subscribe: , Errors-To: test-report-bounces@dpdk.org Test-Label: iol-compile-amd64-testing Test-Status: SUCCESS http://dpdk.org/patch/155481 _Testing PASS_ Submitter: David Marchand Date: Wednesday, July 23 2025 13:31:55 DPDK git baseline: Repo:dpdk Branch: master CommitID:e3183a6edafdc41bfd71de1517f9e9ec85eb1276 155461-155481 --> testing pass Upstream job id: Windows-Compile-DPDK-VS#6446 Test environment and result as below: +---------------------+--------------------+-------------------------+-------------------+----------------------+ | Environment | dpdk_meson_compile | dpdk_llvm_clang_compile | dpdk_msvc_compile | dpdk_mingw64_compile | +=====================+====================+=========================+===================+======================+ | Ubuntu 20.04 | PASS | SKIPPED | SKIPPED | SKIPPED | +---------------------+--------------------+-------------------------+-------------------+----------------------+ | FreeBSD 14.2 | PASS | SKIPPED | SKIPPED | SKIPPED | +---------------------+--------------------+-------------------------+-------------------+----------------------+ | Windows Server 2022 | SKIPPED | PASS | PASS | PASS | +---------------------+--------------------+-------------------------+-------------------+----------------------+ Ubuntu 20.04 Kernel: 4.19 Compiler: gcc gcc (Ubuntu 9.4.0-1ubuntu1~20.04.2) 9.4.0 FreeBSD 14.2 Kernel: 14.2-RELEASE Compiler: clang 18.1.6 Windows Server 2022 Kernel: 10.0.20348.2031 Compiler: clang 15.0.7, gcc 14.1.0 (MinGW), and MSVC VS 19.39.33521 To view detailed results, visit: https://lab.dpdk.org/results/dashboard/patchsets/33738/ UNH-IOL DPDK Community Lab To manage your email subscriptions, visit: https://lab.dpdk.org/results/dashboard/preferences/subscriptions/