From mboxrd@z Thu Jan 1 00:00:00 1970 Return-Path: Received: from mails.dpdk.org (mails.dpdk.org [217.70.189.124]) by inbox.dpdk.org (Postfix) with ESMTP id DFA8F46BF3 for ; Wed, 23 Jul 2025 18:00:47 +0200 (CEST) Received: from mails.dpdk.org (localhost [127.0.0.1]) by mails.dpdk.org (Postfix) with ESMTP id D51E140267; Wed, 23 Jul 2025 18:00:47 +0200 (CEST) Received: from mail-ot1-f99.google.com (mail-ot1-f99.google.com [209.85.210.99]) by mails.dpdk.org (Postfix) with ESMTP id 1CBB140267 for ; Wed, 23 Jul 2025 18:00:47 +0200 (CEST) Received: by mail-ot1-f99.google.com with SMTP id 46e09a7af769-73e5792cb9dso2133066a34.2 for ; Wed, 23 Jul 2025 09:00:47 -0700 (PDT) DKIM-Signature: v=1; a=rsa-sha256; c=relaxed/relaxed; d=iol.unh.edu; s=unh-iol; t=1753286446; x=1753891246; darn=dpdk.org; h=references:in-reply-to:cc:to:from:subject:message-id:date:from:to :cc:subject:date:message-id:reply-to; bh=9PmwkbangKv5PtbKL/kTUQZQQNEs7NGzcp/g9mTToiE=; b=N2roOq7jv/tn/qN5zhbObYuDPcKRx80Ab2bZx9fKXQ5tvwlWPdjicFoFjglZriOya0 U6tuakp14oMx5nvwusHWHeqWp8REX9uFzVVrYBU/anCvEjtcW1mcGnvcDLrEHf6lKloP m3LZThEQiZQabinJrOwDwHFf1svoqMENIrohk= X-Google-DKIM-Signature: v=1; a=rsa-sha256; c=relaxed/relaxed; d=1e100.net; s=20230601; t=1753286446; x=1753891246; h=references:in-reply-to:cc:to:from:subject:message-id:date :x-gm-message-state:from:to:cc:subject:date:message-id:reply-to; bh=9PmwkbangKv5PtbKL/kTUQZQQNEs7NGzcp/g9mTToiE=; b=N+ipUs3ogAR8C7CmUxjw0AsONqRlbw2/9cdCBZeLWWbhDalQFX+Q+jp6dzcr0fjmo/ LxziWGN96mNgwI6l3WvvHEcarePAG1KgQ3Vg2u6rsndyD3glLT+5awLOceciNoRimO5e pP4SeSP8skrAdcsfkfn1SKePW3Z6msEs9Nz4TMZdZ5M4KKw3CIiNCLE5PkZ1pqVLaqCI RDzA7n3KS7yKiDNJ90ZrdziefEA3L2tn7ohFTo1y7QbeGAp/XQh2oYbcZElMX0JKhRgg LgjcIKAkim0weYLjUAmxQrnWrhWtTr2TQTIQrp9DESGU8Dv91aKEwrm3a+GBW1rpa7Ct /EhQ== X-Gm-Message-State: AOJu0YwfdDDZfUA+CTDe+iUiW5kaegcm4/CSRvzrr6hLoXHefev6LTiu VtL+tmVqvwq3iUU06JKVSyAELZMQZjNSwRyW4qaQmmy9bzzj5UMhmQJ/dHM9jiozlIu2ZqKOJhs MopyLp6yz0bQ70PMFxF36evZAU9wGsIouIP+I5VIoICFrNjNd21XJV838Rywo X-Gm-Gg: ASbGnctN/wxwj7lUe9Fko6MJIGphAJMDRqWVgdo7ZnkhEnlvG6cKoK1/5+qXIv9MCXd GDN1WXufxqGx/wxSRNHvuYR2oeLi+ZprFfX32HmHbUyEvxTJUJ38NZpOAZq9Wkx+XPexdtuN42j OyQWpEAkYTL2NVlKvJEhM3ZDZG20fWR8pGULvyiJhEhrjOYlpjFnWusVYbHZzI3Q2x/j+9no4NJ rabYLo3iXcTF1vzV4iyxckafzsO/EpjyVxrClA1FyS8nmiRDc12nNNBhFm9lFIT/DHw9UIUV2A5 ZzT4JsRTeGhUTJY14fWjwzaH00/dpKZcIraZTRpGTUD8d+SJrw== X-Google-Smtp-Source: AGHT+IFf5B97Gb0Oo8yEFZ68eMYtMkFXgC3GzFLvCLKnPm1nW/Mq25FXv9ATY8y4CIUawenteqpouad4w7YG X-Received: by 2002:a05:6870:be98:b0:2d6:b7b:a83 with SMTP id 586e51a60fabf-306c6f696fdmr2208555fac.13.1753286445310; Wed, 23 Jul 2025 09:00:45 -0700 (PDT) Received: from postal.iol.unh.edu (postal.iol.unh.edu. [2606:4100:3880:1234::84]) by smtp-relay.gmail.com with ESMTPS id 586e51a60fabf-30106540706sm911406fac.26.2025.07.23.09.00.45 (version=TLS1_2 cipher=ECDHE-ECDSA-AES128-GCM-SHA256 bits=128/128); Wed, 23 Jul 2025 09:00:45 -0700 (PDT) X-Relaying-Domain: iol.unh.edu Date: Wed, 23 Jul 2025 09:00:45 -0700 (PDT) Message-ID: <6881072d.050a0220.370ef3.e76aSMTPIN_ADDED_MISSING@mx.google.com> Received: from [172.21.0.2] (unknown [172.18.0.240]) by postal.iol.unh.edu (Postfix) with ESMTP id 7FD31604D420; Wed, 23 Jul 2025 12:00:44 -0400 (EDT) Subject: |SUCCESS| pw155461-155481 [PATCH] [v5,22/22] ci: extend coverage wit From: dpdklab@iol.unh.edu To: Test Report Cc: dpdk-test-reports@iol.unh.edu In-Reply-To: <20250723133157.159825-23-david.marchand@redhat.com> References: <20250723133157.159825-23-david.marchand@redhat.com> Content-Type: text/plain X-BeenThere: test-report@dpdk.org X-Mailman-Version: 2.1.29 Precedence: list List-Id: automatic DPDK test reports List-Unsubscribe: , List-Archive: List-Post: List-Help: List-Subscribe: , Errors-To: test-report-bounces@dpdk.org Test-Label: iol-compile-amd64-testing Test-Status: SUCCESS http://dpdk.org/patch/155481 _Testing PASS_ Submitter: David Marchand Date: Wednesday, July 23 2025 13:31:55 DPDK git baseline: Repo:dpdk Branch: master CommitID:e3183a6edafdc41bfd71de1517f9e9ec85eb1276 155461-155481 --> testing pass Upstream job id: Windows-Compile-DPDK-Native#29977 Test environment and result as below: +---------------------+--------------------+-------------------------+-------------------+----------------------+ | Environment | dpdk_meson_compile | dpdk_llvm_clang_compile | dpdk_msvc_compile | dpdk_mingw64_compile | +=====================+====================+=========================+===================+======================+ | Ubuntu 20.04 | PASS | SKIPPED | SKIPPED | SKIPPED | +---------------------+--------------------+-------------------------+-------------------+----------------------+ | FreeBSD 14.2 | PASS | SKIPPED | SKIPPED | SKIPPED | +---------------------+--------------------+-------------------------+-------------------+----------------------+ | Windows Server 2022 | SKIPPED | PASS | PASS | PASS | +---------------------+--------------------+-------------------------+-------------------+----------------------+ Ubuntu 20.04 Kernel: 4.19 Compiler: gcc gcc (Ubuntu 9.4.0-1ubuntu1~20.04.2) 9.4.0 FreeBSD 14.2 Kernel: 14.2-RELEASE Compiler: clang 18.1.6 Windows Server 2022 Kernel: 10.0.20348.2031 Compiler: clang 15.0.7, gcc 14.1.0 (MinGW), and MSVC VS 19.39.33521 To view detailed results, visit: https://lab.dpdk.org/results/dashboard/patchsets/33738/ UNH-IOL DPDK Community Lab To manage your email subscriptions, visit: https://lab.dpdk.org/results/dashboard/preferences/subscriptions/