From mboxrd@z Thu Jan 1 00:00:00 1970 Return-Path: Received: from mails.dpdk.org (mails.dpdk.org [217.70.189.124]) by inbox.dpdk.org (Postfix) with ESMTP id 068EF46BF3 for ; Wed, 23 Jul 2025 18:22:01 +0200 (CEST) Received: from mails.dpdk.org (localhost [127.0.0.1]) by mails.dpdk.org (Postfix) with ESMTP id ECA3B40EE6; Wed, 23 Jul 2025 18:22:00 +0200 (CEST) Received: from mail-il1-f228.google.com (mail-il1-f228.google.com [209.85.166.228]) by mails.dpdk.org (Postfix) with ESMTP id 2B50E40EE6 for ; Wed, 23 Jul 2025 18:22:00 +0200 (CEST) Received: by mail-il1-f228.google.com with SMTP id e9e14a558f8ab-3e2c683524fso177165ab.0 for ; Wed, 23 Jul 2025 09:22:00 -0700 (PDT) DKIM-Signature: v=1; a=rsa-sha256; c=relaxed/relaxed; d=iol.unh.edu; s=unh-iol; t=1753287719; x=1753892519; darn=dpdk.org; h=references:in-reply-to:cc:to:from:subject:message-id:date:from:to :cc:subject:date:message-id:reply-to; bh=MF6NHglwG3S8npmvFtJdrpPr0jSwHh9n8BzAQur6P18=; b=Jd5SwRGE1sUz941Qn6K8jX9DVQ1ogBjbQd9APcVTPRE7coPON5imfrx5zQgOJtuWfS uhKPUpD/wHDrfu0JFF8FQ2pdMZm4O8LQh5QxidwaDUhGafGOEZVDbjxYOUO3ELu0od7c NbOGvYdkd8YefBX3FDEgKWWHgC5UW+74EgGAc= X-Google-DKIM-Signature: v=1; a=rsa-sha256; c=relaxed/relaxed; d=1e100.net; s=20230601; t=1753287719; x=1753892519; h=references:in-reply-to:cc:to:from:subject:message-id:date :x-gm-message-state:from:to:cc:subject:date:message-id:reply-to; bh=MF6NHglwG3S8npmvFtJdrpPr0jSwHh9n8BzAQur6P18=; b=u3u8I//8IUITJDXgIcbve3fYtzC2NUXu6KN0FRtznNDUIVrSZ2Y/w0nujOpGrttoj3 uGoYW0eORiRtg35yOJgUI3lUEG+ofyz17ZZERgyRE+/nXLbhM4oK3OBzzqoVVOtZOdzv WSlCZrInpItsnq2OIxl5rSCOxPO6GFfgYb3AZUL/Jh+rQ+vG9C8UF/1tGCeOba4pch7W H/GeBPrBJIae/SGJStcazE8lzTNij6OPU2kAUgblE/N2rhFJetXHFNxWJxsxUtohFMvU KD3DN+DSHN/rN0mGB2ahYSABvqfPFsgAjqlRIo8S/Yi19CBdvsKMWNNIzcCk1Tq3s4dG iQTA== X-Gm-Message-State: AOJu0YwlCKOgd/iAX+S608oDcvwJHKKsblVQ3L1V9O9Hs22ujJ9Ebprs 8ttAAbZb6lUvLiDKFK0132BiHfWgcc2fddxYJCI1QxxVnmGfjFhgR+giWt0BF4EAZiuA8+itumD X94gxFrQML4gbCh1nFtfhksvUrdQUHq+7NnXrHn9v8tL8HsGUOaE2FvtbO16a X-Gm-Gg: ASbGncvgzsDhs8jTZF3bx/sQpZWsrtPWjBSLV0c86boAE486qH0iy+He4r4a3DCtwj1 pF10BumwUeKyETYiomXckIA91yrXxLZKK6HhW8VQd0ceNNKvW6Z2kuqHl7Ok2pW8/I67P8oJ7qT OQz9tmE7lGl+T3pSgjyo/ETP7YRzQO0d3UWsohdS8x6XAvQEBf65pPf0NEh0dd9/5GFkvmW+RmK I3vaWn9OYuhGjXsDsv9L425OMGM3JspSakBvjLb5wmErykElJG3BNWWVwumqm9pFeWgRBvhr4Cq eOpDj2+Yi2SMsOPYFEwkC0OBhxrl5Gwtrf0Fgpx2qBeeTuaBkw== X-Google-Smtp-Source: AGHT+IEEtN8cw9M8XQ5U7L9FF2JgWrj2xEbNuxgG2gX+ZL6tp+nHAqeSNq0Bm7OQ0o5kady21uB/0DONi/5S X-Received: by 2002:a05:6e02:1a69:b0:3df:3598:7688 with SMTP id e9e14a558f8ab-3e3455d2225mr65153285ab.21.1753287719432; Wed, 23 Jul 2025 09:21:59 -0700 (PDT) Received: from postal.iol.unh.edu (postal.iol.unh.edu. [2606:4100:3880:1234::84]) by smtp-relay.gmail.com with ESMTPS id e9e14a558f8ab-3e298379030sm7684145ab.52.2025.07.23.09.21.59 (version=TLS1_2 cipher=ECDHE-ECDSA-AES128-GCM-SHA256 bits=128/128); Wed, 23 Jul 2025 09:21:59 -0700 (PDT) X-Relaying-Domain: iol.unh.edu Date: Wed, 23 Jul 2025 09:21:59 -0700 (PDT) Message-ID: <68810c27.050a0220.133f49.7b3aSMTPIN_ADDED_MISSING@mx.google.com> Received: from [172.21.0.2] (unknown [172.18.0.240]) by postal.iol.unh.edu (Postfix) with ESMTP id 017256051830; Wed, 23 Jul 2025 12:21:59 -0400 (EDT) Subject: |SUCCESS| pw155459 [PATCH] [v3] lib/ethdev: fix segfault in secondar From: dpdklab@iol.unh.edu To: Test Report Cc: dpdk-test-reports@iol.unh.edu In-Reply-To: <20250723131049.1703172-1-14pwcse1224@uetpeshawar.edu.pk> References: <20250723131049.1703172-1-14pwcse1224@uetpeshawar.edu.pk> Content-Type: text/plain X-BeenThere: test-report@dpdk.org X-Mailman-Version: 2.1.29 Precedence: list List-Id: automatic DPDK test reports List-Unsubscribe: , List-Archive: List-Post: List-Help: List-Subscribe: , Errors-To: test-report-bounces@dpdk.org Test-Label: iol-unit-amd64-testing Test-Status: SUCCESS http://dpdk.org/patch/155459 _Testing PASS_ Submitter: Khadem Ullah <14pwcse1224@uetpeshawar.edu.pk> Date: Wednesday, July 23 2025 13:10:49 DPDK git baseline: Repo:dpdk Branch: master CommitID:b78afde1fed9e11ee5cdce333a1a69dd7a9cf13e 155459 --> testing pass Upstream job id: Generic-Unit-Test-DPDK#357775 Test environment and result as below: +-------------------------------+----------------+ | Environment | dpdk_unit_test | +===============================+================+ | Fedora Linux 40 | PASS | +-------------------------------+----------------+ | CentOS Stream 10 | PASS | +-------------------------------+----------------+ | Debian GNU/Linux 12 | PASS | +-------------------------------+----------------+ | Red Hat Enterprise Linux 8.10 | PASS | +-------------------------------+----------------+ | Fedora Linux 41 | PASS | +-------------------------------+----------------+ | CentOS Stream 9 | PASS | +-------------------------------+----------------+ | Red Hat Enterprise Linux 9.5 | PASS | +-------------------------------+----------------+ | Ubuntu 20.04 | PASS | +-------------------------------+----------------+ | Ubuntu 24.04 | PASS | +-------------------------------+----------------+ | Ubuntu 22.04 | PASS | +-------------------------------+----------------+ | Windows Server 2022 | PASS | +-------------------------------+----------------+ Fedora Linux 40 Kernel: 5.15 Compiler: gcc gcc (GCC) 14.2.1 20240912 (Red Hat 14.2.1-3) CentOS Stream 10 Kernel: 5.15 Compiler: gcc gcc (GCC) 14.2.1 20250110 (Red Hat 14.2.1-8) Debian GNU/Linux 12 Kernel: 5.15 Compiler: gcc gcc (Debian 12.2.0-14+deb12u1) 12.2.0 Red Hat Enterprise Linux 8.10 Kernel: 5.15 Compiler: gcc gcc (GCC) 8.5.0 20210514 (Red Hat 8.5.0-22) Fedora Linux 41 Kernel: 5.15 Compiler: clang gcc (GCC) 14.3.1 20250523 (Red Hat 14.3.1-1) CentOS Stream 9 Kernel: 5.15 Compiler: gcc gcc (GCC) 11.5.0 20240719 (Red Hat 11.5.0-7) Red Hat Enterprise Linux 9.5 Kernel: 5.15 Compiler: gcc gcc (GCC) 11.5.0 20240719 (Red Hat 11.5.0-2) Ubuntu 20.04 Kernel: 5.15 Compiler: gcc gcc (Ubuntu 9.4.0-1ubuntu1~20.04.2) 9.4.0 Ubuntu 24.04 Kernel: 5.15 Compiler: gcc gcc (Ubuntu 13.3.0-6ubuntu2~24.04) 13.3.0 Ubuntu 22.04 Kernel: 5.15 Compiler: gcc gcc (Ubuntu 11.4.0-1ubuntu1~22.04) 11.4.0 Windows Server 2022 Kernel: 10.0.20348.2031 Compiler: clang 15.0.7, gcc 14.1.0 (MinGW), and MSVC VS 19.39.33521 To view detailed results, visit: https://lab.dpdk.org/results/dashboard/patchsets/33737/ UNH-IOL DPDK Community Lab To manage your email subscriptions, visit: https://lab.dpdk.org/results/dashboard/preferences/subscriptions/