From mboxrd@z Thu Jan 1 00:00:00 1970 Return-Path: Received: from mails.dpdk.org (mails.dpdk.org [217.70.189.124]) by inbox.dpdk.org (Postfix) with ESMTP id 76B0946BF3 for ; Wed, 23 Jul 2025 18:42:06 +0200 (CEST) Received: from mails.dpdk.org (localhost [127.0.0.1]) by mails.dpdk.org (Postfix) with ESMTP id 72BCF40267; Wed, 23 Jul 2025 18:42:06 +0200 (CEST) Received: from mail-pl1-f225.google.com (mail-pl1-f225.google.com [209.85.214.225]) by mails.dpdk.org (Postfix) with ESMTP id ABDA040267 for ; Wed, 23 Jul 2025 18:42:05 +0200 (CEST) Received: by mail-pl1-f225.google.com with SMTP id d9443c01a7336-2363616a1a6so58575ad.3 for ; Wed, 23 Jul 2025 09:42:05 -0700 (PDT) DKIM-Signature: v=1; a=rsa-sha256; c=relaxed/relaxed; d=iol.unh.edu; s=unh-iol; t=1753288925; x=1753893725; darn=dpdk.org; h=references:in-reply-to:cc:to:from:subject:message-id:date:from:to :cc:subject:date:message-id:reply-to; bh=8qpzjltIIjqSMCYa4y7akQzF8GlE9zeVu7lpLNEqdPc=; b=bDpDF0zHJX9TH7Tbn/25m974mEMfrYaG8jYegx8QdWNOexYJAqeTdrgb2hUtS1gUJK ajpZL+JqEv/SCUS8cx5zFHVulzw52Bj7sJ3daWDCeR9xMNbYrXvbFalP1C2TIkvHroxo iQ16eDNP5uiCIyxYCka5VJ3jjFLX+T4ByRPJg= X-Google-DKIM-Signature: v=1; a=rsa-sha256; c=relaxed/relaxed; d=1e100.net; s=20230601; t=1753288925; x=1753893725; h=references:in-reply-to:cc:to:from:subject:message-id:date :x-gm-message-state:from:to:cc:subject:date:message-id:reply-to; bh=8qpzjltIIjqSMCYa4y7akQzF8GlE9zeVu7lpLNEqdPc=; b=FNhDhTeknAld0mOLEK8K5pdp9RPgodtLfkceGiLRmMp2hQaUjop/rmjLvmc06rWJ+/ x2uOYAcYX7Ycnsp9oTZcl4SkStpGDKmYZn1Ky7/ITeuSbIomW8k0Oq5t0DtLRnNiaYDM NTRCLMxC130TeAmSsrHYyU4TbGkyCGceofGjZR/d4HQm6gnwim+3iG1ccVXGTPQep5Zx WqfCfh6KXPnwFhyfn9+0pEQZjoeGBXVgZk3Vm0VEgANpj0yK+27ypcXvQhf4YvstZqvi dCqZV0n5bPVNMH1zVv99jX0FOsKgZvPMu+mQHbMtqXJ0TCI6outCFe/WvTaJpeYosZzd Tvxg== X-Gm-Message-State: AOJu0YzKkc6I7guZ13EixoHNqmQj6ErrWDGnnA+LWEjE5BU/PLTk8m3E zPR8sf0IqpYW2LwOt+Jw7dzMsJ4kiTyIzREZP1scDElhbdnxZOb0KOOkPZq8tc6Qu87uI1cQG6A cAkc++RwVbtqhI3gDmrJiaz/h95q42ibeqQJEd4+c5KRrfY0IUZSdZLMawi5u X-Gm-Gg: ASbGnculCQiPi3SqFlIhxqnNKM7Qphjbe186o6+2vDINlJQ5mBoGPgioqwnKhD75k8c MRI8vdH9OVqsITXcg09oUHKs0TZ6PuipU5Hp1R2IuFHddEhJ4lC5a1zGTSZ3k+rGHQitNG/PkuK eICZjNVc0WbMzKsUhhxa2dEipledYnnJTZnYyL8/Qm/AdDntuH6EPj3rHbQNvVA72La+FoBIlw9 FOaRNQhkKs2skWfjC4T1AKx6xNZ4z39v7gHKAvJC3bo2oGxOxTv6RPrQ1ldOpMhKgo5G8bSEkTZ WdEzIVX1PM+MBsvTXr68JM9p0f1V0gdL72pYTvshvc+xsSvZvw== X-Google-Smtp-Source: AGHT+IFpZW9PhvF5ar66dSjwHzJz3degeR3AYKeZRmUk1bgyBVPrYfwJeDgwjkrV6k4FZ0g1yzehTvO4DH9U X-Received: by 2002:a17:903:2984:b0:235:779:edfa with SMTP id d9443c01a7336-23f981aedabmr56564925ad.32.1753288924859; Wed, 23 Jul 2025 09:42:04 -0700 (PDT) Received: from postal.iol.unh.edu (postal.iol.unh.edu. [2606:4100:3880:1234::84]) by smtp-relay.gmail.com with ESMTPS id d9443c01a7336-23e3b61f396sm7014785ad.40.2025.07.23.09.42.04 (version=TLS1_2 cipher=ECDHE-ECDSA-AES128-GCM-SHA256 bits=128/128); Wed, 23 Jul 2025 09:42:04 -0700 (PDT) X-Relaying-Domain: iol.unh.edu Date: Wed, 23 Jul 2025 09:42:04 -0700 (PDT) Message-ID: <688110dc.170a0220.3589c9.314bSMTPIN_ADDED_MISSING@mx.google.com> Received: from [172.21.0.4] (unknown [172.18.0.240]) by postal.iol.unh.edu (Postfix) with ESMTP id 589FD604D420; Wed, 23 Jul 2025 12:42:04 -0400 (EDT) Subject: |SUCCESS| pw155456 [PATCH] net/mlx5: fix ipool memory leak From: dpdklab@iol.unh.edu To: Test Report Cc: dpdk-test-reports@iol.unh.edu In-Reply-To: <20250723064923.1805575-1-rongweil@nvidia.com> References: <20250723064923.1805575-1-rongweil@nvidia.com> Content-Type: text/plain X-BeenThere: test-report@dpdk.org X-Mailman-Version: 2.1.29 Precedence: list List-Id: automatic DPDK test reports List-Unsubscribe: , List-Archive: List-Post: List-Help: List-Subscribe: , Errors-To: test-report-bounces@dpdk.org Test-Label: iol-unit-arm64-testing Test-Status: SUCCESS http://dpdk.org/patch/155456 _Testing PASS_ Submitter: Rongwei Liu Date: Wednesday, July 23 2025 06:49:22 DPDK git baseline: Repo:dpdk Branch: master CommitID:b222395561638f89562e4ef42e1eabf2d6db43dd 155456 --> testing pass Upstream job id: Generic-Unit-Test-DPDK#357679 Test environment and result as below: +------------------------------+----------------+---------------------------+------------------------------+--------------+ | Environment | dpdk_unit_test | cryptodev_sw_zuc_autotest | cryptodev_sw_snow3g_autotest | lpm_autotest | +==============================+================+===========================+==============================+==============+ | Fedora Linux 40 | PASS | SKIPPED | SKIPPED | SKIPPED | +------------------------------+----------------+---------------------------+------------------------------+--------------+ | Debian GNU/Linux 12 | PASS | SKIPPED | SKIPPED | SKIPPED | +------------------------------+----------------+---------------------------+------------------------------+--------------+ | Red Hat Enterprise Linux 9.5 | PASS | SKIPPED | SKIPPED | SKIPPED | +------------------------------+----------------+---------------------------+------------------------------+--------------+ | Fedora Linux 41 | PASS | SKIPPED | SKIPPED | SKIPPED | +------------------------------+----------------+---------------------------+------------------------------+--------------+ | CentOS Stream 9 | PASS | SKIPPED | SKIPPED | SKIPPED | +------------------------------+----------------+---------------------------+------------------------------+--------------+ | CentOS Stream 10 | PASS | SKIPPED | SKIPPED | SKIPPED | +------------------------------+----------------+---------------------------+------------------------------+--------------+ | Ubuntu 24.04 | PASS | SKIPPED | SKIPPED | SKIPPED | +------------------------------+----------------+---------------------------+------------------------------+--------------+ | Ubuntu 20.04 | PASS | SKIPPED | SKIPPED | PASS | +------------------------------+----------------+---------------------------+------------------------------+--------------+ | Ubuntu 22.04 | PASS | SKIPPED | SKIPPED | SKIPPED | +------------------------------+----------------+---------------------------+------------------------------+--------------+ | Debian 12 (arm) | SKIPPED | PASS | PASS | SKIPPED | +------------------------------+----------------+---------------------------+------------------------------+--------------+ Fedora Linux 40 Kernel: 5.4 Compiler: clang gcc (GCC) 14.2.1 20240912 (Red Hat 14.2.1-3) Debian GNU/Linux 12 Kernel: 5.4 Compiler: gcc gcc (Debian 12.2.0-14+deb12u1) 12.2.0 Red Hat Enterprise Linux 9.5 Kernel: 5.4 Compiler: gcc gcc (GCC) 11.5.0 20240719 (Red Hat 11.5.0-2) Fedora Linux 41 Kernel: 5.4 Compiler: clang gcc (GCC) 14.3.1 20250523 (Red Hat 14.3.1-1) CentOS Stream 9 Kernel: 5.4 Compiler: gcc gcc (GCC) 11.5.0 20240719 (Red Hat 11.5.0-7) CentOS Stream 10 Kernel: 5.4 Compiler: gcc gcc (GCC) 14.2.1 20250110 (Red Hat 14.2.1-8) Ubuntu 24.04 Kernel: 5.4 Compiler: gcc gcc (Ubuntu 13.3.0-6ubuntu2~24.04) 13.3.0 Ubuntu 20.04 Kernel: 5.4 Compiler: gcc gcc (Ubuntu 9.4.0-1ubuntu1~20.04.2) 9.4.0 Ubuntu 22.04 Kernel: 5.4 Compiler: gcc gcc (Ubuntu 11.4.0-1ubuntu1~22.04) 11.4.0 Debian 12 (arm) Kernel: Depends on container host Compiler: gcc (Debian 12.2.0-14) 12.2.0 To view detailed results, visit: https://lab.dpdk.org/results/dashboard/patchsets/33734/ UNH-IOL DPDK Community Lab To manage your email subscriptions, visit: https://lab.dpdk.org/results/dashboard/preferences/subscriptions/