From mboxrd@z Thu Jan 1 00:00:00 1970 Return-Path: Received: from mails.dpdk.org (mails.dpdk.org [217.70.189.124]) by inbox.dpdk.org (Postfix) with ESMTP id 909C846BF3 for ; Wed, 23 Jul 2025 18:42:44 +0200 (CEST) Received: from mails.dpdk.org (localhost [127.0.0.1]) by mails.dpdk.org (Postfix) with ESMTP id 8A09440267; Wed, 23 Jul 2025 18:42:44 +0200 (CEST) Received: from mail-io1-f98.google.com (mail-io1-f98.google.com [209.85.166.98]) by mails.dpdk.org (Postfix) with ESMTP id 815EF40267 for ; Wed, 23 Jul 2025 18:42:43 +0200 (CEST) Received: by mail-io1-f98.google.com with SMTP id ca18e2360f4ac-875acfc133dso2455539f.1 for ; Wed, 23 Jul 2025 09:42:43 -0700 (PDT) DKIM-Signature: v=1; a=rsa-sha256; c=relaxed/relaxed; d=iol.unh.edu; s=unh-iol; t=1753288963; x=1753893763; darn=dpdk.org; h=references:in-reply-to:cc:to:from:subject:message-id:date:from:to :cc:subject:date:message-id:reply-to; bh=GP9yJZqE5V8Cj/+EiP+mNj7nbAbIiZuB6d4GTq/pa3o=; b=UD5wf6i/hEjJdCpccdOx4IR1+Lqdk8RJqRTXKwedFKYXw+zbBJvcj5jDpzqP3Hp4pY CV6Zb5rXs9g2wmBwBqrDYwhAi3uq2IeH3QhKLjkZZmmBAVewQq+luynHkoTl92Ubsr0b U/H1wBLFtwAoRwr35MkbnC9Oy5a6TcjYJ52+M= X-Google-DKIM-Signature: v=1; a=rsa-sha256; c=relaxed/relaxed; d=1e100.net; s=20230601; t=1753288963; x=1753893763; h=references:in-reply-to:cc:to:from:subject:message-id:date :x-gm-message-state:from:to:cc:subject:date:message-id:reply-to; bh=GP9yJZqE5V8Cj/+EiP+mNj7nbAbIiZuB6d4GTq/pa3o=; b=QcGrdMcYcJ1s+WY43freUGRkXJpuAR2GYX7nPAu7odw1rizjY7hSFdhfg+KjQQy1N5 vyJ9pnS5SThyyjamNgy2hlPXq5QccCfjTsIWhQL7hsOt7xHXR1imOYSU5+ax6zdrjs2G QTFavAP6ER7UsjUEmnb5S6XXTNZHKyLG66FMIZk1qYJ+h1CHZMXM4Y7pQHIgFvS+qvLd vr4kMOb+TAvN5ZDJBwzvJX3WD88p9UznCYyF/XAXkNuSqSHU4v89nLmMcYl9Q68/qSDu uNwQJW1luQGxaTKyaZNWdcpJYatwV0kp4L9c9/Z46CydsNnX6AYhTcc9dDTAZ5SDapnW ENWA== X-Gm-Message-State: AOJu0YwS55+KIwVMZhKT3Rpkb3PVLREzovC+7JkGAs1UPmGrwn3c9Ior u+7E7o/5lMgPZEDJC3hqPOfw7ixHjr5ozyM2tRTfdOXiNFHeAuzhjHhmBKlXL/eecIvQcyIziDM g3PaKS+ZgLM4r2Ad91I6vlU4VCW69McTLX9GeFN1646iFdcpXBJcQCY7P7DWC X-Gm-Gg: ASbGncumzCl4GD3FP85PxK2pLyZKmx4ane7zg5uSudNCKEGTTSUSlJGwixz01cJwVt2 RkSuqKEDHv3u/aX39g7LAZzuioPPBSIZnSO10eYYvX2QvkGdI4yvHBPIs9z8ujZrpMFvDCc0AMy W/rdxj6nMwyxSLvIIVwfe5ctKl62tmHdxY0OddrX6I//cVuY80F0K9c5cpcNF4l6FTltxfNmrn0 93lC/Le57j6MlklgNJk+9IktALCW1r9w4ezr6jfK3Y8tMM1jhJ7tHnV5gEG4Ei/3AqHjq5EyUl5 YBzI+U4r35xM2RH2ASLdB+EDgqcvlVb4ZYTQR80QKJ8zEpY3gQ== X-Google-Smtp-Source: AGHT+IHXYb3wlbNxh6hmvSS+VhH+d9rnipZ2Sil1y8tAymIJuL99+EmwhQkfxE0LItRBaDBd8S+pi3TN+xvz X-Received: by 2002:a05:6602:601c:b0:867:40d9:bf7e with SMTP id ca18e2360f4ac-87c65026f39mr704406539f.9.1753288962803; Wed, 23 Jul 2025 09:42:42 -0700 (PDT) Received: from postal.iol.unh.edu (postal.iol.unh.edu. [2606:4100:3880:1234::84]) by smtp-relay.gmail.com with ESMTPS id 8926c6da1cb9f-5089e3f2d3bsm94003173.4.2025.07.23.09.42.42 (version=TLS1_2 cipher=ECDHE-ECDSA-AES128-GCM-SHA256 bits=128/128); Wed, 23 Jul 2025 09:42:42 -0700 (PDT) X-Relaying-Domain: iol.unh.edu Date: Wed, 23 Jul 2025 09:42:42 -0700 (PDT) Message-ID: <68811102.050a0220.9f1c.50c2SMTPIN_ADDED_MISSING@mx.google.com> Received: from [172.21.0.4] (unknown [172.18.0.240]) by postal.iol.unh.edu (Postfix) with ESMTP id 53557604D420; Wed, 23 Jul 2025 12:42:42 -0400 (EDT) Subject: |SUCCESS| pw155456 [PATCH] net/mlx5: fix ipool memory leak From: dpdklab@iol.unh.edu To: Test Report Cc: dpdk-test-reports@iol.unh.edu In-Reply-To: <20250723064923.1805575-1-rongweil@nvidia.com> References: <20250723064923.1805575-1-rongweil@nvidia.com> Content-Type: text/plain X-BeenThere: test-report@dpdk.org X-Mailman-Version: 2.1.29 Precedence: list List-Id: automatic DPDK test reports List-Unsubscribe: , List-Archive: List-Post: List-Help: List-Subscribe: , Errors-To: test-report-bounces@dpdk.org Test-Label: iol-unit-arm64-testing Test-Status: SUCCESS http://dpdk.org/patch/155456 _Testing PASS_ Submitter: Rongwei Liu Date: Wednesday, July 23 2025 06:49:22 DPDK git baseline: Repo:dpdk Branch: master CommitID:b222395561638f89562e4ef42e1eabf2d6db43dd 155456 --> testing pass Upstream job id: Generic-Unit-Test-DPDK#357681 Test environment and result as below: +------------------------------+----------------+---------------------------+------------------------------+--------------+ | Environment | dpdk_unit_test | cryptodev_sw_zuc_autotest | cryptodev_sw_snow3g_autotest | lpm_autotest | +==============================+================+===========================+==============================+==============+ | Fedora Linux 40 | PASS | SKIPPED | SKIPPED | SKIPPED | +------------------------------+----------------+---------------------------+------------------------------+--------------+ | Debian GNU/Linux 12 | PASS | SKIPPED | SKIPPED | SKIPPED | +------------------------------+----------------+---------------------------+------------------------------+--------------+ | Red Hat Enterprise Linux 9.5 | PASS | SKIPPED | SKIPPED | SKIPPED | +------------------------------+----------------+---------------------------+------------------------------+--------------+ | Fedora Linux 41 | PASS | SKIPPED | SKIPPED | SKIPPED | +------------------------------+----------------+---------------------------+------------------------------+--------------+ | CentOS Stream 9 | PASS | SKIPPED | SKIPPED | SKIPPED | +------------------------------+----------------+---------------------------+------------------------------+--------------+ | CentOS Stream 10 | PASS | SKIPPED | SKIPPED | SKIPPED | +------------------------------+----------------+---------------------------+------------------------------+--------------+ | Ubuntu 24.04 | PASS | SKIPPED | SKIPPED | SKIPPED | +------------------------------+----------------+---------------------------+------------------------------+--------------+ | Ubuntu 20.04 | PASS | SKIPPED | SKIPPED | PASS | +------------------------------+----------------+---------------------------+------------------------------+--------------+ | Ubuntu 22.04 | PASS | SKIPPED | SKIPPED | SKIPPED | +------------------------------+----------------+---------------------------+------------------------------+--------------+ | Debian 12 (arm) | SKIPPED | PASS | PASS | SKIPPED | +------------------------------+----------------+---------------------------+------------------------------+--------------+ Fedora Linux 40 Kernel: 5.4 Compiler: clang gcc (GCC) 14.2.1 20240912 (Red Hat 14.2.1-3) Debian GNU/Linux 12 Kernel: 5.4 Compiler: gcc gcc (Debian 12.2.0-14+deb12u1) 12.2.0 Red Hat Enterprise Linux 9.5 Kernel: 5.4 Compiler: gcc gcc (GCC) 11.5.0 20240719 (Red Hat 11.5.0-2) Fedora Linux 41 Kernel: 5.4 Compiler: clang gcc (GCC) 14.3.1 20250523 (Red Hat 14.3.1-1) CentOS Stream 9 Kernel: 5.4 Compiler: gcc gcc (GCC) 11.5.0 20240719 (Red Hat 11.5.0-7) CentOS Stream 10 Kernel: 5.4 Compiler: gcc gcc (GCC) 14.2.1 20250110 (Red Hat 14.2.1-8) Ubuntu 24.04 Kernel: 5.4 Compiler: gcc gcc (Ubuntu 13.3.0-6ubuntu2~24.04) 13.3.0 Ubuntu 20.04 Kernel: 5.4 Compiler: gcc gcc (Ubuntu 9.4.0-1ubuntu1~20.04.2) 9.4.0 Ubuntu 22.04 Kernel: 5.4 Compiler: gcc gcc (Ubuntu 11.4.0-1ubuntu1~22.04) 11.4.0 Debian 12 (arm) Kernel: Depends on container host Compiler: gcc (Debian 12.2.0-14) 12.2.0 To view detailed results, visit: https://lab.dpdk.org/results/dashboard/patchsets/33734/ UNH-IOL DPDK Community Lab To manage your email subscriptions, visit: https://lab.dpdk.org/results/dashboard/preferences/subscriptions/