From mboxrd@z Thu Jan 1 00:00:00 1970 Return-Path: Received: from mails.dpdk.org (mails.dpdk.org [217.70.189.124]) by inbox.dpdk.org (Postfix) with ESMTP id 18C9946BF3 for ; Wed, 23 Jul 2025 18:48:06 +0200 (CEST) Received: from mails.dpdk.org (localhost [127.0.0.1]) by mails.dpdk.org (Postfix) with ESMTP id 13BCC40267; Wed, 23 Jul 2025 18:48:06 +0200 (CEST) Received: from mail-il1-f225.google.com (mail-il1-f225.google.com [209.85.166.225]) by mails.dpdk.org (Postfix) with ESMTP id B7E5740267 for ; Wed, 23 Jul 2025 18:48:04 +0200 (CEST) Received: by mail-il1-f225.google.com with SMTP id e9e14a558f8ab-3de2b02c69eso279165ab.1 for ; Wed, 23 Jul 2025 09:48:04 -0700 (PDT) DKIM-Signature: v=1; a=rsa-sha256; c=relaxed/relaxed; d=iol.unh.edu; s=unh-iol; t=1753289284; x=1753894084; darn=dpdk.org; h=references:in-reply-to:cc:to:from:subject:message-id:date:from:to :cc:subject:date:message-id:reply-to; bh=OPhNtrzfHHB32yvmTgg55hCSpEeJQ+ZuvAa2Ah4UhrE=; b=jqPpYJqkMa28O3VgAnTg2MI8phrgiX2PJiiQXovg8OZX08aAXc54NozR14hbqG5WLy yXXDBYEJghNW2iO+QfQswReDsfa80IyCPaEktYWBJcn0R65BM+SnAYa/RMYeWn5Lqi1V vvYVi0ht1rBQte5r99NIMaqPoX+WFpgcq6/2w= X-Google-DKIM-Signature: v=1; a=rsa-sha256; c=relaxed/relaxed; d=1e100.net; s=20230601; t=1753289284; x=1753894084; h=references:in-reply-to:cc:to:from:subject:message-id:date :x-gm-message-state:from:to:cc:subject:date:message-id:reply-to; bh=OPhNtrzfHHB32yvmTgg55hCSpEeJQ+ZuvAa2Ah4UhrE=; b=Oyy/mUvfZrGXBKgxXLJlXiVt/08s+TFXdioZzoOOWcEnwDURscwk6ex8aXwIhRD+RW YZfMIQKdOjfeHO+PnuwrmljNFzbFjYL6m3Wswuci+Aw3/AloecsfcrmTxdw+rBbA4R91 KgEuZVYM14oUL2nacHXZYGlUDx2AfsWjXb6C0kFDZvjugvJsbJ/XikZMiGK2C5KIoq2q 6K57hGrSfxvb2ur3uOhUenciwbjLuNjRLFxn++Trx+ldNICelJJgRGx93ESFFiSFa2qD ZTbW3n0Rgg3XEvDhrnpIdpYpIpBAuLtJasMBWa7YjcC/BddE1XzLwHec6lOO+hzABHAp K+5g== X-Gm-Message-State: AOJu0YxhVUGlaRPrUUBKJQaXgyyrqjCld6cQnnKN4RlokAUAabU9Hwua Q+ZtuqEuz4qtuxiPIZibgT99GCUDhn5orWEhnLj1GHJxWrQZ4Pxu6KFvo8SEso3jE1osATw451K XqGB5AcGNif6lxU9OkhApkENxslLm5g4OQztPxdWJz3Uu X-Gm-Gg: ASbGnctcH/YmUtKF0LNPxHF/P+vyykRIxK5cDmFrUrADsrEg2n0uSTSicz7HIa4wftc SikLcI/lVywAer7np2P5y+zRx/vTfxy2rkeiJda5pjE7o6mcwmr831/lAvgci4gqYBeMrTCkKrj dXkGWqoAtQXeunA3Q9F7/duFefGyY/uVin4BDKX1pSV0xUv2GZ9ZBO0Vmf9O6+nd0JvQAvMWOXc k8tUiCrP6aTRm6U3gqb51vyPoLkXpys2wur+dUtXaMyQUB7gpOOFRrTf+vF3a4Zo7EEkg6d9pbw jCKBCIoJdydLICKBHxTMm/jBC+9BFGqKi07a5xrZyc1CbxRaOgC3Cy2t7PL6DnZ6wklDLg4p X-Google-Smtp-Source: AGHT+IHVIBgy4Vhgza5bgpf+SlN+U2Niygq/AlEE2OijLcdNfUGZ636pn2xxnzJOxzGCS+r12PEoLSsaP9j7 X-Received: by 2002:a05:6e02:1d9b:b0:3e2:9910:99cc with SMTP id e9e14a558f8ab-3e3455be5bbmr62485485ab.19.1753289283848; Wed, 23 Jul 2025 09:48:03 -0700 (PDT) Received: from postal.iol.unh.edu (postal.iol.unh.edu. [132.177.123.84]) by smtp-relay.gmail.com with ESMTPS id e9e14a558f8ab-3e3b46a5131sm188835ab.36.2025.07.23.09.48.03 (version=TLS1_2 cipher=ECDHE-ECDSA-AES128-GCM-SHA256 bits=128/128); Wed, 23 Jul 2025 09:48:03 -0700 (PDT) X-Relaying-Domain: iol.unh.edu Date: Wed, 23 Jul 2025 09:48:03 -0700 (PDT) Message-ID: <68811243.050a0220.13384d.0fb9SMTPIN_ADDED_MISSING@mx.google.com> Received: from [172.21.0.4] (unknown [172.18.0.240]) by postal.iol.unh.edu (Postfix) with ESMTP id 6A089604D420; Wed, 23 Jul 2025 12:48:03 -0400 (EDT) Subject: |SUCCESS| pw155458 [PATCH] net: fix incorrect L2 length for GRE tunn From: dpdklab@iol.unh.edu To: Test Report Cc: dpdk-test-reports@iol.unh.edu In-Reply-To: <20250723104710.558623-1-huangdengdui@huawei.com> References: <20250723104710.558623-1-huangdengdui@huawei.com> Content-Type: text/plain X-BeenThere: test-report@dpdk.org X-Mailman-Version: 2.1.29 Precedence: list List-Id: automatic DPDK test reports List-Unsubscribe: , List-Archive: List-Post: List-Help: List-Subscribe: , Errors-To: test-report-bounces@dpdk.org Test-Label: iol-abi-testing Test-Status: SUCCESS http://dpdk.org/patch/155458 _Testing PASS_ Submitter: Dengdui Huang Date: Wednesday, July 23 2025 10:47:10 DPDK git baseline: Repo:dpdk Branch: master CommitID:b222395561638f89562e4ef42e1eabf2d6db43dd 155458 --> testing pass Upstream job id: Generic-DPDK-Compile-ABI#135487 Test environment and result as below: +-------------------------------+----------+ | Environment | abi_test | +===============================+==========+ | CentOS Stream 9 | PASS | +-------------------------------+----------+ | CentOS Stream 10 | PASS | +-------------------------------+----------+ | Debian GNU/Linux 12 | PASS | +-------------------------------+----------+ | Fedora Linux 40 | PASS | +-------------------------------+----------+ | Fedora Linux 41 | PASS | +-------------------------------+----------+ | openSUSE Leap 15.6 | PASS | +-------------------------------+----------+ | Red Hat Enterprise Linux 8.10 | PASS | +-------------------------------+----------+ | Red Hat Enterprise Linux 9.5 | PASS | +-------------------------------+----------+ | Ubuntu 22.04 | PASS | +-------------------------------+----------+ | Ubuntu 24.04 | PASS | +-------------------------------+----------+ CentOS Stream 9 Kernel: 5.15 Compiler: gcc gcc (GCC) 11.5.0 20240719 (Red Hat 11.5.0-7) CentOS Stream 10 Kernel: 5.15 Compiler: gcc gcc (GCC) 14.2.1 20250110 (Red Hat 14.2.1-8) Debian GNU/Linux 12 Kernel: 5.15 Compiler: gcc gcc (Debian 12.2.0-14+deb12u1) 12.2.0 Fedora Linux 40 Kernel: 5.15 Compiler: clang gcc (GCC) 14.2.1 20240912 (Red Hat 14.2.1-3) Fedora Linux 41 Kernel: 5.15 Compiler: gcc gcc (GCC) 14.3.1 20250523 (Red Hat 14.3.1-1) openSUSE Leap 15.6 Kernel: 5.15 Compiler: gcc gcc (SUSE Linux) 7.5.0 Red Hat Enterprise Linux 8.10 Kernel: 5.15 Compiler: gcc gcc (GCC) 8.5.0 20210514 (Red Hat 8.5.0-22) Red Hat Enterprise Linux 9.5 Kernel: 5.15 Compiler: gcc gcc (GCC) 11.5.0 20240719 (Red Hat 11.5.0-2) Ubuntu 22.04 Kernel: 5.15 Compiler: gcc gcc (Ubuntu 11.4.0-1ubuntu1~22.04) 11.4.0 Ubuntu 24.04 Kernel: 5.15 Compiler: gcc gcc (Ubuntu 13.3.0-6ubuntu2~24.04) 13.3.0 To view detailed results, visit: https://lab.dpdk.org/results/dashboard/patchsets/33736/ UNH-IOL DPDK Community Lab To manage your email subscriptions, visit: https://lab.dpdk.org/results/dashboard/preferences/subscriptions/