From mboxrd@z Thu Jan 1 00:00:00 1970 Return-Path: Received: from mails.dpdk.org (mails.dpdk.org [217.70.189.124]) by inbox.dpdk.org (Postfix) with ESMTP id 2F74446BF3 for ; Wed, 23 Jul 2025 18:48:58 +0200 (CEST) Received: from mails.dpdk.org (localhost [127.0.0.1]) by mails.dpdk.org (Postfix) with ESMTP id 2A8F140267; Wed, 23 Jul 2025 18:48:58 +0200 (CEST) Received: from mail-pl1-f227.google.com (mail-pl1-f227.google.com [209.85.214.227]) by mails.dpdk.org (Postfix) with ESMTP id 1429240267 for ; Wed, 23 Jul 2025 18:48:57 +0200 (CEST) Received: by mail-pl1-f227.google.com with SMTP id d9443c01a7336-23649faf69fso316455ad.0 for ; Wed, 23 Jul 2025 09:48:57 -0700 (PDT) DKIM-Signature: v=1; a=rsa-sha256; c=relaxed/relaxed; d=iol.unh.edu; s=unh-iol; t=1753289336; x=1753894136; darn=dpdk.org; h=references:in-reply-to:cc:to:from:subject:message-id:date:from:to :cc:subject:date:message-id:reply-to; bh=J1qfZFCnovilP1s8jE5241acS2vZATk+/1nTUvYCcs8=; b=TJukNNYHcBuR7TV31e6nAXEzxOGGBeOE2IFaQZBrzLVpFUVof/sZ3zD1kr/u9b2dY+ pfqtD1zziJP2IYxVN/XFTbyVo7FR7AuzzFl6nF4kS/ff+X0tDWbx83DKv8JKXPbUkC5m DOg4dahNS7jyCPsbPNPlxRX9qxQbB7M+IXnLE= X-Google-DKIM-Signature: v=1; a=rsa-sha256; c=relaxed/relaxed; d=1e100.net; s=20230601; t=1753289336; x=1753894136; h=references:in-reply-to:cc:to:from:subject:message-id:date :x-gm-message-state:from:to:cc:subject:date:message-id:reply-to; bh=J1qfZFCnovilP1s8jE5241acS2vZATk+/1nTUvYCcs8=; b=cbpzbPk6jp4/YYkVkFQuXPhSmz2oHjf82oKitDm5AQH62m4UerAE6xumEKSW/uqD0Y 68m9dD02Emvl4rANKReLYSmR4d5QxSc+AEud4OlyW4xIXcSEyLdV8CyfO9ROZY+5Ojey RYWtd6/jmthkpNJbLbTMpwOz66A8rg6mz0zhfM73a2a/aNWLs//Ln2n05lG3kmYTgtnR fDg7rFi9Z3GPJG0NuSqA+WfAx2l+2wjTPRo2xlJKBEDs4oFV7T143pFC+VoknSxDqtX0 hfdawUH6wWEmma1QGgvcITwBrubxUUsoYMVAsm140TDj3bbuSEFPHXnHu/5fLLL166mR MTOg== X-Gm-Message-State: AOJu0YxsOfEuTX3YJCr3k5w9NniRGYogdMNqpJQye78kM12tz6sTQ1Er uuJ23gcm+vH/E8z2oTSjHQTEszGdyEP3lWbYwkb8W0lf4En4q3Gapwe7ZhZ+kHDYUaiA+4//q6I UCfaUO1EEZpA9HqkxFasEkVTyfUTY4TVPBS1ajeyMhLAU X-Gm-Gg: ASbGncux92g2CWFOHFMF24Fjmtp1ReV4CbdAMW+Xsevu0i2B/AmRxS/iDa2Bpuq5IkR xywS00xlj0Xso26tvLRNmixyYzcUmhEPJZrfo+S0lqaTcth9O2WhHqMUACmltCVZQiFlnELawEp csSFG9OxTM/lK5D2bmptsEyOuxVUYiXDvPUydH7wz9CpoxbfYMl/VNxuxaSWLziWLO58rmQI3yj reoUVhJmo0tGuvIJY1dIpT/OREnP+g9wFUrlo3VWwKhO6Z6nCpZRn0dyohFz24dDvufcPN6zOcn BbJUy0GPJT1tsDV+tFsW8ntMlJ075fEg9wX6D2sIBJPSesk7QTAEIXMZjd99wlowiweX7qJ1 X-Google-Smtp-Source: AGHT+IG3S6TEe6VStWtWogWFF0n3Fu51/gLfsQyNBjmXRsFBT8onvO+dtjcsQ7QlKdZEhTFXomLxFc418tSF X-Received: by 2002:a17:903:2ec4:b0:237:ec18:ead7 with SMTP id d9443c01a7336-23f981aec5emr62636645ad.24.1753289336188; Wed, 23 Jul 2025 09:48:56 -0700 (PDT) Received: from postal.iol.unh.edu (postal.iol.unh.edu. [132.177.123.84]) by smtp-relay.gmail.com with ESMTPS id d9443c01a7336-23e3b61b5bfsm6980275ad.24.2025.07.23.09.48.56 (version=TLS1_2 cipher=ECDHE-ECDSA-AES128-GCM-SHA256 bits=128/128); Wed, 23 Jul 2025 09:48:56 -0700 (PDT) X-Relaying-Domain: iol.unh.edu Date: Wed, 23 Jul 2025 09:48:56 -0700 (PDT) Message-ID: <68811278.170a0220.4dfc1.277aSMTPIN_ADDED_MISSING@mx.google.com> Received: from [172.21.0.4] (unknown [172.18.0.240]) by postal.iol.unh.edu (Postfix) with ESMTP id 6E9BC604D420; Wed, 23 Jul 2025 12:48:55 -0400 (EDT) Subject: |SUCCESS| pw155458 [PATCH] net: fix incorrect L2 length for GRE tunn From: dpdklab@iol.unh.edu To: Test Report Cc: dpdk-test-reports@iol.unh.edu In-Reply-To: <20250723104710.558623-1-huangdengdui@huawei.com> References: <20250723104710.558623-1-huangdengdui@huawei.com> Content-Type: text/plain X-BeenThere: test-report@dpdk.org X-Mailman-Version: 2.1.29 Precedence: list List-Id: automatic DPDK test reports List-Unsubscribe: , List-Archive: List-Post: List-Help: List-Subscribe: , Errors-To: test-report-bounces@dpdk.org Test-Label: iol-abi-testing Test-Status: SUCCESS http://dpdk.org/patch/155458 _Testing PASS_ Submitter: Dengdui Huang Date: Wednesday, July 23 2025 10:47:10 DPDK git baseline: Repo:dpdk Branch: master CommitID:b222395561638f89562e4ef42e1eabf2d6db43dd 155458 --> testing pass Upstream job id: Generic-DPDK-Compile-ABI#135491 Test environment and result as below: +-------------------------------+----------+ | Environment | abi_test | +===============================+==========+ | CentOS Stream 9 | PASS | +-------------------------------+----------+ | CentOS Stream 10 | PASS | +-------------------------------+----------+ | Debian GNU/Linux 12 | PASS | +-------------------------------+----------+ | Fedora Linux 40 | PASS | +-------------------------------+----------+ | Fedora Linux 41 | PASS | +-------------------------------+----------+ | openSUSE Leap 15.6 | PASS | +-------------------------------+----------+ | Red Hat Enterprise Linux 8.10 | PASS | +-------------------------------+----------+ | Red Hat Enterprise Linux 9.5 | PASS | +-------------------------------+----------+ | Ubuntu 22.04 | PASS | +-------------------------------+----------+ | Ubuntu 24.04 | PASS | +-------------------------------+----------+ CentOS Stream 9 Kernel: 5.15 Compiler: gcc gcc (GCC) 11.5.0 20240719 (Red Hat 11.5.0-7) CentOS Stream 10 Kernel: 5.15 Compiler: gcc gcc (GCC) 14.2.1 20250110 (Red Hat 14.2.1-8) Debian GNU/Linux 12 Kernel: 5.15 Compiler: gcc gcc (Debian 12.2.0-14+deb12u1) 12.2.0 Fedora Linux 40 Kernel: 5.15 Compiler: clang gcc (GCC) 14.2.1 20240912 (Red Hat 14.2.1-3) Fedora Linux 41 Kernel: 5.15 Compiler: gcc gcc (GCC) 14.3.1 20250523 (Red Hat 14.3.1-1) openSUSE Leap 15.6 Kernel: 5.15 Compiler: gcc gcc (SUSE Linux) 7.5.0 Red Hat Enterprise Linux 8.10 Kernel: 5.15 Compiler: gcc gcc (GCC) 8.5.0 20210514 (Red Hat 8.5.0-22) Red Hat Enterprise Linux 9.5 Kernel: 5.15 Compiler: gcc gcc (GCC) 11.5.0 20240719 (Red Hat 11.5.0-2) Ubuntu 22.04 Kernel: 5.15 Compiler: gcc gcc (Ubuntu 11.4.0-1ubuntu1~22.04) 11.4.0 Ubuntu 24.04 Kernel: 5.15 Compiler: gcc gcc (Ubuntu 13.3.0-6ubuntu2~24.04) 13.3.0 To view detailed results, visit: https://lab.dpdk.org/results/dashboard/patchsets/33736/ UNH-IOL DPDK Community Lab To manage your email subscriptions, visit: https://lab.dpdk.org/results/dashboard/preferences/subscriptions/