From mboxrd@z Thu Jan 1 00:00:00 1970 Return-Path: Received: from mails.dpdk.org (mails.dpdk.org [217.70.189.124]) by inbox.dpdk.org (Postfix) with ESMTP id 3BAB546BF3 for ; Wed, 23 Jul 2025 18:49:07 +0200 (CEST) Received: from mails.dpdk.org (localhost [127.0.0.1]) by mails.dpdk.org (Postfix) with ESMTP id 367AE40267; Wed, 23 Jul 2025 18:49:07 +0200 (CEST) Received: from mail-ot1-f97.google.com (mail-ot1-f97.google.com [209.85.210.97]) by mails.dpdk.org (Postfix) with ESMTP id D987440267 for ; Wed, 23 Jul 2025 18:49:05 +0200 (CEST) Received: by mail-ot1-f97.google.com with SMTP id 46e09a7af769-73e650f3c31so14438a34.3 for ; Wed, 23 Jul 2025 09:49:05 -0700 (PDT) DKIM-Signature: v=1; a=rsa-sha256; c=relaxed/relaxed; d=iol.unh.edu; s=unh-iol; t=1753289345; x=1753894145; darn=dpdk.org; h=references:in-reply-to:cc:to:from:subject:message-id:date:from:to :cc:subject:date:message-id:reply-to; bh=oFPXGlR84IyaEL1GG74OApT9TYJze8y5axbjm3E4xgQ=; b=GeDMyRVSoJkNEMlUzAlk81obXY5uBt/+GuL8sB9RUecGDKKApuNwZzsutxHRBYEq/l QHFaNrEnYbdVx1fQRApBKYNNMDY866sZrU7R++sdbAJuErfQgyJzLH8Pni+iGdIubdKE MNMXwoGTQbh68PK8WwhJZB4sXO7xF1nt4XRcs= X-Google-DKIM-Signature: v=1; a=rsa-sha256; c=relaxed/relaxed; d=1e100.net; s=20230601; t=1753289345; x=1753894145; h=references:in-reply-to:cc:to:from:subject:message-id:date :x-gm-message-state:from:to:cc:subject:date:message-id:reply-to; bh=oFPXGlR84IyaEL1GG74OApT9TYJze8y5axbjm3E4xgQ=; b=ZuLvJ9cIJZSfj8qFPSkB+QWPXqqBgVanKcUfOTq8XcCbxV+qChy2aKvTd4/ebfgd1Z PVxtIccoATwLIPhtHU9YQ4KchFPqHeJ1Dn4uozUny0Y0eiZOiFmNJfQ9Wtbx0AWRkcdL Y71wGbaFLyOdUTywXmfGv997qoGo3bzLTFo9CFHtuOMzWd7HnJsCQq2zo+ISfsJvIehR lm7I+lcRGtCvWc7kzEW8EnFYHD1+MqGPb+6dFvTqJN25g554Ae4LKbtpXGlcrHZhjbeg vZMoY9W1+/+rTDYV/oXK0SlTO7XnB22b37TytvizqqKrcnp8jv+GJErr8divOH6Y/hmM OlnA== X-Gm-Message-State: AOJu0YzNpjIB6Q7IkbEsuVbIkM5MnFjnyO8OmlK1ljdJeq2taAlZ7iHO 8AylZmK+h31lxvnSerTX0zjBuvJou3zLwu1xNv8cdc5/o+i3rNqn6xYHMd+co5140Xffj3HS9mk AFBV0avWh1lf0ZEDl4ADRPYBNMajX9Se2GtOQgqkuTZnA X-Gm-Gg: ASbGnctTR+iXuoXbti5r8ON7W5R/icv6psiQIen987BY82rF7MuUISgljMaNg4L6VBu ECM0GaL2/d9V89pdPOLKwAdG/aO2YiJu282KLjeh1dyfuUFkh/xSRlGMZsVGeGHtxfApL2Hswk5 Eu77FZbQNpOZTx7WOHY+d0bxVHH7rdaQ+N6M4US0xkxdou0VXKmHg4bJ/fWVyEgnXypjt5iS1wH /fHrKOHieTVm6FZoohzwT3Rv3cIq49uSkztdQBSY4gAkUUn+/RkdWQXEWmqlYCht2iGu2SIWYrf nji9xix1j7HUgUDt0walSHN5NE58w4CuXNqplWcMRnR4vvwe1M07kl1zguYAwCxeeNhWJstm X-Google-Smtp-Source: AGHT+IHeKfDJPpLcJMdlWzVEyhY/XTm1yXGR3XTvOeS4we4fMbMA+Ap7BBX2dgW8fuaGQnj/DjUsML/c78eg X-Received: by 2002:a05:6870:6f0c:b0:2e8:ff0e:17d3 with SMTP id 586e51a60fabf-306c723ac72mr2290559fac.21.1753289344860; Wed, 23 Jul 2025 09:49:04 -0700 (PDT) Received: from postal.iol.unh.edu (postal.iol.unh.edu. [132.177.123.84]) by smtp-relay.gmail.com with ESMTPS id 586e51a60fabf-301b02724ecsm853270fac.9.2025.07.23.09.49.04 (version=TLS1_2 cipher=ECDHE-ECDSA-AES128-GCM-SHA256 bits=128/128); Wed, 23 Jul 2025 09:49:04 -0700 (PDT) X-Relaying-Domain: iol.unh.edu Date: Wed, 23 Jul 2025 09:49:04 -0700 (PDT) Message-ID: <68811280.050a0220.3aa1a5.b4afSMTPIN_ADDED_MISSING@mx.google.com> Received: from [172.21.0.3] (unknown [172.18.0.240]) by postal.iol.unh.edu (Postfix) with ESMTP id 605C5604D420; Wed, 23 Jul 2025 12:49:04 -0400 (EDT) Subject: |SUCCESS| pw155457 [PATCH] net/af_xdp: enable AF_XDP program attachm From: dpdklab@iol.unh.edu To: Test Report Cc: dpdk-test-reports@iol.unh.edu In-Reply-To: <20250723074249.3264675-1-shivajikant@google.com> References: <20250723074249.3264675-1-shivajikant@google.com> Content-Type: text/plain X-BeenThere: test-report@dpdk.org X-Mailman-Version: 2.1.29 Precedence: list List-Id: automatic DPDK test reports List-Unsubscribe: , List-Archive: List-Post: List-Help: List-Subscribe: , Errors-To: test-report-bounces@dpdk.org Test-Label: iol-compile-amd64-testing Test-Status: SUCCESS http://dpdk.org/patch/155457 _Testing PASS_ Submitter: Shivaji Kant Date: Wednesday, July 23 2025 07:42:49 DPDK git baseline: Repo:dpdk Branch: master CommitID:b78afde1fed9e11ee5cdce333a1a69dd7a9cf13e 155457 --> testing pass Upstream job id: Generic-DPDK-Compile-Meson#411537 Test environment and result as below: +-------------------------------+--------------------+-------------------------+-------------------+-------------------+------------------+----------------------+ | Environment | dpdk_meson_compile | dpdk_llvm_clang_compile | dpdk_msvc_compile | dpdk_compile_spdk | dpdk_compile_ovs | dpdk_mingw64_compile | +===============================+====================+=========================+===================+===================+==================+======================+ | Ubuntu 20.04 | PASS | SKIPPED | SKIPPED | SKIPPED | SKIPPED | SKIPPED | +-------------------------------+--------------------+-------------------------+-------------------+-------------------+------------------+----------------------+ | FreeBSD 14.2 | PASS | SKIPPED | SKIPPED | SKIPPED | SKIPPED | SKIPPED | +-------------------------------+--------------------+-------------------------+-------------------+-------------------+------------------+----------------------+ | CentOS Stream 9 | PASS | SKIPPED | SKIPPED | PASS | SKIPPED | SKIPPED | +-------------------------------+--------------------+-------------------------+-------------------+-------------------+------------------+----------------------+ | CentOS Stream 10 | PASS | SKIPPED | SKIPPED | SKIPPED | SKIPPED | SKIPPED | +-------------------------------+--------------------+-------------------------+-------------------+-------------------+------------------+----------------------+ | Debian GNU/Linux 12 | PASS | SKIPPED | SKIPPED | PASS | SKIPPED | SKIPPED | +-------------------------------+--------------------+-------------------------+-------------------+-------------------+------------------+----------------------+ | Fedora Linux 40 | PASS | SKIPPED | SKIPPED | PASS | SKIPPED | SKIPPED | +-------------------------------+--------------------+-------------------------+-------------------+-------------------+------------------+----------------------+ | Fedora Linux 41 | PASS | SKIPPED | SKIPPED | PASS | PASS | SKIPPED | +-------------------------------+--------------------+-------------------------+-------------------+-------------------+------------------+----------------------+ | openSUSE Leap 15.6 | PASS | SKIPPED | SKIPPED | SKIPPED | SKIPPED | SKIPPED | +-------------------------------+--------------------+-------------------------+-------------------+-------------------+------------------+----------------------+ | Red Hat Enterprise Linux 8.10 | PASS | SKIPPED | SKIPPED | SKIPPED | SKIPPED | SKIPPED | +-------------------------------+--------------------+-------------------------+-------------------+-------------------+------------------+----------------------+ | Red Hat Enterprise Linux 9.5 | PASS | SKIPPED | SKIPPED | SKIPPED | SKIPPED | SKIPPED | +-------------------------------+--------------------+-------------------------+-------------------+-------------------+------------------+----------------------+ | Ubuntu 22.04 | PASS | SKIPPED | SKIPPED | PASS | SKIPPED | SKIPPED | +-------------------------------+--------------------+-------------------------+-------------------+-------------------+------------------+----------------------+ | Ubuntu 24.04 | PASS | SKIPPED | SKIPPED | PASS | PASS | SKIPPED | +-------------------------------+--------------------+-------------------------+-------------------+-------------------+------------------+----------------------+ | Alpine Linux 3.22.0 | PASS | SKIPPED | SKIPPED | SKIPPED | SKIPPED | SKIPPED | +-------------------------------+--------------------+-------------------------+-------------------+-------------------+------------------+----------------------+ | Windows Server 2022 | SKIPPED | PASS | PASS | SKIPPED | SKIPPED | PASS | +-------------------------------+--------------------+-------------------------+-------------------+-------------------+------------------+----------------------+ Ubuntu 20.04 Kernel: 4.19 Compiler: gcc gcc (Ubuntu 9.4.0-1ubuntu1~20.04.2) 9.4.0 FreeBSD 14.2 Kernel: 14.2-RELEASE Compiler: clang 18.1.6 CentOS Stream 9 Kernel: 5.15 Compiler: gcc gcc (GCC) 11.5.0 20240719 (Red Hat 11.5.0-7) CentOS Stream 10 Kernel: 5.15 Compiler: gcc gcc (GCC) 14.2.1 20250110 (Red Hat 14.2.1-8) Debian GNU/Linux 12 Kernel: 5.15 Compiler: gcc gcc (Debian 12.2.0-14+deb12u1) 12.2.0 Fedora Linux 40 Kernel: 5.15 Compiler: clang gcc (GCC) 14.2.1 20240912 (Red Hat 14.2.1-3) Fedora Linux 41 Kernel: 5.15 Compiler: clang gcc (GCC) 14.3.1 20250523 (Red Hat 14.3.1-1) openSUSE Leap 15.6 Kernel: 5.15 Compiler: gcc gcc (SUSE Linux) 7.5.0 Red Hat Enterprise Linux 8.10 Kernel: 5.15 Compiler: gcc gcc (GCC) 8.5.0 20210514 (Red Hat 8.5.0-22) Red Hat Enterprise Linux 9.5 Kernel: 5.15 Compiler: gcc gcc (GCC) 11.5.0 20240719 (Red Hat 11.5.0-2) Ubuntu 22.04 Kernel: 5.15 Compiler: gcc gcc (Ubuntu 11.4.0-1ubuntu1~22.04) 11.4.0 Ubuntu 24.04 Kernel: 5.15 Compiler: gcc gcc (Ubuntu 13.3.0-6ubuntu2~24.04) 13.3.0 Alpine Linux 3.22.0 Kernel: 5.15 Compiler: gcc gcc (Alpine 14.2.0) 14.2.0 Windows Server 2022 Kernel: 10.0.20348.2031 Compiler: clang 15.0.7, gcc 14.1.0 (MinGW), and MSVC VS 19.39.33521 To view detailed results, visit: https://lab.dpdk.org/results/dashboard/patchsets/33735/ UNH-IOL DPDK Community Lab To manage your email subscriptions, visit: https://lab.dpdk.org/results/dashboard/preferences/subscriptions/