From mboxrd@z Thu Jan 1 00:00:00 1970 Return-Path: Received: from mails.dpdk.org (mails.dpdk.org [217.70.189.124]) by inbox.dpdk.org (Postfix) with ESMTP id 999A746BF3 for ; Wed, 23 Jul 2025 18:51:01 +0200 (CEST) Received: from mails.dpdk.org (localhost [127.0.0.1]) by mails.dpdk.org (Postfix) with ESMTP id 94B9340267; Wed, 23 Jul 2025 18:51:01 +0200 (CEST) Received: from mail-ot1-f100.google.com (mail-ot1-f100.google.com [209.85.210.100]) by mails.dpdk.org (Postfix) with ESMTP id 79A6240EE1 for ; Wed, 23 Jul 2025 18:51:00 +0200 (CEST) Received: by mail-ot1-f100.google.com with SMTP id 46e09a7af769-73e7e4432f5so44902a34.1 for ; Wed, 23 Jul 2025 09:51:00 -0700 (PDT) DKIM-Signature: v=1; a=rsa-sha256; c=relaxed/relaxed; d=iol.unh.edu; s=unh-iol; t=1753289460; x=1753894260; darn=dpdk.org; h=references:in-reply-to:cc:to:from:subject:message-id:date:from:to :cc:subject:date:message-id:reply-to; bh=EHE3V3pSS5qMseyxmG/YtzESTQERDxAaC+PwwVzAeHo=; b=IL7ml2KY0W0suaObMKDEQaWi0pkCXH7+ohuaJMpB7st/4313ALhDgIorpQouQhnw1A lXBXizSOkokykcp7nmcaW00eaX3/vdiGFsYXpKVcjW3a9BHMja6TVtM+idtstQVDCHYt 4SJ1sZ4PtmiF4zg/XXdF91G7grfV5CybjdAUU= X-Google-DKIM-Signature: v=1; a=rsa-sha256; c=relaxed/relaxed; d=1e100.net; s=20230601; t=1753289460; x=1753894260; h=references:in-reply-to:cc:to:from:subject:message-id:date :x-gm-message-state:from:to:cc:subject:date:message-id:reply-to; bh=EHE3V3pSS5qMseyxmG/YtzESTQERDxAaC+PwwVzAeHo=; b=oLnlp87ZcgkLsieLeDi1aN0nkMvCTxfmOaCFTO2Z8CnmbbAboHQTzv740F1/Bf7KUg Svd3Xn5N7aw6lPrDl8KaqAABOwHagDO8O5N7CRKmTBNtNdQMEAEVmm7Jbq5BJfpWBw+c nZ4KqiurGBX23eKYcqYkuU1vT+Dt2JA9GYulz3NDNVh4R5RAPeV7QD0xhZRnU1l6v2FI ++gUkip66iUT1H6mn1CD6bE/sASyhoKxyrRFqlWxYiCIPik4faAmuJvdOkgNWvroqP9o PYQTMKHOkK9edFjBC2VW79Lzg8kJZ0QtCye2CSMZ6Y7pChZ2LB4vu5AEMeEp7P8NDbqe SX6Q== X-Gm-Message-State: AOJu0YwmwKreUdIbTTJWXYkgd6SCjLSHaYNUMEd8Z1km6grSP7n7gx0x BeaGRQLyDp+MzoJuK1ePYcWpcb5nKGFb5A2yDrIz1zvcM+eifIlFpdkwIqk/lJj4CikB97tYGNB TIT1/ecykjsBSr87NLbuw+HlITvXeWBUqt10sTid0l9kQY3dzzUyfl8SK2Zom X-Gm-Gg: ASbGncuxrNPVAszD/io+hsUvG9DcUdmYuZpoEkvmaFZ/LpTScAjCCh+v9drAf6vscYy GyUpd22prH6IXqZGTjrKsz3/zkfA0phsKFHzKXIpUTEYgimJ99p61LrpdUXCQVoxGjd0PRQQSym wBLMcSSRJnad5I7CQrH/9HjKJXqIw+zwkBQFmIl+5uIDh9VyV2G9wTaK45aqwT+AeHaIHT14Dsc KpGDAAv8FzPpUMc+EmIGbchosJT/TnjKfVIIm4GfepEtLhayxOjCcMo7uqQmJC/N79u5KaUTumQ 5F1/6MWEikZBrZWYE3gyN3T/njvvC5DkiDLH2qKCLq2WHFV//A== X-Google-Smtp-Source: AGHT+IEVuhThGLpzZVF8z7d4wkuz0oWXcQDEytIQARHPXc0FW0IQaKFwWj+LWMa1HFCYh1hu5Qu456KVQAMF X-Received: by 2002:a05:6808:2e48:b0:41d:8847:5466 with SMTP id 5614622812f47-426c48fc60fmr3390182b6e.16.1753289459719; Wed, 23 Jul 2025 09:50:59 -0700 (PDT) Received: from postal.iol.unh.edu (postal.iol.unh.edu. [2606:4100:3880:1234::84]) by smtp-relay.gmail.com with ESMTPS id 586e51a60fabf-301045710dbsm940867fac.7.2025.07.23.09.50.59 (version=TLS1_2 cipher=ECDHE-ECDSA-AES128-GCM-SHA256 bits=128/128); Wed, 23 Jul 2025 09:50:59 -0700 (PDT) X-Relaying-Domain: iol.unh.edu Date: Wed, 23 Jul 2025 09:50:59 -0700 (PDT) Message-ID: <688112f3.050a0220.46691.3a71SMTPIN_ADDED_MISSING@mx.google.com> Received: from [172.21.0.6] (unknown [172.18.0.240]) by postal.iol.unh.edu (Postfix) with ESMTP id 3A2C9604D420; Wed, 23 Jul 2025 12:50:59 -0400 (EDT) Subject: |SUCCESS| pw155458 [PATCH] net: fix incorrect L2 length for GRE tunn From: dpdklab@iol.unh.edu To: Test Report Cc: dpdk-test-reports@iol.unh.edu In-Reply-To: <20250723104710.558623-1-huangdengdui@huawei.com> References: <20250723104710.558623-1-huangdengdui@huawei.com> Content-Type: text/plain X-BeenThere: test-report@dpdk.org X-Mailman-Version: 2.1.29 Precedence: list List-Id: automatic DPDK test reports List-Unsubscribe: , List-Archive: List-Post: List-Help: List-Subscribe: , Errors-To: test-report-bounces@dpdk.org Test-Label: iol-abi-testing Test-Status: SUCCESS http://dpdk.org/patch/155458 _Testing PASS_ Submitter: Dengdui Huang Date: Wednesday, July 23 2025 10:47:10 DPDK git baseline: Repo:dpdk Branch: master CommitID:b222395561638f89562e4ef42e1eabf2d6db43dd 155458 --> testing pass Upstream job id: Generic-DPDK-Compile-ABI#135492 Test environment and result as below: +-------------------------------+----------+ | Environment | abi_test | +===============================+==========+ | CentOS Stream 9 | PASS | +-------------------------------+----------+ | CentOS Stream 10 | PASS | +-------------------------------+----------+ | Debian GNU/Linux 12 | PASS | +-------------------------------+----------+ | Fedora Linux 40 | PASS | +-------------------------------+----------+ | Fedora Linux 41 | PASS | +-------------------------------+----------+ | openSUSE Leap 15.6 | PASS | +-------------------------------+----------+ | Red Hat Enterprise Linux 8.10 | PASS | +-------------------------------+----------+ | Red Hat Enterprise Linux 9.5 | PASS | +-------------------------------+----------+ | Ubuntu 22.04 | PASS | +-------------------------------+----------+ | Ubuntu 24.04 | PASS | +-------------------------------+----------+ CentOS Stream 9 Kernel: 5.15 Compiler: gcc gcc (GCC) 11.5.0 20240719 (Red Hat 11.5.0-7) CentOS Stream 10 Kernel: 5.15 Compiler: gcc gcc (GCC) 14.2.1 20250110 (Red Hat 14.2.1-8) Debian GNU/Linux 12 Kernel: 5.15 Compiler: gcc gcc (Debian 12.2.0-14+deb12u1) 12.2.0 Fedora Linux 40 Kernel: 5.15 Compiler: clang gcc (GCC) 14.2.1 20240912 (Red Hat 14.2.1-3) Fedora Linux 41 Kernel: 5.15 Compiler: gcc gcc (GCC) 14.3.1 20250523 (Red Hat 14.3.1-1) openSUSE Leap 15.6 Kernel: 5.15 Compiler: gcc gcc (SUSE Linux) 7.5.0 Red Hat Enterprise Linux 8.10 Kernel: 5.15 Compiler: gcc gcc (GCC) 8.5.0 20210514 (Red Hat 8.5.0-22) Red Hat Enterprise Linux 9.5 Kernel: 5.15 Compiler: gcc gcc (GCC) 11.5.0 20240719 (Red Hat 11.5.0-2) Ubuntu 22.04 Kernel: 5.15 Compiler: gcc gcc (Ubuntu 11.4.0-1ubuntu1~22.04) 11.4.0 Ubuntu 24.04 Kernel: 5.15 Compiler: gcc gcc (Ubuntu 13.3.0-6ubuntu2~24.04) 13.3.0 To view detailed results, visit: https://lab.dpdk.org/results/dashboard/patchsets/33736/ UNH-IOL DPDK Community Lab To manage your email subscriptions, visit: https://lab.dpdk.org/results/dashboard/preferences/subscriptions/