From mboxrd@z Thu Jan 1 00:00:00 1970 Return-Path: Received: from mails.dpdk.org (mails.dpdk.org [217.70.189.124]) by inbox.dpdk.org (Postfix) with ESMTP id AC11C46BF3 for ; Wed, 23 Jul 2025 18:51:22 +0200 (CEST) Received: from mails.dpdk.org (localhost [127.0.0.1]) by mails.dpdk.org (Postfix) with ESMTP id A75CE40267; Wed, 23 Jul 2025 18:51:22 +0200 (CEST) Received: from mail-pf1-f226.google.com (mail-pf1-f226.google.com [209.85.210.226]) by mails.dpdk.org (Postfix) with ESMTP id D1FCB40267 for ; Wed, 23 Jul 2025 18:51:21 +0200 (CEST) Received: by mail-pf1-f226.google.com with SMTP id d2e1a72fcca58-74b54cead6cso124120b3a.1 for ; Wed, 23 Jul 2025 09:51:21 -0700 (PDT) DKIM-Signature: v=1; a=rsa-sha256; c=relaxed/relaxed; d=iol.unh.edu; s=unh-iol; t=1753289481; x=1753894281; darn=dpdk.org; h=references:in-reply-to:cc:to:from:subject:message-id:date:from:to :cc:subject:date:message-id:reply-to; bh=Df/xHLkPaGVWpnNfRe0EBDHuj5m3zDZIFf8U012gGWQ=; b=NankR2rBG5N2vBPyTKWklxFM6PmGD7fnDdJwVdtH0sE86SZMCu8RdjmBDZ7tmozPI4 BBRK3J8ZQkjeAdLjV2Is7n461ONdjagM+4kx/G9zeB7CnwUfIVtY+ADw0cg7R4QC7S79 B/mMkLZvbb22DSAWqc6+cIe6h3Obsegl3AZFM= X-Google-DKIM-Signature: v=1; a=rsa-sha256; c=relaxed/relaxed; d=1e100.net; s=20230601; t=1753289481; x=1753894281; h=references:in-reply-to:cc:to:from:subject:message-id:date :x-gm-message-state:from:to:cc:subject:date:message-id:reply-to; bh=Df/xHLkPaGVWpnNfRe0EBDHuj5m3zDZIFf8U012gGWQ=; b=DAgf1CAsvNODbwC5OT+p4jtw6GeohKFAA1ZYFGGHx68pWovll0TJ8b98N1b7Ex2Il7 O1IFHMnscqPWqH6M4KcZdHcG3vaKbVvIZqNb4LacpdfSkAVIsNCLCphpLl9UZdvwIozL Zd03XKdrX0XEQwjjIassI3kTor6P6YPo4Z/9A551+8pT+RJSMWl8HUbdTl3O43uNGxQI u2xlU2qVi6qA33DfYU+6BBWC1R7FHHwe/Yy3Sc5xhYFt5UB8ikTCkk61ulyQnWlHVqqw 23RUfSixtSjUC8AULUS1DIjbAYM1tRsZxNUlIaQztdUB6971Kwy1U5jzjIqifyj1GDrg f8Ug== X-Gm-Message-State: AOJu0YxPJO91byKw4VU0d1aJz8WPjQBJZo5lymky11J//lOqqsdWawYh 7J4aKUBxo4hK14DsquNUDe3DfW0lP2pn3HlMAPZ9NK/RAnKYm8gH+FtMFTk/ue0TRPW4OYYRDNG dDQu+tm38CVX4EmH+Ms5fetJC3pDWzTcqDnEL3LwqR8CTNCWn0KYmkoVjFcju X-Gm-Gg: ASbGncsjtg/ly5BJBOLe4TtyjRNN5NoHoVuuuAga/tts0evnuzvq0CJ3wmsKX7fz1B9 p49rKNGSkPyN/TdD1jdVbtGB3QTTuHa6r7w6D1zkBncRenU8yt8uexojvNFajeLbeEwNKeEhUR8 TsB4PPpEWcelqEnSQMRaP5AvyR9f++xhiKbyCahmpBrxNrNo3/tJi5xSUj8gGctYX2sT38BopoP nuMi7qLEjMPYK8JF15Nq8hRAXcRcfgyNHGSboj0JViqqVNzomisWSuYJrTG5erOAYdMgBsM2RBX 44K1sl2X/n28hjvvtwrmMio9OHm/SisAe2stecQgzLBw5Fj9UQ== X-Google-Smtp-Source: AGHT+IF2/jlhIQWnLIIRXaQh9vjuSoOJd8d0c/BV6W7lUevmbujYvp4m/lGA7quItXi8bBKiHv9+DZRsHODH X-Received: by 2002:a05:6a20:9190:b0:233:4231:edf7 with SMTP id adf61e73a8af0-23d490205c2mr6209807637.13.1753289480941; Wed, 23 Jul 2025 09:51:20 -0700 (PDT) Received: from postal.iol.unh.edu (postal.iol.unh.edu. [2606:4100:3880:1234::84]) by smtp-relay.gmail.com with ESMTPS id 41be03b00d2f7-b3f2fe67fa1sm748941a12.4.2025.07.23.09.51.20 (version=TLS1_2 cipher=ECDHE-ECDSA-AES128-GCM-SHA256 bits=128/128); Wed, 23 Jul 2025 09:51:20 -0700 (PDT) X-Relaying-Domain: iol.unh.edu Date: Wed, 23 Jul 2025 09:51:20 -0700 (PDT) Message-ID: <68811308.050a0220.6eab0.5786SMTPIN_ADDED_MISSING@mx.google.com> Received: from [172.21.0.5] (unknown [172.18.0.240]) by postal.iol.unh.edu (Postfix) with ESMTP id 38FE8604D420; Wed, 23 Jul 2025 12:51:20 -0400 (EDT) Subject: |SUCCESS| pw155457 [PATCH] net/af_xdp: enable AF_XDP program attachm From: dpdklab@iol.unh.edu To: Test Report Cc: dpdk-test-reports@iol.unh.edu In-Reply-To: <20250723074249.3264675-1-shivajikant@google.com> References: <20250723074249.3264675-1-shivajikant@google.com> Content-Type: text/plain X-BeenThere: test-report@dpdk.org X-Mailman-Version: 2.1.29 Precedence: list List-Id: automatic DPDK test reports List-Unsubscribe: , List-Archive: List-Post: List-Help: List-Subscribe: , Errors-To: test-report-bounces@dpdk.org Test-Label: iol-compile-amd64-testing Test-Status: SUCCESS http://dpdk.org/patch/155457 _Testing PASS_ Submitter: Shivaji Kant Date: Wednesday, July 23 2025 07:42:49 DPDK git baseline: Repo:dpdk Branch: master CommitID:b78afde1fed9e11ee5cdce333a1a69dd7a9cf13e 155457 --> testing pass Upstream job id: Generic-DPDK-Compile-Meson#411526 Test environment and result as below: +-------------------------------+--------------------+-------------------------+-------------------+-------------------+------------------+----------------------+ | Environment | dpdk_meson_compile | dpdk_llvm_clang_compile | dpdk_msvc_compile | dpdk_compile_spdk | dpdk_compile_ovs | dpdk_mingw64_compile | +===============================+====================+=========================+===================+===================+==================+======================+ | Ubuntu 20.04 | PASS | SKIPPED | SKIPPED | SKIPPED | SKIPPED | SKIPPED | +-------------------------------+--------------------+-------------------------+-------------------+-------------------+------------------+----------------------+ | FreeBSD 14.2 | PASS | SKIPPED | SKIPPED | SKIPPED | SKIPPED | SKIPPED | +-------------------------------+--------------------+-------------------------+-------------------+-------------------+------------------+----------------------+ | CentOS Stream 9 | PASS | SKIPPED | SKIPPED | PASS | SKIPPED | SKIPPED | +-------------------------------+--------------------+-------------------------+-------------------+-------------------+------------------+----------------------+ | CentOS Stream 10 | PASS | SKIPPED | SKIPPED | SKIPPED | SKIPPED | SKIPPED | +-------------------------------+--------------------+-------------------------+-------------------+-------------------+------------------+----------------------+ | Debian GNU/Linux 12 | PASS | SKIPPED | SKIPPED | PASS | SKIPPED | SKIPPED | +-------------------------------+--------------------+-------------------------+-------------------+-------------------+------------------+----------------------+ | Fedora Linux 40 | PASS | SKIPPED | SKIPPED | PASS | SKIPPED | SKIPPED | +-------------------------------+--------------------+-------------------------+-------------------+-------------------+------------------+----------------------+ | Fedora Linux 41 | PASS | SKIPPED | SKIPPED | PASS | PASS | SKIPPED | +-------------------------------+--------------------+-------------------------+-------------------+-------------------+------------------+----------------------+ | openSUSE Leap 15.6 | PASS | SKIPPED | SKIPPED | SKIPPED | SKIPPED | SKIPPED | +-------------------------------+--------------------+-------------------------+-------------------+-------------------+------------------+----------------------+ | Red Hat Enterprise Linux 8.10 | PASS | SKIPPED | SKIPPED | SKIPPED | SKIPPED | SKIPPED | +-------------------------------+--------------------+-------------------------+-------------------+-------------------+------------------+----------------------+ | Red Hat Enterprise Linux 9.5 | PASS | SKIPPED | SKIPPED | SKIPPED | SKIPPED | SKIPPED | +-------------------------------+--------------------+-------------------------+-------------------+-------------------+------------------+----------------------+ | Ubuntu 22.04 | PASS | SKIPPED | SKIPPED | PASS | SKIPPED | SKIPPED | +-------------------------------+--------------------+-------------------------+-------------------+-------------------+------------------+----------------------+ | Ubuntu 24.04 | PASS | SKIPPED | SKIPPED | PASS | PASS | SKIPPED | +-------------------------------+--------------------+-------------------------+-------------------+-------------------+------------------+----------------------+ | Alpine Linux 3.22.0 | PASS | SKIPPED | SKIPPED | SKIPPED | SKIPPED | SKIPPED | +-------------------------------+--------------------+-------------------------+-------------------+-------------------+------------------+----------------------+ | Windows Server 2022 | SKIPPED | PASS | PASS | SKIPPED | SKIPPED | PASS | +-------------------------------+--------------------+-------------------------+-------------------+-------------------+------------------+----------------------+ Ubuntu 20.04 Kernel: 4.19 Compiler: gcc gcc (Ubuntu 9.4.0-1ubuntu1~20.04.2) 9.4.0 FreeBSD 14.2 Kernel: 14.2-RELEASE Compiler: clang 18.1.6 CentOS Stream 9 Kernel: 5.15 Compiler: gcc gcc (GCC) 11.5.0 20240719 (Red Hat 11.5.0-7) CentOS Stream 10 Kernel: 5.15 Compiler: gcc gcc (GCC) 14.2.1 20250110 (Red Hat 14.2.1-8) Debian GNU/Linux 12 Kernel: 5.15 Compiler: gcc gcc (Debian 12.2.0-14+deb12u1) 12.2.0 Fedora Linux 40 Kernel: 5.15 Compiler: clang gcc (GCC) 14.2.1 20240912 (Red Hat 14.2.1-3) Fedora Linux 41 Kernel: 5.15 Compiler: clang gcc (GCC) 14.3.1 20250523 (Red Hat 14.3.1-1) openSUSE Leap 15.6 Kernel: 5.15 Compiler: gcc gcc (SUSE Linux) 7.5.0 Red Hat Enterprise Linux 8.10 Kernel: 5.15 Compiler: gcc gcc (GCC) 8.5.0 20210514 (Red Hat 8.5.0-22) Red Hat Enterprise Linux 9.5 Kernel: 5.15 Compiler: gcc gcc (GCC) 11.5.0 20240719 (Red Hat 11.5.0-2) Ubuntu 22.04 Kernel: 5.15 Compiler: gcc gcc (Ubuntu 11.4.0-1ubuntu1~22.04) 11.4.0 Ubuntu 24.04 Kernel: 5.15 Compiler: gcc gcc (Ubuntu 13.3.0-6ubuntu2~24.04) 13.3.0 Alpine Linux 3.22.0 Kernel: 5.15 Compiler: gcc gcc (Alpine 14.2.0) 14.2.0 Windows Server 2022 Kernel: 10.0.20348.2031 Compiler: clang 15.0.7, gcc 14.1.0 (MinGW), and MSVC VS 19.39.33521 To view detailed results, visit: https://lab.dpdk.org/results/dashboard/patchsets/33735/ UNH-IOL DPDK Community Lab To manage your email subscriptions, visit: https://lab.dpdk.org/results/dashboard/preferences/subscriptions/