From mboxrd@z Thu Jan 1 00:00:00 1970 Return-Path: Received: from mails.dpdk.org (mails.dpdk.org [217.70.189.124]) by inbox.dpdk.org (Postfix) with ESMTP id 744F746BF3 for ; Wed, 23 Jul 2025 18:56:47 +0200 (CEST) Received: from mails.dpdk.org (localhost [127.0.0.1]) by mails.dpdk.org (Postfix) with ESMTP id 590AB40267; Wed, 23 Jul 2025 18:56:47 +0200 (CEST) Received: from mail-yb1-f226.google.com (mail-yb1-f226.google.com [209.85.219.226]) by mails.dpdk.org (Postfix) with ESMTP id 88ADF40267 for ; Wed, 23 Jul 2025 18:56:46 +0200 (CEST) Received: by mail-yb1-f226.google.com with SMTP id 3f1490d57ef6-e8bb69cdb90so15735276.0 for ; Wed, 23 Jul 2025 09:56:46 -0700 (PDT) DKIM-Signature: v=1; a=rsa-sha256; c=relaxed/relaxed; d=iol.unh.edu; s=unh-iol; t=1753289806; x=1753894606; darn=dpdk.org; h=references:in-reply-to:cc:to:from:subject:message-id:date:from:to :cc:subject:date:message-id:reply-to; bh=t0M1L7B3iGBAlutnFEBlLJ/puwVyI4e79UzUNfhrXy4=; b=D8OCRTVnx9JWfUzaL8I4u57ma4qsyurVr4pXKLG8FdrTq4+WzI9AH3t0Bp2BWhTH8o V/lIfuhu+FNroWuUdLYkFF9qjD0aauNzG4NrCX2JYVyVBlvUMUzDK3cJxTChoTy7cVBh GYOJf1EVLLGReGNskITBD4ahacuq0GT4HueSw= X-Google-DKIM-Signature: v=1; a=rsa-sha256; c=relaxed/relaxed; d=1e100.net; s=20230601; t=1753289806; x=1753894606; h=references:in-reply-to:cc:to:from:subject:message-id:date :x-gm-message-state:from:to:cc:subject:date:message-id:reply-to; bh=t0M1L7B3iGBAlutnFEBlLJ/puwVyI4e79UzUNfhrXy4=; b=upYNYQcU5nEObB1WZYhdOuO3AFNPdl5JG6WS/IfxysYt6NmUAlP64x6KZFs39GA6U6 w8WNax+WFndoYg6r6R1Fh59sF/irzmxW0EVwwQdUx2PFtI8MecaFX80pNBESqNFVWPZJ u9wPv6/nnhoMF7RfnyV/N3HxxVB8UGmYS4tpsFnrsYDsO9PnzZe7AuPjVF3r1oxWXvzo ek5km0fPLKFr998jkqaSqI6o8ejIVsA+45G3MJl1wUd7Vpq22sMPJpEAA2cD8dpqYSaN GsBwupvDfNmOSbmHOoTM9xH8X+RQDZGcbHRLsvSHgpizvNM0+4rYuwzs5hOkdDoPzmlU KypQ== X-Gm-Message-State: AOJu0YxYoIu8q4P+UPMIyk9UcIBlqrAi6SRutDImUxxnbUs9v3xgNzW5 drTKHrKO7YMBq+QuwIn3vNNpGt/o1q2gomCgN1HSTaJ36edQgWQt1dbRE5qP4p4K4mjI8lnU24J CGH+yhaNtNO6tCAuJRXAsEV64lQOujypzTSkKr7BRimBg X-Gm-Gg: ASbGnctgrIm6WmRnVJDnJWpU0/hOeqqWjn8IWuZDvqlGhSPZOyp4F7h2iDEtlfAIEbv LBdVv64pP8YTq4j5FrTZkWiJ2Qdvx/7+kSqKWJBVF6vXCqwg5ruO+7R/vw6ePhmeBGngMfP7gPl 8I2UXGAlAOueMSEMra3frQno4Q9nc8N4syZgb8cgMiKTLfxTs8CuicFmMqpg0PZjsJTPSz+oDMQ ajBwHbuwUtwIhz27F1YrjKVbWwiZin/5TIIvajpDIDWI+iV5xuYlemfn1kMG2guDFud/sBTPeTc P+TGJpe6LBT+JH76ThboUD8Elxw1KVsNI3olMbXpxdjRJyKqQQgkEDubALgQT4pG83apcLbh X-Google-Smtp-Source: AGHT+IGH0/IT7YyWT+XY2ol+9RV1rqjI+fLzJH5teYJcDLa9SaE50VjSbNHEqzh8vErnqzZNmTI5jriRKdkd X-Received: by 2002:a05:6902:2202:b0:e8d:d07a:ec4 with SMTP id 3f1490d57ef6-e8dd07a1264mr4135984276.13.1753289805913; Wed, 23 Jul 2025 09:56:45 -0700 (PDT) Received: from postal.iol.unh.edu (postal.iol.unh.edu. [132.177.123.84]) by smtp-relay.gmail.com with ESMTPS id 3f1490d57ef6-e8d7ce08595sm723989276.20.2025.07.23.09.56.45 (version=TLS1_2 cipher=ECDHE-ECDSA-AES128-GCM-SHA256 bits=128/128); Wed, 23 Jul 2025 09:56:45 -0700 (PDT) X-Relaying-Domain: iol.unh.edu Date: Wed, 23 Jul 2025 09:56:45 -0700 (PDT) Message-ID: <6881144d.250a0220.392444.49a7SMTPIN_ADDED_MISSING@mx.google.com> Received: from [172.21.0.4] (unknown [172.18.0.240]) by postal.iol.unh.edu (Postfix) with ESMTP id 8E812604D420; Wed, 23 Jul 2025 12:56:45 -0400 (EDT) Subject: |SUCCESS| pw155447-155454 [PATCH] [v9,8/8] lib/pmu: fix out-of-bound From: dpdklab@iol.unh.edu To: Test Report Cc: dpdk-test-reports@iol.unh.edu In-Reply-To: <20250723044118.2962318-9-tduszynski@marvell.com> References: <20250723044118.2962318-9-tduszynski@marvell.com> Content-Type: text/plain X-BeenThere: test-report@dpdk.org X-Mailman-Version: 2.1.29 Precedence: list List-Id: automatic DPDK test reports List-Unsubscribe: , List-Archive: List-Post: List-Help: List-Subscribe: , Errors-To: test-report-bounces@dpdk.org Test-Label: iol-unit-arm64-testing Test-Status: SUCCESS http://dpdk.org/patch/155454 _Testing PASS_ Submitter: Tomasz Duszynski Date: Wednesday, July 23 2025 04:41:18 DPDK git baseline: Repo:dpdk Branch: master CommitID:b222395561638f89562e4ef42e1eabf2d6db43dd 155447-155454 --> testing pass Upstream job id: Generic-Unit-Test-DPDK#357656 Test environment and result as below: +------------------------------+--------------+------------------------------+---------------------------+----------------+ | Environment | lpm_autotest | cryptodev_sw_snow3g_autotest | cryptodev_sw_zuc_autotest | dpdk_unit_test | +==============================+==============+==============================+===========================+================+ | Ubuntu 20.04 | PASS | SKIPPED | SKIPPED | PASS | +------------------------------+--------------+------------------------------+---------------------------+----------------+ | Debian 12 (arm) | SKIPPED | PASS | PASS | SKIPPED | +------------------------------+--------------+------------------------------+---------------------------+----------------+ | CentOS Stream 9 | SKIPPED | SKIPPED | SKIPPED | PASS | +------------------------------+--------------+------------------------------+---------------------------+----------------+ | CentOS Stream 10 | SKIPPED | SKIPPED | SKIPPED | PASS | +------------------------------+--------------+------------------------------+---------------------------+----------------+ | Debian GNU/Linux 12 | SKIPPED | SKIPPED | SKIPPED | PASS | +------------------------------+--------------+------------------------------+---------------------------+----------------+ | Red Hat Enterprise Linux 9.5 | SKIPPED | SKIPPED | SKIPPED | PASS | +------------------------------+--------------+------------------------------+---------------------------+----------------+ | Fedora Linux 41 | SKIPPED | SKIPPED | SKIPPED | PASS | +------------------------------+--------------+------------------------------+---------------------------+----------------+ | Fedora Linux 40 | SKIPPED | SKIPPED | SKIPPED | PASS | +------------------------------+--------------+------------------------------+---------------------------+----------------+ | Ubuntu 22.04 | SKIPPED | SKIPPED | SKIPPED | PASS | +------------------------------+--------------+------------------------------+---------------------------+----------------+ | Ubuntu 24.04 | SKIPPED | SKIPPED | SKIPPED | PASS | +------------------------------+--------------+------------------------------+---------------------------+----------------+ Ubuntu 20.04 Kernel: 5.4 Compiler: gcc gcc (Ubuntu 9.4.0-1ubuntu1~20.04.2) 9.4.0 Debian 12 (arm) Kernel: Depends on container host Compiler: gcc (Debian 12.2.0-14) 12.2.0 CentOS Stream 9 Kernel: 5.4 Compiler: gcc gcc (GCC) 11.5.0 20240719 (Red Hat 11.5.0-7) CentOS Stream 10 Kernel: 5.4 Compiler: gcc gcc (GCC) 14.2.1 20250110 (Red Hat 14.2.1-8) Debian GNU/Linux 12 Kernel: 5.4 Compiler: gcc gcc (Debian 12.2.0-14+deb12u1) 12.2.0 Red Hat Enterprise Linux 9.5 Kernel: 5.4 Compiler: gcc gcc (GCC) 11.5.0 20240719 (Red Hat 11.5.0-2) Fedora Linux 41 Kernel: 5.4 Compiler: clang gcc (GCC) 14.3.1 20250523 (Red Hat 14.3.1-1) Fedora Linux 40 Kernel: 5.4 Compiler: clang gcc (GCC) 14.2.1 20240912 (Red Hat 14.2.1-3) Ubuntu 22.04 Kernel: 5.4 Compiler: gcc gcc (Ubuntu 11.4.0-1ubuntu1~22.04) 11.4.0 Ubuntu 24.04 Kernel: 5.4 Compiler: gcc gcc (Ubuntu 13.3.0-6ubuntu2~24.04) 13.3.0 To view detailed results, visit: https://lab.dpdk.org/results/dashboard/patchsets/33732/ UNH-IOL DPDK Community Lab To manage your email subscriptions, visit: https://lab.dpdk.org/results/dashboard/preferences/subscriptions/