From mboxrd@z Thu Jan 1 00:00:00 1970 Return-Path: Received: from mails.dpdk.org (mails.dpdk.org [217.70.189.124]) by inbox.dpdk.org (Postfix) with ESMTP id 272A646BF3 for ; Wed, 23 Jul 2025 19:13:52 +0200 (CEST) Received: from mails.dpdk.org (localhost [127.0.0.1]) by mails.dpdk.org (Postfix) with ESMTP id 224AC40267; Wed, 23 Jul 2025 19:13:52 +0200 (CEST) Received: from mail-pl1-f225.google.com (mail-pl1-f225.google.com [209.85.214.225]) by mails.dpdk.org (Postfix) with ESMTP id 7355140267 for ; Wed, 23 Jul 2025 19:13:50 +0200 (CEST) Received: by mail-pl1-f225.google.com with SMTP id d9443c01a7336-235e1d710d8so601055ad.1 for ; Wed, 23 Jul 2025 10:13:50 -0700 (PDT) DKIM-Signature: v=1; a=rsa-sha256; c=relaxed/relaxed; d=iol.unh.edu; s=unh-iol; t=1753290829; x=1753895629; darn=dpdk.org; h=references:in-reply-to:cc:to:from:subject:message-id:date:from:to :cc:subject:date:message-id:reply-to; bh=ES6cXoZDboZDc71hp7r9D3aS+E5DeMoLtMlpvn9nVpE=; b=ixOR0jU7FRg9MULMjVdjbWVq+b2YyGOFBLgp4oj0yiyfdBkw+yCjziWDXt2NeuqkY1 YZ0XuqJWBtZ0DFLHWWOEfr+h38G9xksdhvGNiVK02EQemIEpxpitfbypcIj1oFf8nBfs QqKgYW29qIoQeLNjorZpIca/lMjAIFmm/UsxQ= X-Google-DKIM-Signature: v=1; a=rsa-sha256; c=relaxed/relaxed; d=1e100.net; s=20230601; t=1753290829; x=1753895629; h=references:in-reply-to:cc:to:from:subject:message-id:date :x-gm-message-state:from:to:cc:subject:date:message-id:reply-to; bh=ES6cXoZDboZDc71hp7r9D3aS+E5DeMoLtMlpvn9nVpE=; b=BdW+D2dZdZ0WQ8YZ8Q8VJrcOVJcaG2//zdvF9ysfqXJ1bXPSL/UF6bF1k7pScL00jH 7ZtPCiK8bvuU9T0ZPojbK++xS7lEO7CsBsNWt9rGP6ZGuoTWZsF/gmi2BxJSxPH5CiyY RsJZL5mmd8PHk1vbHVI8eqXBodH21bUMGQFe7e/gLcZGMOdhw/+c6OP1VFhsowSKJv3o TVnA+Ozg6hyZfN06QQpNU8u9wpv8athQ/lfMjZZgblCSBfgHZzgG7GZluWNROhPLSbY6 ATOBSMVBM+bot5WaxeUXM3oLS9cFVI5K9Ut1NamPUoRt/5OdD0Ivu/QP6VukLrG/Qu5K o/pQ== X-Gm-Message-State: AOJu0Yxo+50gS9s5L2PiYY1EuPeTlybsiPneypGQ50JcUOXGPkFYRMJ8 /xgHTAX+MV0iJXtS+ybUSdv7zo1RRAkVYUTRKDTLpKkLmCMzIDAzxOK9e721+UkGmhwo7ZZf3Ah E3DWg8fECpmNrLaS5ISECrFopxSn+sQ4cD8F4SgSN0yhFJS9JGki/aMqM2kIX X-Gm-Gg: ASbGncv4YFDjPjLxDdRPDBI1TjI5+CaReuNjWsY7uIeOoWAhoyxxWxLlhkp9BjKQ2K/ /2wPzQczW4VXkiY30afxvjCu+9KWLwHneYRM9wMdgw8yoFAcdvdh6BS8h0cUfJLH4vvnijXwJVO /U5zfGhfZGAAp6pACusDbTJKtmEXCKnnER4SZrFwbtN0aWBEXrK7/MvLxoY5VvS8Zd7BB1OtSh6 oaQFNScZHxi8BG8/4cib16yj8iXR8Ebt9iRfR9d3r3dpuB8xVN3EWDdxSl8O3cQ/iCGxZKn7cRF nWXnbwDciD7ZDOHaZ4CiSA2WekT5T0D+LuW4Su+4aoSRGt1/tQ== X-Google-Smtp-Source: AGHT+IEzLuYDObFHAB8HLR9OC4yRQ3xxZkeiQh+AbuNlDuiF0Jt6MoQ4DWU4LhupGH7yX7qM7MVVVvxD7bFB X-Received: by 2002:a17:903:fab:b0:235:779:edfe with SMTP id d9443c01a7336-23f981b4139mr59644085ad.43.1753290829575; Wed, 23 Jul 2025 10:13:49 -0700 (PDT) Received: from postal.iol.unh.edu (postal.iol.unh.edu. [2606:4100:3880:1234::84]) by smtp-relay.gmail.com with ESMTPS id d9443c01a7336-23e3b6d8708sm6942555ad.85.2025.07.23.10.13.49 (version=TLS1_2 cipher=ECDHE-ECDSA-AES128-GCM-SHA256 bits=128/128); Wed, 23 Jul 2025 10:13:49 -0700 (PDT) X-Relaying-Domain: iol.unh.edu Date: Wed, 23 Jul 2025 10:13:49 -0700 (PDT) Message-ID: <6881184d.170a0220.28d846.33faSMTPIN_ADDED_MISSING@mx.google.com> Received: from [172.21.0.5] (unknown [172.18.0.240]) by postal.iol.unh.edu (Postfix) with ESMTP id 10064604D420; Wed, 23 Jul 2025 13:13:49 -0400 (EDT) Subject: |SUCCESS| pw155483 [PATCH] net/tap: fix BPF build failure in cross-c From: dpdklab@iol.unh.edu To: Test Report Cc: dpdk-test-reports@iol.unh.edu In-Reply-To: <20250723125702.3787183-1-ashok.k.kaladi@intel.com> References: <20250723125702.3787183-1-ashok.k.kaladi@intel.com> Content-Type: text/plain X-BeenThere: test-report@dpdk.org X-Mailman-Version: 2.1.29 Precedence: list List-Id: automatic DPDK test reports List-Unsubscribe: , List-Archive: List-Post: List-Help: List-Subscribe: , Errors-To: test-report-bounces@dpdk.org Test-Label: iol-compile-amd64-testing Test-Status: SUCCESS http://dpdk.org/patch/155483 _Testing PASS_ Submitter: Ashok Kaladi Date: Wednesday, July 23 2025 12:57:02 DPDK git baseline: Repo:dpdk Branch: master CommitID:899bc9e500ccc718c12b1df4b920dcf0cbeb6265 155483 --> testing pass Upstream job id: Windows-Compile-DPDK-VS#6447 Test environment and result as below: +---------------------+-------------------------+--------------------+-------------------+ | Environment | dpdk_llvm_clang_compile | dpdk_meson_compile | dpdk_msvc_compile | +=====================+=========================+====================+===================+ | Windows Server 2022 | PASS | SKIPPED | PASS | +---------------------+-------------------------+--------------------+-------------------+ | Ubuntu 20.04 | SKIPPED | PASS | SKIPPED | +---------------------+-------------------------+--------------------+-------------------+ | FreeBSD 14.2 | SKIPPED | PASS | SKIPPED | +---------------------+-------------------------+--------------------+-------------------+ Windows Server 2022 Kernel: 10.0.20348.2031 Compiler: clang 15.0.7, gcc 14.1.0 (MinGW), and MSVC VS 19.39.33521 Ubuntu 20.04 Kernel: 4.19 Compiler: gcc gcc (Ubuntu 9.4.0-1ubuntu1~20.04.2) 9.4.0 FreeBSD 14.2 Kernel: 14.2-RELEASE Compiler: clang 18.1.6 To view detailed results, visit: https://lab.dpdk.org/results/dashboard/patchsets/33740/ UNH-IOL DPDK Community Lab To manage your email subscriptions, visit: https://lab.dpdk.org/results/dashboard/preferences/subscriptions/