From mboxrd@z Thu Jan 1 00:00:00 1970 Return-Path: Received: from mails.dpdk.org (mails.dpdk.org [217.70.189.124]) by inbox.dpdk.org (Postfix) with ESMTP id 6588946BF3 for ; Wed, 23 Jul 2025 19:25:57 +0200 (CEST) Received: from mails.dpdk.org (localhost [127.0.0.1]) by mails.dpdk.org (Postfix) with ESMTP id 40F9C40267; Wed, 23 Jul 2025 19:25:57 +0200 (CEST) Received: from mail-pl1-f227.google.com (mail-pl1-f227.google.com [209.85.214.227]) by mails.dpdk.org (Postfix) with ESMTP id 5166640267 for ; Wed, 23 Jul 2025 19:25:55 +0200 (CEST) Received: by mail-pl1-f227.google.com with SMTP id d9443c01a7336-23602481460so772835ad.0 for ; Wed, 23 Jul 2025 10:25:55 -0700 (PDT) DKIM-Signature: v=1; a=rsa-sha256; c=relaxed/relaxed; d=iol.unh.edu; s=unh-iol; t=1753291554; x=1753896354; darn=dpdk.org; h=references:in-reply-to:cc:to:from:subject:message-id:date:from:to :cc:subject:date:message-id:reply-to; bh=5Wigbs4BgSWKvaZZd7WRMvSXX3eTr3iDMEdcvOPpd88=; b=YEasBDYD79cxXttEKfTBZt6yx5/zzSow6ZUHQMbe2lPp1M1ByX6/m6jBLm7qe0LKgt O9XHHRukckVJjSQ2G3qMgXttg1gtW8Wjou1s8+ubITodTvfebdLadXI1imVtKeK4UCxi pYJsqIx8drgWKFYbGSj4lbAngBADGk8KQf1TA= X-Google-DKIM-Signature: v=1; a=rsa-sha256; c=relaxed/relaxed; d=1e100.net; s=20230601; t=1753291554; x=1753896354; h=references:in-reply-to:cc:to:from:subject:message-id:date :x-gm-message-state:from:to:cc:subject:date:message-id:reply-to; bh=5Wigbs4BgSWKvaZZd7WRMvSXX3eTr3iDMEdcvOPpd88=; b=kBXqPVTzYA1i35mWgf68cdsHkXnn1USTiROYRaRD2I2OFVPxY4/L+Tqon8ySoDzdpo aNfnYF5rPT+s0PIes84q8xAZ9hPK9NKPjQz2VFmZ9BA6Jc3XYm7cYCokmF3N8b7qCPBY p3JYC9hiWrgiasj1lcWoaZybuis/vRBAtBWqlnUSt4jAFWInFNQa1KIlR5Z+D/thCb3J r5DZAe8gnNby9p8WvYkDZvSO8VJXmb5f9vRHKsSowsLpddht1cgkjnnAj9Ih8UHVbVHW afTMYx9q9M8qd4+7H/rx2wpFeqh+xG+wa08puvQa8cxj30bNXEK6XgZ3/gW9afdlPYhD 5ofQ== X-Gm-Message-State: AOJu0YxNq47AdKD/P0crYc3BCcdY+Z8wP9c2ykw579DtJQWYIbZdwC9y sXh+PVkFPuRZjn/wAIiAMaOFlDiXz+sxUDHGrp4YjmYQOTLrCxjMjl2D1TAwUN7Hw0IGixl8SFj 8GDkdpKr2UgsYLhjfOIG9MbT7j6rM4fk1RPCgHt7Gd7yEZHtzubiG5hC8gbH/ X-Gm-Gg: ASbGncsyVGCPial7CKlMDiPgUkTLF03K6CKtoqrOqlW0uulWeSi1NqHGWKT4R0M80Nd uuuntiRz4C5Jvgda/NhMOmW8eJsaQOrxFJ8Ch9VAZKEZCxZuXEkmLOdlODICnJnI0aYHVGMI/Hh sE5RX5U80Mzkth9FvmqR4NN5uXeCDZ2K7Zn9+qfDIL2I/VUvFyug7HnVQC2DHq/+D7RgtszfTM6 OLi3gI+CfU+INKc0QzKw5qunv+iTWjfHJh0ZDIC0e3O9wxPZSeMeWqzMsfMLXDTwqes1ZrEzVR9 N81rFzoIl9LAM4Ig47llh7YkiWUcv5Qo2AOth+VLbO9RbPcUtw== X-Google-Smtp-Source: AGHT+IGejrIzpbrULfD+KyP9JovxCCOFjnArqcitG7INnlUFvz63lSUQP4FWfqNgBlIkxwor3iaNin2KkBCu X-Received: by 2002:a17:903:41d1:b0:234:1163:ff99 with SMTP id d9443c01a7336-23f9821e21dmr60593375ad.43.1753291554380; Wed, 23 Jul 2025 10:25:54 -0700 (PDT) Received: from postal.iol.unh.edu (postal.iol.unh.edu. [2606:4100:3880:1234::84]) by smtp-relay.gmail.com with ESMTPS id d9443c01a7336-23e3b61eb55sm7096265ad.41.2025.07.23.10.25.54 (version=TLS1_2 cipher=ECDHE-ECDSA-AES128-GCM-SHA256 bits=128/128); Wed, 23 Jul 2025 10:25:54 -0700 (PDT) X-Relaying-Domain: iol.unh.edu Date: Wed, 23 Jul 2025 10:25:54 -0700 (PDT) Message-ID: <68811b22.170a0220.138e30.4196SMTPIN_ADDED_MISSING@mx.google.com> Received: from [172.21.0.3] (unknown [172.18.0.240]) by postal.iol.unh.edu (Postfix) with ESMTP id DC15D6051830; Wed, 23 Jul 2025 13:25:53 -0400 (EDT) Subject: |SUCCESS| pw155483 [PATCH] net/tap: fix BPF build failure in cross-c From: dpdklab@iol.unh.edu To: Test Report Cc: dpdk-test-reports@iol.unh.edu In-Reply-To: <20250723125702.3787183-1-ashok.k.kaladi@intel.com> References: <20250723125702.3787183-1-ashok.k.kaladi@intel.com> Content-Type: text/plain X-BeenThere: test-report@dpdk.org X-Mailman-Version: 2.1.29 Precedence: list List-Id: automatic DPDK test reports List-Unsubscribe: , List-Archive: List-Post: List-Help: List-Subscribe: , Errors-To: test-report-bounces@dpdk.org Test-Label: iol-compile-amd64-testing Test-Status: SUCCESS http://dpdk.org/patch/155483 _Testing PASS_ Submitter: Ashok Kaladi Date: Wednesday, July 23 2025 12:57:02 DPDK git baseline: Repo:dpdk Branch: master CommitID:899bc9e500ccc718c12b1df4b920dcf0cbeb6265 155483 --> testing pass Upstream job id: Windows-Compile-DPDK-Native#29979 Test environment and result as below: +---------------------+-------------------------+--------------------+-------------------+----------------------+ | Environment | dpdk_llvm_clang_compile | dpdk_meson_compile | dpdk_msvc_compile | dpdk_mingw64_compile | +=====================+=========================+====================+===================+======================+ | Windows Server 2022 | PASS | SKIPPED | PASS | PASS | +---------------------+-------------------------+--------------------+-------------------+----------------------+ | Ubuntu 20.04 | SKIPPED | PASS | SKIPPED | SKIPPED | +---------------------+-------------------------+--------------------+-------------------+----------------------+ | FreeBSD 14.2 | SKIPPED | PASS | SKIPPED | SKIPPED | +---------------------+-------------------------+--------------------+-------------------+----------------------+ Windows Server 2022 Kernel: 10.0.20348.2031 Compiler: clang 15.0.7, gcc 14.1.0 (MinGW), and MSVC VS 19.39.33521 Ubuntu 20.04 Kernel: 4.19 Compiler: gcc gcc (Ubuntu 9.4.0-1ubuntu1~20.04.2) 9.4.0 FreeBSD 14.2 Kernel: 14.2-RELEASE Compiler: clang 18.1.6 To view detailed results, visit: https://lab.dpdk.org/results/dashboard/patchsets/33740/ UNH-IOL DPDK Community Lab To manage your email subscriptions, visit: https://lab.dpdk.org/results/dashboard/preferences/subscriptions/