From mboxrd@z Thu Jan 1 00:00:00 1970 Return-Path: Received: from mails.dpdk.org (mails.dpdk.org [217.70.189.124]) by inbox.dpdk.org (Postfix) with ESMTP id 53D7446BF3 for ; Wed, 23 Jul 2025 19:48:13 +0200 (CEST) Received: from mails.dpdk.org (localhost [127.0.0.1]) by mails.dpdk.org (Postfix) with ESMTP id 4BC8440267; Wed, 23 Jul 2025 19:48:13 +0200 (CEST) Received: from mail-pf1-f228.google.com (mail-pf1-f228.google.com [209.85.210.228]) by mails.dpdk.org (Postfix) with ESMTP id 4BF1B40267 for ; Wed, 23 Jul 2025 19:48:12 +0200 (CEST) Received: by mail-pf1-f228.google.com with SMTP id d2e1a72fcca58-7425bd5a83aso240666b3a.0 for ; Wed, 23 Jul 2025 10:48:12 -0700 (PDT) DKIM-Signature: v=1; a=rsa-sha256; c=relaxed/relaxed; d=iol.unh.edu; s=unh-iol; t=1753292891; x=1753897691; darn=dpdk.org; h=references:in-reply-to:cc:to:from:subject:message-id:date:from:to :cc:subject:date:message-id:reply-to; bh=3hEp7hBKhWpuoL+0mv30knmDLJvLCa+DNGbR2NEIenE=; b=TsSm1xd39SJjuQ4dapEeHrH+0ClAG8kIgSRV9g6KkDWomvlcyaVX3HModgHieDzXZ1 iN3tb7hsuFhGuQJuIPn+Vw+o8H+gvfhW7gY7EPk2C/bcxF54Jb/fqL5Ct21tK7CG4Uh6 CFtXrg2hmUNyg2DCWlhZ9NcViqfb8Ne8ftg5c= X-Google-DKIM-Signature: v=1; a=rsa-sha256; c=relaxed/relaxed; d=1e100.net; s=20230601; t=1753292891; x=1753897691; h=references:in-reply-to:cc:to:from:subject:message-id:date :x-gm-message-state:from:to:cc:subject:date:message-id:reply-to; bh=3hEp7hBKhWpuoL+0mv30knmDLJvLCa+DNGbR2NEIenE=; b=ELBxbdoEsSC/fb2WTYieQtITRPdG3xmioCTCgOML0v0NGhowy/Shsm1xMKz3GWaDMk 9LUSLaSnWX3KtuCVkfScvXPD8Js2k2OHORfoCaupNDwZP6mRKV61KRWqMWpIoeXiL6kI Acc6kyXPntP/bgkXL4j539jT65jQPDack3LOi+gJ6Z8yx6mszyQizioopLYv+sW48++K sWjHJt8HAWzfth8MplwVnpukh/LfvyKRhN5CQWuOzOnrz4xMQTwMndWUyngV7+Y+quMi 0l+dK/foXHx6OmZQrkcE1mHP63KIxNPWB6rMc/JtEueM1AanJ450HrO6E+kebQmRsBST a/lA== X-Gm-Message-State: AOJu0YxcvMnBkwSMrq5bXzhn5FY9660gOq7fBS4f+9xVi7+c+r7+rdMF XjFKhjAkDyTJRPb6ypz+urDEnLc4XZIdqs5TJtM5bvnl4ij4qjWTep3vdG/6MUGdq79A7+0Ds1U VjSJBHxWtIDTK+L49kacT35x0dtbx3hC0CsqU27I48pIqHDQW7PVGy5lGyZbo X-Gm-Gg: ASbGncsuJL8w1RPH+nkzi7/rG5U/ccX2FD3FHWjVmk0P5ns/a5gwKyqwDX+Ix9BI+te Hps0LGZRkGtqNtrjXdxaoluwKEPypsebFPCYe/zZ6t5ub9Yna0i+FQ2U/idRnm8KPcwa0hfvWyn bnibSIV8RAYeIUv/iJQsJlDDYJycD2m4W9MNxqpfvHLv2oRRgLtm6JxfENwDECG4BEHbSJ6eaZC FaT9iKUW4e9Ssb7b5kMSWiz93uOh0tIZKwnCdMgsrczUcS8opSYmXlORRbXbMUbt6KwPPZuFu6A QQ2fHXI3HZCOHf7GeppevrEsg7gPEEfP9ZD/BKrSskwYRU7JOg== X-Google-Smtp-Source: AGHT+IFotCCA7sVjH/R8uLxwtfPRcnhkg5N/KH21eT244WD8X9NGHf1H/liEgONxZIZFU/fWcwqbGMfOrpVB X-Received: by 2002:a05:6a20:6a20:b0:235:e7b6:6a04 with SMTP id adf61e73a8af0-23d4911e381mr6356262637.24.1753292891429; Wed, 23 Jul 2025 10:48:11 -0700 (PDT) Received: from postal.iol.unh.edu (postal.iol.unh.edu. [2606:4100:3880:1234::84]) by smtp-relay.gmail.com with ESMTPS id 41be03b00d2f7-b3f2ff80d0esm775898a12.23.2025.07.23.10.48.11 (version=TLS1_2 cipher=ECDHE-ECDSA-AES128-GCM-SHA256 bits=128/128); Wed, 23 Jul 2025 10:48:11 -0700 (PDT) X-Relaying-Domain: iol.unh.edu Date: Wed, 23 Jul 2025 10:48:11 -0700 (PDT) Message-ID: <6881205b.630a0220.21aaeb.6fcaSMTPIN_ADDED_MISSING@mx.google.com> Received: from [172.21.0.6] (unknown [172.18.0.240]) by postal.iol.unh.edu (Postfix) with ESMTP id D5F33604D420; Wed, 23 Jul 2025 13:48:10 -0400 (EDT) Subject: |SUCCESS| pw155446 [PATCH] lib/ethdev: fix segfault in secondary pro From: dpdklab@iol.unh.edu To: Test Report Cc: dpdk-test-reports@iol.unh.edu In-Reply-To: <20250723042959.1576338-1-14pwcse1224@uetpeshawar.edu.pk> References: <20250723042959.1576338-1-14pwcse1224@uetpeshawar.edu.pk> Content-Type: text/plain X-BeenThere: test-report@dpdk.org X-Mailman-Version: 2.1.29 Precedence: list List-Id: automatic DPDK test reports List-Unsubscribe: , List-Archive: List-Post: List-Help: List-Subscribe: , Errors-To: test-report-bounces@dpdk.org Test-Label: iol-compile-arm64-testing Test-Status: SUCCESS http://dpdk.org/patch/155446 _Testing PASS_ Submitter: Khadem Ullah <14pwcse1224@uetpeshawar.edu.pk> Date: Wednesday, July 23 2025 04:29:59 DPDK git baseline: Repo:dpdk Branch: master CommitID:b78afde1fed9e11ee5cdce333a1a69dd7a9cf13e 155446 --> testing pass Upstream job id: Generic-DPDK-Compile-Meson#411405 Test environment and result as below: +------------------------------+--------------------+ | Environment | dpdk_meson_compile | +==============================+====================+ | Red Hat Enterprise Linux 9.5 | PASS | +------------------------------+--------------------+ | Ubuntu 20.04 | PASS | +------------------------------+--------------------+ | Debian GNU/Linux 12 | PASS | +------------------------------+--------------------+ | Fedora Linux 40 | PASS | +------------------------------+--------------------+ | Fedora Linux 41 | PASS | +------------------------------+--------------------+ | Ubuntu 22.04 | PASS | +------------------------------+--------------------+ | Ubuntu 24.04 | PASS | +------------------------------+--------------------+ | CentOS Stream 9 | PASS | +------------------------------+--------------------+ | CentOS Stream 10 | PASS | +------------------------------+--------------------+ Red Hat Enterprise Linux 9.5 Kernel: 5.4 Compiler: gcc gcc (GCC) 11.5.0 20240719 (Red Hat 11.5.0-2) Ubuntu 20.04 Kernel: 5.15 Compiler: aarch64-linux-gnu-gcc gcc (Ubuntu 9.4.0-1ubuntu1~20.04.2) 9.4.0 Debian GNU/Linux 12 Kernel: 5.4 Compiler: gcc gcc (Debian 12.2.0-14+deb12u1) 12.2.0 Fedora Linux 40 Kernel: 5.4 Compiler: gcc gcc (GCC) 14.2.1 20240912 (Red Hat 14.2.1-3) Fedora Linux 41 Kernel: 5.4 Compiler: gcc gcc (GCC) 14.3.1 20250523 (Red Hat 14.3.1-1) Ubuntu 22.04 Kernel: 5.4 Compiler: gcc gcc (Ubuntu 11.4.0-1ubuntu1~22.04) 11.4.0 Ubuntu 24.04 Kernel: 5.4 Compiler: gcc gcc (Ubuntu 13.3.0-6ubuntu2~24.04) 13.3.0 CentOS Stream 9 Kernel: 5.4 Compiler: gcc gcc (GCC) 11.5.0 20240719 (Red Hat 11.5.0-7) CentOS Stream 10 Kernel: 5.4 Compiler: gcc gcc (GCC) 14.2.1 20250110 (Red Hat 14.2.1-8) To view detailed results, visit: https://lab.dpdk.org/results/dashboard/patchsets/33731/ UNH-IOL DPDK Community Lab To manage your email subscriptions, visit: https://lab.dpdk.org/results/dashboard/preferences/subscriptions/