From mboxrd@z Thu Jan 1 00:00:00 1970 Return-Path: Received: from mails.dpdk.org (mails.dpdk.org [217.70.189.124]) by inbox.dpdk.org (Postfix) with ESMTP id 60EA546BF3 for ; Wed, 23 Jul 2025 19:48:28 +0200 (CEST) Received: from mails.dpdk.org (localhost [127.0.0.1]) by mails.dpdk.org (Postfix) with ESMTP id 5A65D40267; Wed, 23 Jul 2025 19:48:28 +0200 (CEST) Received: from mail-pf1-f227.google.com (mail-pf1-f227.google.com [209.85.210.227]) by mails.dpdk.org (Postfix) with ESMTP id A6FF140267 for ; Wed, 23 Jul 2025 19:48:27 +0200 (CEST) Received: by mail-pf1-f227.google.com with SMTP id d2e1a72fcca58-7600271f3e9so222929b3a.0 for ; Wed, 23 Jul 2025 10:48:27 -0700 (PDT) DKIM-Signature: v=1; a=rsa-sha256; c=relaxed/relaxed; d=iol.unh.edu; s=unh-iol; t=1753292907; x=1753897707; darn=dpdk.org; h=references:in-reply-to:cc:to:from:subject:message-id:date:from:to :cc:subject:date:message-id:reply-to; bh=s3mvYQg+Q4BQPgc51eQWG4+2g0fBy1V6zzOI0DRNyj4=; b=LN1cz4HkndtD5lAgGqE61Mo6VoJFG9sdWjaynSsoMXpGJuacYCNHD71PD9PNAKrphW wHo4P8kRiow7Cqcj+7CCS+hQB81kl05LJQyQYk6qncnsIkhPFGICwYNCKsM3Lz/O/jMz SkYTVELqU9T5m+RKH+sQpshmyNUOQNnmmI+wQ= X-Google-DKIM-Signature: v=1; a=rsa-sha256; c=relaxed/relaxed; d=1e100.net; s=20230601; t=1753292907; x=1753897707; h=references:in-reply-to:cc:to:from:subject:message-id:date :x-gm-message-state:from:to:cc:subject:date:message-id:reply-to; bh=s3mvYQg+Q4BQPgc51eQWG4+2g0fBy1V6zzOI0DRNyj4=; b=bLyGhWxOfs33R9I26ptQX6Krw0RJsJoLN2Iq2y+nD17F6CExP6epdOsvyFIuko9CiN P7hD9BAWIaAlnLti0EvMtzbjMkwbzO+HehUKVYP+ukd8tEV/+gbHCrkDA0W6RKq0PaD7 +jwQrqjsS4r8fTVRcNaV0KwsGb65/uhAteT+Enir/u8456/COBQiSUvlzHpYQwqHwjNR 2ZpHn+V3yQaJfQwcvSXKye154+LvpMXJL1dBf7L0CMzQ3OlGP5wsn/NtZUmfhh0gG3gH ucTdmXyZH+EQaXolKKSCq3TUIGCU8ZWlkRrR/1pLDhQGe3RTSNc31UsNbNjAybjfncKy XIGw== X-Gm-Message-State: AOJu0YwJtcybQBcS4EAoMIehy2aJq1c9eBuXLwzFF7OTZCtz3cH26xzs 3aAI0VdzxogdoRKx0bnVkMTmAzOioZQBB7sW+l8SBVe6SVbyakioy321z0KL+fuKBTyOtppRL+W EUsGHyHD0eBYcG3SLeBxWSSB4ajz+w3lrL03K4VySM7tr X-Gm-Gg: ASbGnctrdf97lme0x7kLh6ApSP2YE7IWFq5OuEEwcMqyX2t1fUuo4bx4TO8rUxArYVy mNK93fxbx4+S01kkYCMoNRLsUKAmFhqskfw6qcnHzwOu/n57CS9g05GgOZzCJG1OQ+rz6jC1HIj i2oRAk2+g09hLL53LnSmsiZAdXgE5U5/G4aWunLv879PPb2Le2RfOu2YN9olPRNfd+YdYdP6XqU rg54IBPAUcqhtVN+BQn1/MtSiVPIHziKL4XeEVt51Ztp+YcW5V1ktG+fRQcSL0H9LDoXfltl4bh 2g9pprCrVGxJJrg70MskuohBmupAOpjWWn+8T36P0rHULABFJKNj1Ql5AmS+iJMh8XG2YPpJ X-Google-Smtp-Source: AGHT+IExVd7XODVXuXRVQ3P0ulRkWWSeNDLOXD51SpfWugad1WD0yzxYiYoyoouWS/yvM4//E8H/nQIzGi4b X-Received: by 2002:a05:6a20:a10c:b0:235:7452:5867 with SMTP id adf61e73a8af0-23d48e94b41mr6110420637.20.1753292906824; Wed, 23 Jul 2025 10:48:26 -0700 (PDT) Received: from postal.iol.unh.edu (postal.iol.unh.edu. [132.177.123.84]) by smtp-relay.gmail.com with ESMTPS id 98e67ed59e1d1-31e6097f399sm5002a91.1.2025.07.23.10.48.26 (version=TLS1_2 cipher=ECDHE-ECDSA-AES128-GCM-SHA256 bits=128/128); Wed, 23 Jul 2025 10:48:26 -0700 (PDT) X-Relaying-Domain: iol.unh.edu Date: Wed, 23 Jul 2025 10:48:26 -0700 (PDT) Message-ID: <6881206a.170a0220.256117.047aSMTPIN_ADDED_MISSING@mx.google.com> Received: from [172.21.0.4] (unknown [172.18.0.240]) by postal.iol.unh.edu (Postfix) with ESMTP id 15EAA604D420; Wed, 23 Jul 2025 13:48:26 -0400 (EDT) Subject: |SUCCESS| pw155446 [PATCH] lib/ethdev: fix segfault in secondary pro From: dpdklab@iol.unh.edu To: Test Report Cc: dpdk-test-reports@iol.unh.edu In-Reply-To: <20250723042959.1576338-1-14pwcse1224@uetpeshawar.edu.pk> References: <20250723042959.1576338-1-14pwcse1224@uetpeshawar.edu.pk> Content-Type: text/plain X-BeenThere: test-report@dpdk.org X-Mailman-Version: 2.1.29 Precedence: list List-Id: automatic DPDK test reports List-Unsubscribe: , List-Archive: List-Post: List-Help: List-Subscribe: , Errors-To: test-report-bounces@dpdk.org Test-Label: iol-compile-arm64-testing Test-Status: SUCCESS http://dpdk.org/patch/155446 _Testing PASS_ Submitter: Khadem Ullah <14pwcse1224@uetpeshawar.edu.pk> Date: Wednesday, July 23 2025 04:29:59 DPDK git baseline: Repo:dpdk Branch: master CommitID:b78afde1fed9e11ee5cdce333a1a69dd7a9cf13e 155446 --> testing pass Upstream job id: Generic-DPDK-Compile-Meson#411407 Test environment and result as below: +------------------------------+--------------------+ | Environment | dpdk_meson_compile | +==============================+====================+ | Red Hat Enterprise Linux 9.5 | PASS | +------------------------------+--------------------+ | Ubuntu 20.04 | PASS | +------------------------------+--------------------+ | Debian GNU/Linux 12 | PASS | +------------------------------+--------------------+ | Fedora Linux 40 | PASS | +------------------------------+--------------------+ | Fedora Linux 41 | PASS | +------------------------------+--------------------+ | Ubuntu 22.04 | PASS | +------------------------------+--------------------+ | Ubuntu 24.04 | PASS | +------------------------------+--------------------+ | CentOS Stream 9 | PASS | +------------------------------+--------------------+ | CentOS Stream 10 | PASS | +------------------------------+--------------------+ Red Hat Enterprise Linux 9.5 Kernel: 5.4 Compiler: gcc gcc (GCC) 11.5.0 20240719 (Red Hat 11.5.0-2) Ubuntu 20.04 Kernel: 5.15 Compiler: aarch64-linux-gnu-gcc gcc (Ubuntu 9.4.0-1ubuntu1~20.04.2) 9.4.0 Debian GNU/Linux 12 Kernel: 5.4 Compiler: gcc gcc (Debian 12.2.0-14+deb12u1) 12.2.0 Fedora Linux 40 Kernel: 5.4 Compiler: gcc gcc (GCC) 14.2.1 20240912 (Red Hat 14.2.1-3) Fedora Linux 41 Kernel: 5.4 Compiler: gcc gcc (GCC) 14.3.1 20250523 (Red Hat 14.3.1-1) Ubuntu 22.04 Kernel: 5.4 Compiler: gcc gcc (Ubuntu 11.4.0-1ubuntu1~22.04) 11.4.0 Ubuntu 24.04 Kernel: 5.4 Compiler: gcc gcc (Ubuntu 13.3.0-6ubuntu2~24.04) 13.3.0 CentOS Stream 9 Kernel: 5.4 Compiler: gcc gcc (GCC) 11.5.0 20240719 (Red Hat 11.5.0-7) CentOS Stream 10 Kernel: 5.4 Compiler: gcc gcc (GCC) 14.2.1 20250110 (Red Hat 14.2.1-8) To view detailed results, visit: https://lab.dpdk.org/results/dashboard/patchsets/33731/ UNH-IOL DPDK Community Lab To manage your email subscriptions, visit: https://lab.dpdk.org/results/dashboard/preferences/subscriptions/