From mboxrd@z Thu Jan 1 00:00:00 1970 Return-Path: Received: from mails.dpdk.org (mails.dpdk.org [217.70.189.124]) by inbox.dpdk.org (Postfix) with ESMTP id 814E346BF3 for ; Wed, 23 Jul 2025 19:49:48 +0200 (CEST) Received: from mails.dpdk.org (localhost [127.0.0.1]) by mails.dpdk.org (Postfix) with ESMTP id 7BF0040267; Wed, 23 Jul 2025 19:49:48 +0200 (CEST) Received: from mail-yw1-f227.google.com (mail-yw1-f227.google.com [209.85.128.227]) by mails.dpdk.org (Postfix) with ESMTP id EFC2E40267 for ; Wed, 23 Jul 2025 19:49:47 +0200 (CEST) Received: by mail-yw1-f227.google.com with SMTP id 00721157ae682-71967cd1072so1712667b3.3 for ; Wed, 23 Jul 2025 10:49:47 -0700 (PDT) DKIM-Signature: v=1; a=rsa-sha256; c=relaxed/relaxed; d=iol.unh.edu; s=unh-iol; t=1753292987; x=1753897787; darn=dpdk.org; h=references:in-reply-to:cc:to:from:subject:message-id:date:from:to :cc:subject:date:message-id:reply-to; bh=RBsxJ7z4ZqJ4gmj3hwBQKvcPAfNMTrrFvjgdABrfOVE=; b=jInWQ/xcuNCSEymI4FT06Qvotl59gS2ooZUOAmiC64TBzGdilU8/TRn8qB2ImgQSbA /noMRl8khU5msNIoTQ2Y8bXS4ewWi7h4bGnjxWrBc5jIWnTLz2fo98PuRAubxWcg169F d2+x6yMUZWHNYa6S8hAn9eI/AhB8R0H9z0v6Q= X-Google-DKIM-Signature: v=1; a=rsa-sha256; c=relaxed/relaxed; d=1e100.net; s=20230601; t=1753292987; x=1753897787; h=references:in-reply-to:cc:to:from:subject:message-id:date :x-gm-message-state:from:to:cc:subject:date:message-id:reply-to; bh=RBsxJ7z4ZqJ4gmj3hwBQKvcPAfNMTrrFvjgdABrfOVE=; b=Uc59fMpns7qj0wD08kf8jbGtfzaNOnBC7vAjhtI90+OqxPrskk7a/WVMGEcQLWvcjw daKCtn/UvYeA8+9b5mRjKTnvcEPHrD1E16YEh1+JqQxFUmX/jL3Aj07PlI1XpX4MBi5y XU1UD2TUrJL61Ml+rvY4E6fSqnvUaDw2bVUhrkvHoNWtQZ3W548QQG56/CSOutdFbKCc BOfSANp7xR+MHGRJ0Byr1LXwmJH0IwEGuMRvbI1/ix5Jc2UbTOGGDMyAld8TBLfydmm0 DTrygCFXVOtRS1bhcQFE+6JVX9qYy1NYdP7IU6d2Ouc8X5IizsRITk7OYub9tvxTIWyB ArjA== X-Gm-Message-State: AOJu0Yys56qYefnXkyF1HtGqzL67yY2yAbwmh8elL5s3n0ycAY4nRu4D PNoftzTnVjxXe9+HIBBzj5brtHeHhEYFCR+g6iB+m6fcW5VH1hozePDDyouI3LZ3HtQEly6U+yd 5dLZfrj4nNNmU7BSYNMie8THRzX88/7MswxW1+eZDRM1RF05JeUG1s3KH67Qn X-Gm-Gg: ASbGncsbKGqwp2MOXbY4yblBMZKGvGueVrYQB5xPQdCEmzdaSs9RmIaCQBszo8tngBo XpX9VKZBBqb8y2EOqcJolVYZp2rdnb4OlMg3tgOJrDxnKZtMcqimWmUTzl71/HlJz6hgMJQDjul zF7HanwX8LQWdiUUeq27FJhPWwWf4Peyx0EVKnY3wEqOgs0pr9aae1zXCrSuoTt8sSEK8zqI5fM +1A5Ra7m/UkF6EG9GbtDidxbLD9ee2A5cz4Rnh6J/TwEdUCnivK0cOB+k8HcO2mfbk2Z+eF/eaZ bDsF5QQv0tBD3dn2EFpETf+2wF7hr65hUazkA0H+gg02X5OvVQ== X-Google-Smtp-Source: AGHT+IHa+ZFzZqmizQPxhjLv7ChOW9pzG9/Irue0GnObcww8jop4MV+PcN6owLSBWJWq/TaEpIsvS/hgYtBt X-Received: by 2002:a05:690c:3345:b0:719:4b02:a6d1 with SMTP id 00721157ae682-719b42dd0c2mr55133167b3.32.1753292987323; Wed, 23 Jul 2025 10:49:47 -0700 (PDT) Received: from postal.iol.unh.edu (postal.iol.unh.edu. [2606:4100:3880:1234::84]) by smtp-relay.gmail.com with ESMTPS id 3f1490d57ef6-e8dc01ffd77sm181101276.19.2025.07.23.10.49.47 (version=TLS1_2 cipher=ECDHE-ECDSA-AES128-GCM-SHA256 bits=128/128); Wed, 23 Jul 2025 10:49:47 -0700 (PDT) X-Relaying-Domain: iol.unh.edu Date: Wed, 23 Jul 2025 10:49:47 -0700 (PDT) Message-ID: <688120bb.050a0220.4ec5b.9509SMTPIN_ADDED_MISSING@mx.google.com> Received: from [172.21.0.2] (unknown [172.18.0.240]) by postal.iol.unh.edu (Postfix) with ESMTP id F3D87604D420; Wed, 23 Jul 2025 13:49:46 -0400 (EDT) Subject: |SUCCESS| pw155455 [PATCH] [v2] lib/ethdev: fix segfault in secondar From: dpdklab@iol.unh.edu To: Test Report Cc: dpdk-test-reports@iol.unh.edu In-Reply-To: <20250723045022.1580829-1-14pwcse1224@uetpeshawar.edu.pk> References: <20250723045022.1580829-1-14pwcse1224@uetpeshawar.edu.pk> Content-Type: text/plain X-BeenThere: test-report@dpdk.org X-Mailman-Version: 2.1.29 Precedence: list List-Id: automatic DPDK test reports List-Unsubscribe: , List-Archive: List-Post: List-Help: List-Subscribe: , Errors-To: test-report-bounces@dpdk.org Test-Label: iol-compile-arm64-testing Test-Status: SUCCESS http://dpdk.org/patch/155455 _Testing PASS_ Submitter: Khadem Ullah <14pwcse1224@uetpeshawar.edu.pk> Date: Wednesday, July 23 2025 04:50:22 DPDK git baseline: Repo:dpdk Branch: master CommitID:b78afde1fed9e11ee5cdce333a1a69dd7a9cf13e 155455 --> testing pass Upstream job id: Generic-DPDK-Compile-Meson#411423 Test environment and result as below: +------------------------------+--------------------+ | Environment | dpdk_meson_compile | +==============================+====================+ | Red Hat Enterprise Linux 9.5 | PASS | +------------------------------+--------------------+ | Ubuntu 20.04 | PASS | +------------------------------+--------------------+ | Debian GNU/Linux 12 | PASS | +------------------------------+--------------------+ | Fedora Linux 40 | PASS | +------------------------------+--------------------+ | Fedora Linux 41 | PASS | +------------------------------+--------------------+ | Ubuntu 22.04 | PASS | +------------------------------+--------------------+ | Ubuntu 24.04 | PASS | +------------------------------+--------------------+ | CentOS Stream 10 | PASS | +------------------------------+--------------------+ | CentOS Stream 9 | PASS | +------------------------------+--------------------+ Red Hat Enterprise Linux 9.5 Kernel: 5.4 Compiler: gcc gcc (GCC) 11.5.0 20240719 (Red Hat 11.5.0-2) Ubuntu 20.04 Kernel: 5.15 Compiler: aarch64-linux-gnu-gcc gcc (Ubuntu 9.4.0-1ubuntu1~20.04.2) 9.4.0 Debian GNU/Linux 12 Kernel: 5.4 Compiler: gcc gcc (Debian 12.2.0-14+deb12u1) 12.2.0 Fedora Linux 40 Kernel: 5.4 Compiler: gcc gcc (GCC) 14.2.1 20240912 (Red Hat 14.2.1-3) Fedora Linux 41 Kernel: 5.4 Compiler: gcc gcc (GCC) 14.3.1 20250523 (Red Hat 14.3.1-1) Ubuntu 22.04 Kernel: 5.4 Compiler: gcc gcc (Ubuntu 11.4.0-1ubuntu1~22.04) 11.4.0 Ubuntu 24.04 Kernel: 5.4 Compiler: gcc gcc (Ubuntu 13.3.0-6ubuntu2~24.04) 13.3.0 CentOS Stream 10 Kernel: 5.4 Compiler: gcc gcc (GCC) 14.2.1 20250110 (Red Hat 14.2.1-8) CentOS Stream 9 Kernel: 5.4 Compiler: gcc gcc (GCC) 11.5.0 20240719 (Red Hat 11.5.0-7) To view detailed results, visit: https://lab.dpdk.org/results/dashboard/patchsets/33733/ UNH-IOL DPDK Community Lab To manage your email subscriptions, visit: https://lab.dpdk.org/results/dashboard/preferences/subscriptions/