From mboxrd@z Thu Jan 1 00:00:00 1970 Return-Path: Received: from mails.dpdk.org (mails.dpdk.org [217.70.189.124]) by inbox.dpdk.org (Postfix) with ESMTP id 9B69146BF3 for ; Wed, 23 Jul 2025 19:50:43 +0200 (CEST) Received: from mails.dpdk.org (localhost [127.0.0.1]) by mails.dpdk.org (Postfix) with ESMTP id 96DC140267; Wed, 23 Jul 2025 19:50:43 +0200 (CEST) Received: from mail-pf1-f228.google.com (mail-pf1-f228.google.com [209.85.210.228]) by mails.dpdk.org (Postfix) with ESMTP id CB94140267 for ; Wed, 23 Jul 2025 19:50:42 +0200 (CEST) Received: by mail-pf1-f228.google.com with SMTP id d2e1a72fcca58-748f5a4a423so170666b3a.1 for ; Wed, 23 Jul 2025 10:50:42 -0700 (PDT) DKIM-Signature: v=1; a=rsa-sha256; c=relaxed/relaxed; d=iol.unh.edu; s=unh-iol; t=1753293042; x=1753897842; darn=dpdk.org; h=references:in-reply-to:cc:to:from:subject:message-id:date:from:to :cc:subject:date:message-id:reply-to; bh=c8odQFhNmgQH/QA8JJ8Hj+/KX7Wa0Zm5C9JcSqMAH8s=; b=gLUfQILN7mR164dcWSBsLFi1oq9CpNdd/HxCvnc8Qo/mYHsXMgmQF6vK+QGc4giWht I5Bx2O/4YUS7x54FpguzX2SRMAfkEcRQp53HbWFqBQkk+ushgzk64GBnqsCG7euVRjUc Acgyb4wfqtQNzRrBs9YoMolACs7C1eA3aZSdc= X-Google-DKIM-Signature: v=1; a=rsa-sha256; c=relaxed/relaxed; d=1e100.net; s=20230601; t=1753293042; x=1753897842; h=references:in-reply-to:cc:to:from:subject:message-id:date :x-gm-message-state:from:to:cc:subject:date:message-id:reply-to; bh=c8odQFhNmgQH/QA8JJ8Hj+/KX7Wa0Zm5C9JcSqMAH8s=; b=GBcNGDrqyI06lhPXM03rDi1duVnavhaeZ6NfAOjjpR9I48Ic8iVw9vPMAEdv9PtOPV AEjEBKxb4IYckDfmC0fmimZ3ZwyO8QCrvmuk4XTfw68vU1U4HO1bKs0MpgfkWndLL8BY GeJlXxNpPF78NNQ0SYZWvrhFhXW8TmK8hPmLQyUlU+osXOds5gBSNZZdW03dBmkIXG6i OtTDESJsSAa8o2Uww7jv2MzL3etFX01Xzx/AtqvDaD4nY5ypiCM+l87rO8e2qT48KMjx ItC7R5UfWY4eQNqcLF1iBp7pdxV8ntmEr/lJQm1ZIvcg1UQe57wtgoc1ZJVuqVUmi47I yUyA== X-Gm-Message-State: AOJu0YxLqasj3FmWXQd6d/qo0ccDO1kNANZ5mk+88oZQrc6ST4Gvt+Ak h/MXe47v76IdxYs9gYiF8CpRsY+xsC1x8Znq4uayXg4goPJ0OxhpIKAHhAHlynQFP4aW5ZvgsPB 2FOKFmI/hvhAmtKtB6zQIpD1C816QaAny5Ijf7DsHzjEP X-Gm-Gg: ASbGnctg+OE43Wjb7NKZZ5IPlCB91UwvlTmXHhPl/l6+iDDCqsW6oYIRrhtk13oMrm4 nvzifw3AaQpRULfXhIroWxXjqJtpilQxukxi+5CYvEAD5OWrkKAmqeZmY1SpocRnVFcbqt3xXQl obTggEhNt9iKJ1xw+6zcGPtGxGCm4WE7n2MPQgkstXggef1YALqhZ6Ob/WKO+7mK16q4QSgEbKt 9GxaT+am7dW7ryjnIb00LlbkU4iNXIqztqmEl4f//xdAwYDE5+p26JowuPFUiR54RLCY7varKAb tIg85yezqOZ6zyZYPZUTQ3S0wpsvgWrPkCgQ736V/2pTPAFC5yhusackhG5gOhSEJ31gLa9L X-Google-Smtp-Source: AGHT+IGbENJyADdRJRR5uxR3EY5NwPsgOXOtlEOYmMJ64s8um1Wqdm/47cUGJKT3JUXJJk0IIZeEMHG5vC0a X-Received: by 2002:a05:6a00:1989:b0:75f:7fc3:41ef with SMTP id d2e1a72fcca58-7603450bc55mr5628295b3a.6.1753293041843; Wed, 23 Jul 2025 10:50:41 -0700 (PDT) Received: from postal.iol.unh.edu (postal.iol.unh.edu. [132.177.123.84]) by smtp-relay.gmail.com with ESMTPS id d2e1a72fcca58-759c84dae39sm704818b3a.1.2025.07.23.10.50.41 (version=TLS1_2 cipher=ECDHE-ECDSA-AES128-GCM-SHA256 bits=128/128); Wed, 23 Jul 2025 10:50:41 -0700 (PDT) X-Relaying-Domain: iol.unh.edu Date: Wed, 23 Jul 2025 10:50:41 -0700 (PDT) Message-ID: <688120f1.050a0220.14cac1.514dSMTPIN_ADDED_MISSING@mx.google.com> Received: from [172.21.0.5] (unknown [172.18.0.240]) by postal.iol.unh.edu (Postfix) with ESMTP id 507F6604D420; Wed, 23 Jul 2025 13:50:41 -0400 (EDT) Subject: |SUCCESS| pw155455 [PATCH] [v2] lib/ethdev: fix segfault in secondar From: dpdklab@iol.unh.edu To: Test Report Cc: dpdk-test-reports@iol.unh.edu In-Reply-To: <20250723045022.1580829-1-14pwcse1224@uetpeshawar.edu.pk> References: <20250723045022.1580829-1-14pwcse1224@uetpeshawar.edu.pk> Content-Type: text/plain X-BeenThere: test-report@dpdk.org X-Mailman-Version: 2.1.29 Precedence: list List-Id: automatic DPDK test reports List-Unsubscribe: , List-Archive: List-Post: List-Help: List-Subscribe: , Errors-To: test-report-bounces@dpdk.org Test-Label: iol-compile-arm64-testing Test-Status: SUCCESS http://dpdk.org/patch/155455 _Testing PASS_ Submitter: Khadem Ullah <14pwcse1224@uetpeshawar.edu.pk> Date: Wednesday, July 23 2025 04:50:22 DPDK git baseline: Repo:dpdk Branch: master CommitID:b78afde1fed9e11ee5cdce333a1a69dd7a9cf13e 155455 --> testing pass Upstream job id: Generic-DPDK-Compile-Meson#411421 Test environment and result as below: +------------------------------+--------------------+ | Environment | dpdk_meson_compile | +==============================+====================+ | Red Hat Enterprise Linux 9.5 | PASS | +------------------------------+--------------------+ | Ubuntu 20.04 | PASS | +------------------------------+--------------------+ | Debian GNU/Linux 12 | PASS | +------------------------------+--------------------+ | Fedora Linux 40 | PASS | +------------------------------+--------------------+ | Fedora Linux 41 | PASS | +------------------------------+--------------------+ | Ubuntu 22.04 | PASS | +------------------------------+--------------------+ | Ubuntu 24.04 | PASS | +------------------------------+--------------------+ | CentOS Stream 10 | PASS | +------------------------------+--------------------+ | CentOS Stream 9 | PASS | +------------------------------+--------------------+ Red Hat Enterprise Linux 9.5 Kernel: 5.4 Compiler: gcc gcc (GCC) 11.5.0 20240719 (Red Hat 11.5.0-2) Ubuntu 20.04 Kernel: 5.15 Compiler: aarch64-linux-gnu-gcc gcc (Ubuntu 9.4.0-1ubuntu1~20.04.2) 9.4.0 Debian GNU/Linux 12 Kernel: 5.4 Compiler: gcc gcc (Debian 12.2.0-14+deb12u1) 12.2.0 Fedora Linux 40 Kernel: 5.4 Compiler: gcc gcc (GCC) 14.2.1 20240912 (Red Hat 14.2.1-3) Fedora Linux 41 Kernel: 5.4 Compiler: gcc gcc (GCC) 14.3.1 20250523 (Red Hat 14.3.1-1) Ubuntu 22.04 Kernel: 5.4 Compiler: gcc gcc (Ubuntu 11.4.0-1ubuntu1~22.04) 11.4.0 Ubuntu 24.04 Kernel: 5.4 Compiler: gcc gcc (Ubuntu 13.3.0-6ubuntu2~24.04) 13.3.0 CentOS Stream 10 Kernel: 5.4 Compiler: gcc gcc (GCC) 14.2.1 20250110 (Red Hat 14.2.1-8) CentOS Stream 9 Kernel: 5.4 Compiler: gcc gcc (GCC) 11.5.0 20240719 (Red Hat 11.5.0-7) To view detailed results, visit: https://lab.dpdk.org/results/dashboard/patchsets/33733/ UNH-IOL DPDK Community Lab To manage your email subscriptions, visit: https://lab.dpdk.org/results/dashboard/preferences/subscriptions/