From mboxrd@z Thu Jan 1 00:00:00 1970 Return-Path: Received: from mails.dpdk.org (mails.dpdk.org [217.70.189.124]) by inbox.dpdk.org (Postfix) with ESMTP id 514F746BF3 for ; Wed, 23 Jul 2025 19:56:53 +0200 (CEST) Received: from mails.dpdk.org (localhost [127.0.0.1]) by mails.dpdk.org (Postfix) with ESMTP id 2E5DE40267; Wed, 23 Jul 2025 19:56:53 +0200 (CEST) Received: from mail-pf1-f227.google.com (mail-pf1-f227.google.com [209.85.210.227]) by mails.dpdk.org (Postfix) with ESMTP id AB27840267 for ; Wed, 23 Jul 2025 19:56:52 +0200 (CEST) Received: by mail-pf1-f227.google.com with SMTP id d2e1a72fcca58-748feca4a61so144948b3a.3 for ; Wed, 23 Jul 2025 10:56:52 -0700 (PDT) DKIM-Signature: v=1; a=rsa-sha256; c=relaxed/relaxed; d=iol.unh.edu; s=unh-iol; t=1753293412; x=1753898212; darn=dpdk.org; h=references:in-reply-to:cc:to:from:subject:message-id:date:from:to :cc:subject:date:message-id:reply-to; bh=f/KzZ8+LAdmveEendR7ljdVguEjr3EFawc1Ypgjp3yI=; b=OJeBdEh8Qsd1OTQg2DE7UuWb9CW1eme28bMhG41bvxlcAXGb0uSRVKvyyWl617N4E/ n8qPo3CQ3rrA2tZu0Zu5gFUlIIPo5BgGcTk5WIZ51oGFeqjJ+rCPEUssVCtwVkciZ9FB 4FD37HyFvbN7/r3QCCNRDhIWeAHTTvL7SisWA= X-Google-DKIM-Signature: v=1; a=rsa-sha256; c=relaxed/relaxed; d=1e100.net; s=20230601; t=1753293412; x=1753898212; h=references:in-reply-to:cc:to:from:subject:message-id:date :x-gm-message-state:from:to:cc:subject:date:message-id:reply-to; bh=f/KzZ8+LAdmveEendR7ljdVguEjr3EFawc1Ypgjp3yI=; b=Nv/YEMxGswfM5VX2iL+CLkqb2X/NkAWvA6TSGfoghnjYyBKNqGfSVOrgFmW3Vte1uO 60z9BlcdyleHlbRVLuIHDgrWz6RJ8jVlJvpbMGTguO676o2lgphIZPs2A86/7abfmAUB 1lhSN5W4S9VJcpIGew2yBbQ1RsVYhwyP6/pWUpMbUPvz6GBiBukEg7IWmx10/pg5ua1v nJkfHtLU+cJ+LUSGP7Dl0lJ8csXVxyyXT+jFmg+xKklH/uUK28NAZNYI6AL6X3G5culS Ig4L7vAMyzyN6gXUvDCLXtQf4BNLhU+14SySJWxWSFCvmMKojmCQxAdHReR+9tmkMvhX 07SA== X-Gm-Message-State: AOJu0YxHAUsqkNgkxKEREWMdMK4uT3x4o+RZm0+peLPLwdJeuazmDTij +L63M5LjnSqKejsowVA+9nmmS9nVflrrPHL63TBXg40ZR31pUNvtTRmMkx7lknycvg35xgw1PYZ Yloqozv5eDi1PbYYcRjxtPYDBriUbigRNoJoi5CVFPP5R X-Gm-Gg: ASbGnctNYPpWE2Gc56flrWLhG0Z60jRSkh2DMUDq8Qod9LdX0L5KbM3kEyww1w37IFt A4Mx1fZ+T23g1Pg9rrN08Ej1V8dkFWE+N9qOEfRzjCEa6Rs+pHdpeuGOJd6aggRRdkVxGSguxtT zv/0ccXmb+3EKbSbaB+Tdl3xJO8f6oE9/34Zwzm+5E4IIYDRKNJ+mALNDjq9KSC+fCuBlZPnjYA OghD1d8e1mG/3pyuvDaGwkxQ5GQXnB1KvbXQCakh9rV65O/eZMbzssWtvUEzD+eSzpbvm9nkdP5 p7eq4uu2sEQTdFoaO8kjj3Qxb4TJKANzw0QscxZjOi78a1xGAuEMoAtVX+g54lP1v0cJ+ylO X-Google-Smtp-Source: AGHT+IEKVpQa7+/5Cumv5YHSd3YeOuSHtSGvnW7OqWjULJ0iveAZHnRJbdYVavSCxeDA8TTOybQ/eQGf4/Oy X-Received: by 2002:a05:6a20:a109:b0:237:d013:8a78 with SMTP id adf61e73a8af0-23d4913ac7emr6502000637.37.1753293411802; Wed, 23 Jul 2025 10:56:51 -0700 (PDT) Received: from postal.iol.unh.edu (postal.iol.unh.edu. [132.177.123.84]) by smtp-relay.gmail.com with ESMTPS id d2e1a72fcca58-759ca9360dbsm762819b3a.18.2025.07.23.10.56.51 (version=TLS1_2 cipher=ECDHE-ECDSA-AES128-GCM-SHA256 bits=128/128); Wed, 23 Jul 2025 10:56:51 -0700 (PDT) X-Relaying-Domain: iol.unh.edu Date: Wed, 23 Jul 2025 10:56:51 -0700 (PDT) Message-ID: <68812263.050a0220.abde3.6b96SMTPIN_ADDED_MISSING@mx.google.com> Received: from [172.21.0.7] (unknown [172.18.0.240]) by postal.iol.unh.edu (Postfix) with ESMTP id 08CA8604D420; Wed, 23 Jul 2025 13:56:51 -0400 (EDT) Subject: |SUCCESS| pw155457 [PATCH] net/af_xdp: enable AF_XDP program attachm From: dpdklab@iol.unh.edu To: Test Report Cc: dpdk-test-reports@iol.unh.edu In-Reply-To: <20250723074249.3264675-1-shivajikant@google.com> References: <20250723074249.3264675-1-shivajikant@google.com> Content-Type: text/plain X-BeenThere: test-report@dpdk.org X-Mailman-Version: 2.1.29 Precedence: list List-Id: automatic DPDK test reports List-Unsubscribe: , List-Archive: List-Post: List-Help: List-Subscribe: , Errors-To: test-report-bounces@dpdk.org Test-Label: iol-unit-arm64-testing Test-Status: SUCCESS http://dpdk.org/patch/155457 _Testing PASS_ Submitter: Shivaji Kant Date: Wednesday, July 23 2025 07:42:49 DPDK git baseline: Repo:dpdk Branch: master CommitID:b78afde1fed9e11ee5cdce333a1a69dd7a9cf13e 155457 --> testing pass Upstream job id: Generic-Unit-Test-DPDK#357703 Test environment and result as below: +------------------------------+----------------+---------------------------+--------------+------------------------------+ | Environment | dpdk_unit_test | cryptodev_sw_zuc_autotest | lpm_autotest | cryptodev_sw_snow3g_autotest | +==============================+================+===========================+==============+==============================+ | CentOS Stream 9 | PASS | SKIPPED | SKIPPED | SKIPPED | +------------------------------+----------------+---------------------------+--------------+------------------------------+ | CentOS Stream 10 | PASS | SKIPPED | SKIPPED | SKIPPED | +------------------------------+----------------+---------------------------+--------------+------------------------------+ | Fedora Linux 40 | PASS | SKIPPED | SKIPPED | SKIPPED | +------------------------------+----------------+---------------------------+--------------+------------------------------+ | Debian GNU/Linux 12 | PASS | SKIPPED | SKIPPED | SKIPPED | +------------------------------+----------------+---------------------------+--------------+------------------------------+ | Fedora Linux 41 | PASS | SKIPPED | SKIPPED | SKIPPED | +------------------------------+----------------+---------------------------+--------------+------------------------------+ | Ubuntu 20.04 | PASS | SKIPPED | PASS | SKIPPED | +------------------------------+----------------+---------------------------+--------------+------------------------------+ | Red Hat Enterprise Linux 9.5 | PASS | SKIPPED | SKIPPED | SKIPPED | +------------------------------+----------------+---------------------------+--------------+------------------------------+ | Ubuntu 24.04 | PASS | SKIPPED | SKIPPED | SKIPPED | +------------------------------+----------------+---------------------------+--------------+------------------------------+ | Ubuntu 22.04 | PASS | SKIPPED | SKIPPED | SKIPPED | +------------------------------+----------------+---------------------------+--------------+------------------------------+ | Debian 12 (arm) | SKIPPED | PASS | SKIPPED | PASS | +------------------------------+----------------+---------------------------+--------------+------------------------------+ CentOS Stream 9 Kernel: 5.4 Compiler: gcc gcc (GCC) 11.5.0 20240719 (Red Hat 11.5.0-7) CentOS Stream 10 Kernel: 5.4 Compiler: gcc gcc (GCC) 14.2.1 20250110 (Red Hat 14.2.1-8) Fedora Linux 40 Kernel: 5.4 Compiler: gcc gcc (GCC) 14.2.1 20240912 (Red Hat 14.2.1-3) Debian GNU/Linux 12 Kernel: 5.4 Compiler: gcc gcc (Debian 12.2.0-14+deb12u1) 12.2.0 Fedora Linux 41 Kernel: 5.4 Compiler: clang gcc (GCC) 14.3.1 20250523 (Red Hat 14.3.1-1) Ubuntu 20.04 Kernel: 5.4 Compiler: gcc gcc (Ubuntu 9.4.0-1ubuntu1~20.04.2) 9.4.0 Red Hat Enterprise Linux 9.5 Kernel: 5.4 Compiler: gcc gcc (GCC) 11.5.0 20240719 (Red Hat 11.5.0-2) Ubuntu 24.04 Kernel: 5.4 Compiler: gcc gcc (Ubuntu 13.3.0-6ubuntu2~24.04) 13.3.0 Ubuntu 22.04 Kernel: 5.4 Compiler: gcc gcc (Ubuntu 11.4.0-1ubuntu1~22.04) 11.4.0 Debian 12 (arm) Kernel: Depends on container host Compiler: gcc (Debian 12.2.0-14) 12.2.0 To view detailed results, visit: https://lab.dpdk.org/results/dashboard/patchsets/33735/ UNH-IOL DPDK Community Lab To manage your email subscriptions, visit: https://lab.dpdk.org/results/dashboard/preferences/subscriptions/