From mboxrd@z Thu Jan 1 00:00:00 1970 Return-Path: Received: from mails.dpdk.org (mails.dpdk.org [217.70.189.124]) by inbox.dpdk.org (Postfix) with ESMTP id 9AFC446BF4 for ; Wed, 23 Jul 2025 20:00:56 +0200 (CEST) Received: from mails.dpdk.org (localhost [127.0.0.1]) by mails.dpdk.org (Postfix) with ESMTP id 819C840267; Wed, 23 Jul 2025 20:00:56 +0200 (CEST) Received: from mail-io1-f98.google.com (mail-io1-f98.google.com [209.85.166.98]) by mails.dpdk.org (Postfix) with ESMTP id 5F3E840267 for ; Wed, 23 Jul 2025 20:00:55 +0200 (CEST) Received: by mail-io1-f98.google.com with SMTP id ca18e2360f4ac-86a052d7897so4189039f.0 for ; Wed, 23 Jul 2025 11:00:55 -0700 (PDT) DKIM-Signature: v=1; a=rsa-sha256; c=relaxed/relaxed; d=iol.unh.edu; s=unh-iol; t=1753293654; x=1753898454; darn=dpdk.org; h=references:in-reply-to:cc:to:from:subject:message-id:date:from:to :cc:subject:date:message-id:reply-to; bh=sXqkCnBpV845IiFV12xfYteyRc834+L86lV82whH4UU=; b=Hn2gL89qNwYdxfXOsaDE0kR8+WQHuhV0aIKV18QDm9gU9dBfWE8XLkkus0c+spTBGV jzJDUld9FZwCEjOKTgGb9l+sYFL8DW3iv5X2adpji2elvpmWcguK3pJ0F+zknHc4MAND BseYhGZ2/377/XIXlC4xPg+zIakfsGesX9yt0= X-Google-DKIM-Signature: v=1; a=rsa-sha256; c=relaxed/relaxed; d=1e100.net; s=20230601; t=1753293654; x=1753898454; h=references:in-reply-to:cc:to:from:subject:message-id:date :x-gm-message-state:from:to:cc:subject:date:message-id:reply-to; bh=sXqkCnBpV845IiFV12xfYteyRc834+L86lV82whH4UU=; b=vgaH/2XuPHmSR57xaRFWRUmA8KdUaZHCLUyJU5sw5vHRQpkrV4r4JesOYR9l1NxZ2H oeLKx/KO2WzmZ6cHsrT02PRNcEVBZ5seS1J1lI5Q0rvue3Ods7JNq+hGGnUyLXHJMxhn Dk7vFGFru8fdBQ8tUuZaMnR8n29gZl0v/hSI/+uIveR3lBkx+pKfZ6fYPv1I/Fav2g5O aFr9tqCThKv9dc+l0MiMfYrFdqlcgWwvEVxnd/P1R7XO82bPay8C6eX0h68V4EbLak/B 21khjc7sOjos6uzmEKCUuyJtGZghrRUaHyKeNU23t4Xsaf5fIQeY94nKM/dJ/yTGT+rQ OXsA== X-Gm-Message-State: AOJu0YzBSCC4fZZzJXBic7mknQhHlptZVFz1iZEQPlqSPFfVHFv3IL3E 1NzBnkPkAMIIu7gH9ZFhxjgfWz+oEN6ZcDzxm/ZL89jQjM4HkhXj+JO759NwnLGfJ6zETDQOjn3 3fvI4+05vB0ygsjsE3/Z9NbPAvyN8u2gSnslPHYbbcrXggRupoSYityJzjEh+ X-Gm-Gg: ASbGncudlo/wXmCG6hNiDaJNZXJSWCgeLgd2Y3QF6DTpeIHdIkdDSFoXDe5q0ZXDr+i G0pS3G7EIJnTc/UOHArH3FNPPcDsrwpdba3sMw37rNB7KzTJ1y2lP/u8+S1RremCaCW1zAVV64I mhuIfrw8T/oT0mFPgPDYE+j2+XScoDWtV5mvN4SYyn2/3l4YCUwV8NNmU087ElwVzswxm3kyd4j NTPYXXM74g+p6b/h1YSAE0UDpAmSA1AEX4+kLwyTAdVBGrlXn5X4+c4kEiBU1vFFc43lYnq45Wk Ahi/J3PjnlWUIN9oYJjbeyLR1YiFDFoWCVYgCuHDfniIh+UNmw== X-Google-Smtp-Source: AGHT+IGQ3UEQLGZ/VDE2LxQ1MzWkmIUTGHTWhBuoQYjCUozE3HKD7XL7r+RdlAyoAgCG45nSbTz9aqhCOtLr X-Received: by 2002:a05:6602:2292:b0:87c:4829:8369 with SMTP id ca18e2360f4ac-87c6505e797mr646268939f.14.1753293654522; Wed, 23 Jul 2025 11:00:54 -0700 (PDT) Received: from postal.iol.unh.edu (postal.iol.unh.edu. [2606:4100:3880:1234::84]) by smtp-relay.gmail.com with ESMTPS id ca18e2360f4ac-87c0e75c85asm62226239f.27.2025.07.23.11.00.54 (version=TLS1_2 cipher=ECDHE-ECDSA-AES128-GCM-SHA256 bits=128/128); Wed, 23 Jul 2025 11:00:54 -0700 (PDT) X-Relaying-Domain: iol.unh.edu Date: Wed, 23 Jul 2025 11:00:54 -0700 (PDT) Message-ID: <68812356.5e0a0220.3b8195.f7e8SMTPIN_ADDED_MISSING@mx.google.com> Received: from [172.21.0.9] (unknown [172.18.0.240]) by postal.iol.unh.edu (Postfix) with ESMTP id 300D5604D420; Wed, 23 Jul 2025 14:00:54 -0400 (EDT) Subject: |SUCCESS| pw155456 [PATCH] net/mlx5: fix ipool memory leak From: dpdklab@iol.unh.edu To: Test Report Cc: dpdk-test-reports@iol.unh.edu In-Reply-To: <20250723064923.1805575-1-rongweil@nvidia.com> References: <20250723064923.1805575-1-rongweil@nvidia.com> Content-Type: text/plain X-BeenThere: test-report@dpdk.org X-Mailman-Version: 2.1.29 Precedence: list List-Id: automatic DPDK test reports List-Unsubscribe: , List-Archive: List-Post: List-Help: List-Subscribe: , Errors-To: test-report-bounces@dpdk.org Test-Label: iol-compile-arm64-testing Test-Status: SUCCESS http://dpdk.org/patch/155456 _Testing PASS_ Submitter: Rongwei Liu Date: Wednesday, July 23 2025 06:49:22 DPDK git baseline: Repo:dpdk Branch: master CommitID:b222395561638f89562e4ef42e1eabf2d6db43dd 155456 --> testing pass Upstream job id: Generic-DPDK-Compile-Meson#411505 Test environment and result as below: +------------------------------+--------------------+ | Environment | dpdk_meson_compile | +==============================+====================+ | Red Hat Enterprise Linux 9.5 | PASS | +------------------------------+--------------------+ | Ubuntu 20.04 | PASS | +------------------------------+--------------------+ | Debian GNU/Linux 12 | PASS | +------------------------------+--------------------+ | Fedora Linux 40 | PASS | +------------------------------+--------------------+ | Fedora Linux 41 | PASS | +------------------------------+--------------------+ | Ubuntu 22.04 | PASS | +------------------------------+--------------------+ | Ubuntu 24.04 | PASS | +------------------------------+--------------------+ | CentOS Stream 9 | PASS | +------------------------------+--------------------+ | CentOS Stream 10 | PASS | +------------------------------+--------------------+ Red Hat Enterprise Linux 9.5 Kernel: 5.4 Compiler: gcc gcc (GCC) 11.5.0 20240719 (Red Hat 11.5.0-2) Ubuntu 20.04 Kernel: 5.15 Compiler: aarch64-linux-gnu-gcc gcc (Ubuntu 9.4.0-1ubuntu1~20.04.2) 9.4.0 Debian GNU/Linux 12 Kernel: 5.4 Compiler: gcc gcc (Debian 12.2.0-14+deb12u1) 12.2.0 Fedora Linux 40 Kernel: 5.4 Compiler: gcc gcc (GCC) 14.2.1 20240912 (Red Hat 14.2.1-3) Fedora Linux 41 Kernel: 5.4 Compiler: clang gcc (GCC) 14.3.1 20250523 (Red Hat 14.3.1-1) Ubuntu 22.04 Kernel: 5.4 Compiler: gcc gcc (Ubuntu 11.4.0-1ubuntu1~22.04) 11.4.0 Ubuntu 24.04 Kernel: 5.4 Compiler: gcc gcc (Ubuntu 13.3.0-6ubuntu2~24.04) 13.3.0 CentOS Stream 9 Kernel: 5.4 Compiler: gcc gcc (GCC) 11.5.0 20240719 (Red Hat 11.5.0-7) CentOS Stream 10 Kernel: 5.4 Compiler: gcc gcc (GCC) 14.2.1 20250110 (Red Hat 14.2.1-8) To view detailed results, visit: https://lab.dpdk.org/results/dashboard/patchsets/33734/ UNH-IOL DPDK Community Lab To manage your email subscriptions, visit: https://lab.dpdk.org/results/dashboard/preferences/subscriptions/